{"text_format":"1","workbook":"xlsx","n_sheets":33,"sheets":["Caratula","Matriz","Hoja1","AP_RF FISCALES ","AP_RF FORTAMUN ","AP_RF FORTAMUN 25P114","AP_RF FAFEF 25P212","AP_RF FAIS 25P610","AP_RF FAIS 25P614","AP_RF PART.FED 15O210","AP_RF PART.FED 15O310","AP_RF PART.FED 15O410","AP_RF PART.FED 15O510","AP_RF PART.FED 15O610","AP_RF PART.FED 15OB10 ","AP_RF PART.FED 15OC10","AP_RF PART.FED 15OZ04","PPI","PPA20","PPA21","ECG","EPC","ADS-1","ADS-2","SAP","FIC","AP-FAFA","Formato 6d","Resumen_Ejecutivo","CG","CAT_PPI","CAT_PP","CAT_CONSO"],"not_rendered":{"charts":0,"images":7,"macros":1,"external_links":11,"defined_names":728,"comments":0,"pivot_tables":0},"unopened":[],"bounds":{"document_bytes":16777216,"sheet_cells":100000,"rows_first":2000,"rows_last":500,"rows_between":2000,"halvings":0,"cell_chars":16384,"cell_head_chars":4096},"cells_cut":0,"cells_raw":0,"read":"whole","date_system":"1900"}

{"sheet":"Caratula","index":0,"n_rows":27,"n_cols":13,"rows_kept":27,"cut":false,"hidden":false,"merged":[[9,0,9,18],[1,0,1,18],[12,0,12,18],[26,4,26,7],[25,10,25,11],[26,12,26,15],[25,0,25,3],[16,5,16,7],[16,8,16,14]]}
[]
["Informe de Avance Trimestral"]
[]
[]
[]
[]
[]
[]
[]
["Unidad Responsable del Gasto: \nDirección General de Obras y Desarrollo Urbano"]
[]
[]
[]
[]
[]
[]
[null,null,null,null,null,"Período: ",null,null," "]
[]
[]
[]
[]
[]
[]
[]
[]
["Titular :",null,null,null,null,null,null,null,null,null,"Responsable  :"]
[null,null,null,null,"Arq. Yuritzi Contreras Fuentes\nDirectora General de Obras y Desarrollo Urbano",null,null,null,null,null,null,null,"Ing. Eligio Orozco Estudillo\nEncargado del Despacho de la Dirección de Planeación\n y Control de Obras\n"]

{"sheet":"Matriz","index":1,"n_rows":26,"n_cols":8,"rows_kept":26,"cut":false,"hidden":false,"merged":[[25,5,25,7],[1,1,1,7],[6,1,8,1],[6,2,8,2],[6,3,6,6],[6,7,8,7],[7,3,7,4],[7,5,7,6],[4,2,4,7],[3,2,3,7],[2,2,2,7],[5,1,5,7]]}
[]
[null,"MATRIZ DE CONTROL DEL INFORME DE AVANCE TRIMESTRAL  "]
[null,"Unidad Responsable del Gasto:"]
[null,"Período:",{"$f":"Caratula!I17","v":" "}]
[null,"Fecha de Elaboración:"]
[]
[null,"FORMATO","NOMBRE","ENTREGABLE ",null,null,null,"OBSERVACIÓN"]
[null,null,null,"FORMATOS FÍSICOS",null,"MEDIO MAGNÉTICO"]
[null,null,null,"APLICA","NO APLICA","EXCEL","PDF"]
[null,"CARÁTULA","CARATULA DEL INFORME DE AVANCE TRIMESTRAL","X",null,"X"]
[null,"RESUMEN EJECUTIVO","RESUMEN EJECUTIVO DEL INFORME DE AVANCE TRIMESTRAL","X",null,"X"]
[null,"ECG","EVOLUCIÓN PRESUPUESTAL POR CAPÍTULO DE GASTO"]
[null,"EPC","EVOLUCIÓN PRESUPUESTAL DE PARTIDAS CENTRALIZADAS O CONSOLIDADAS"]
[null,"PPI","PROGRAMAS Y PROYECTOS DE INVERSIÓN","X",null,"X"]
[null,"A-PP","ADECUACIONES A  PROGRAMAS PRESUPUESTARIOS","X"]
[null,"ADS-1","AYUDAS, DONATIVOS Y SUBSIDIOS"]
[null,"ADS-2","AYUDAS, DONATIVOS Y SUBSIDIOS A FIDEICOMISOS"]
[null,"SAP","PROGRAMAS QUE OTORGAN SUBSIDIOS Y APOYOS A LA POBLACIÓN"]
[null,"FIC","FIDEICOMISOS CONSTITUIDOS"]
[null,"AP-FAFA","AVANCE PRESUPUESTAL DEL FONDO ADICIONAL DE FINANCIAMIENTO DE LAS ALCALDÍAS"]
[null,"PPA","PRESUPUESTO PARTICIPATIVO PARA LAS ALCALDÍAS","X",null,"X"]
[null,"6d","ESTADO ANALÍTICO DEL EJERCICIO DEL PRESUPUESTO DE EGRESOS DETALLADO – LDF- (CLASIFICACIÓN DE SERVICIOS PERSONALES POR CATEGORÍA)"]
[]
[]
[null,"Elaboró:",null,null,"Autorizó :"]
[null,null,"Nombre, Cargo y Firma",null,null,"Nombre, Cargo y Firma"]

{"sheet":"Hoja1","index":2,"n_rows":34,"n_cols":4,"rows_kept":34,"cut":false,"hidden":true,"merged":[]}
["UR","GCI","CAP","OPT SEL"]
[{"$f":"Caratula!$A$13","v":0},"C",{"$f":"ECG!B$10","v":1000},{"$f":"ECG!L10","v":0}]
[{"$f":"Caratula!$A$13","v":0},"C",{"$f":"ECG!B$10","v":1000},{"$f":"ECG!L11","v":0}]
[{"$f":"Caratula!$A$13","v":0},"C",{"$f":"ECG!B$10","v":1000},{"$f":"ECG!L12","v":0}]
[{"$f":"Caratula!$A$13","v":0},"C",{"$f":"ECG!B$13","v":2000},{"$f":"ECG!L13","v":0}]
[{"$f":"Caratula!$A$13","v":0},"C",{"$f":"ECG!B$13","v":2000},{"$f":"ECG!L14","v":0}]
[{"$f":"Caratula!$A$13","v":0},"C",{"$f":"ECG!B$13","v":2000},{"$f":"ECG!L15","v":0}]
[{"$f":"Caratula!$A$13","v":0},"C",{"$f":"ECG!B$16","v":3000},{"$f":"ECG!L16","v":0}]
[{"$f":"Caratula!$A$13","v":0},"C",{"$f":"ECG!B$16","v":3000},{"$f":"ECG!L17","v":0}]
[{"$f":"Caratula!$A$13","v":0},"C",{"$f":"ECG!B$16","v":3000},{"$f":"ECG!L18","v":0}]
[{"$f":"Caratula!$A$13","v":0},"C",{"$f":"ECG!B$19","v":4000},{"$f":"ECG!L19","v":0}]
[{"$f":"Caratula!$A$13","v":0},"C",{"$f":"ECG!B$19","v":4000},{"$f":"ECG!L20","v":0}]
[{"$f":"Caratula!$A$13","v":0},"C",{"$f":"ECG!B$19","v":4000},{"$f":"ECG!L21","v":0}]
[{"$f":"Caratula!$A$13","v":0},"C",{"$f":"ECG!B$31","v":8000},{"$f":"ECG!L32","v":0}]
[{"$f":"Caratula!$A$13","v":0},"C",{"$f":"ECG!B$33","v":9000},{"$f":"ECG!L35","v":0}]
[{"$f":"Caratula!$A$13","v":0},"I",{"$f":"ECG!B$37","v":1000},{"$f":"ECG!L37","v":0}]
[{"$f":"Caratula!$A$13","v":0},"I",{"$f":"ECG!B$37","v":1000},{"$f":"ECG!L38","v":0}]
[{"$f":"Caratula!$A$13","v":0},"I",{"$f":"ECG!B$37","v":1000},{"$f":"ECG!L39","v":0}]
[{"$f":"Caratula!$A$13","v":0},"I",{"$f":"ECG!B$40","v":2000},{"$f":"ECG!L40","v":0}]
[{"$f":"Caratula!$A$13","v":0},"I",{"$f":"ECG!B$40","v":2000},{"$f":"ECG!L41","v":0}]
[{"$f":"Caratula!$A$13","v":0},"I",{"$f":"ECG!B$40","v":2000},{"$f":"ECG!L42","v":0}]
[{"$f":"Caratula!$A$13","v":0},"I",{"$f":"ECG!B$43","v":3000},{"$f":"ECG!L43","v":0}]
[{"$f":"Caratula!$A$13","v":0},"I",{"$f":"ECG!B$43","v":3000},{"$f":"ECG!L44","v":0}]
[{"$f":"Caratula!$A$13","v":0},"I",{"$f":"ECG!B$43","v":3000},{"$f":"ECG!L45","v":0}]
[{"$f":"Caratula!$A$13","v":0},"I",{"$f":"ECG!B$46","v":4000},{"$f":"ECG!L46","v":0}]
[{"$f":"Caratula!$A$13","v":0},"I",{"$f":"ECG!B$46","v":4000},{"$f":"ECG!L47","v":0}]
[{"$f":"Caratula!$A$13","v":0},"I",{"$f":"ECG!B$46","v":4000},{"$f":"ECG!L48","v":0}]
[{"$f":"Caratula!$A$13","v":0},"I",{"$f":"ECG!B$49","v":5000},{"$f":"ECG!L49","v":0}]
[{"$f":"Caratula!$A$13","v":0},"I",{"$f":"ECG!B$49","v":5000},{"$f":"ECG!L50","v":0}]
[{"$f":"Caratula!$A$13","v":0},"I",{"$f":"ECG!B$49","v":5000},{"$f":"ECG!L51","v":0}]
[{"$f":"Caratula!$A$13","v":0},"I",{"$f":"ECG!B$52","v":6000},{"$f":"ECG!L52","v":0}]
[{"$f":"Caratula!$A$13","v":0},"I",{"$f":"ECG!B$52","v":6000},{"$f":"ECG!L54","v":0}]
[{"$f":"Caratula!$A$13","v":0},"I",{"$f":"ECG!B$55","v":7000},{"$f":"ECG!L55","v":0}]
[{"$f":"Caratula!$A$13","v":0},"I",{"$f":"ECG!B$58","v":8000},{"$f":"ECG!L59","v":0}]

{"sheet":"AP_RF FISCALES ","index":3,"n_rows":73,"n_cols":27,"rows_kept":73,"cut":false,"hidden":false,"merged":[[49,1,49,11],[1,1,1,11],[2,1,2,11],[4,1,4,4],[4,5,4,11],[5,1,5,4],[5,5,5,11],[7,1,7,4],[7,5,7,11],[9,1,9,11],[10,1,10,7],[10,8,10,11],[61,1,61,11],[50,1,50,11],[51,1,51,11],[52,1,52,11],[53,1,53,11],[54,1,54,11],[55,1,55,11],[56,1,56,11],[57,1,57,11],[58,1,58,11],[59,1,59,11],[60,1,60,11],[62,1,62,11],[63,1,63,11],[64,1,64,11],[65,1,65,12],[68,1,68,12],[70,1,70,12],[71,1,71,11],[72,1,72,11],[66,1,66,12],[67,1,67,12],[69,1,69,12]]}
[]
[null,"AP-RF  AVANCE PRESUPUESTAL DE RECURSOS DE ORIGEN FEDERAL"]
[null,"FONDO, CONVENIO, SUBSIDIO O PARTICIPACIÓN: (1)"]
[]
[null,"Unidad Responsable de Gasto:",null,null,null,"DIRECCIÓN GENERAL DE OBRAS Y DESARROLLO URBANO"]
[null,"Período:",null,null,null,"Enero-Diciembre 2021"]
[]
[null,"FONDO",null,null,null,"NO ETIQUETADO RECURSOS FISCALES-FISCALES-FISCALES-2021-ORIGINAL DE LA URG "]
[]
[null,"R      E      S      U      L      T      A      D      O      S"]
[null,"PRESUPUESTO\n(Pesos con dos decimales)",null,null,null,null,null,null,"AVANCE\n%"]
[null,"APROBADO\n","MODIFICADO\n","PROGRAMADO\n","SALDO DEL \nCOMPROMISO","DEVENGADO\n","EJERCIDO\n","PAGADO\n","(DEVENGADO / APROBADO)*100\n","(DEVENGADO / MODIFICADO)*100\n","(EJERCIDO / APROBADO)*100\n","(EJERCIDO / MODIFICADO)*100\n"]
[null,265768060,{"$f":"148380229.5+3091546.87","v":151471776.37},{"$f":"146272470+3091546.87","v":149364016.87},{"$f":"146272470+3091546.87","v":149364016.87},{"$f":"146272470+3091546.87","v":149364016.87},86871687.409999996,86871687.409999996,13.088090656943502,13.088090656943502,13.088090656943502,16.963040624214596]
[]
[null,null,null,null,null,null,null,null,{"$f":"IFERROR((#REF!/#REF!)*100,\"\")","v":""},{"$f":"IFERROR((#REF!/#REF!)*100,\"\")","v":""},{"$f":"IFERROR((#REF!/#REF!)*100,\"\")","v":""},{"$f":"IFERROR((#REF!/#REF!)*100,\"\")","v":""}]
[null,null,null,null,null,null,null,null,{"$f":"IFERROR((#REF!/#REF!)*100,\"\")","v":""},{"$f":"IFERROR((#REF!/#REF!)*100,\"\")","v":""},{"$f":"IFERROR((#REF!/#REF!)*100,\"\")","v":""},{"$f":"IFERROR((#REF!/#REF!)*100,\"\")","v":""}]
[null,{"$f":"IFERROR(VLOOKUP($C17,#REF!,3,FALSE),\"\")","v":""},null,null,null,null,{"$f":"IFERROR(F17/C17,\"\")","v":""},{"$f":"IFERROR((F17/D17*100),\"\")","v":""},{"$f":"IFERROR((#REF!/#REF!)*100,\"\")","v":""},{"$f":"IFERROR((#REF!/#REF!)*100,\"\")","v":""},{"$f":"IFERROR((#REF!/#REF!)*100,\"\")","v":""},{"$f":"IFERROR((#REF!/#REF!)*100,\"\")","v":""}]
[null,{"$f":"IFERROR(VLOOKUP($C18,#REF!,3,FALSE),\"\")","v":""},null,null,null,null,"","",{"$f":"IFERROR((#REF!/#REF!)*100,\"\")","v":""},{"$f":"IFERROR((#REF!/#REF!)*100,\"\")","v":""},{"$f":"IFERROR((#REF!/#REF!)*100,\"\")","v":""},{"$f":"IFERROR((#REF!/#REF!)*100,\"\")","v":""}]
[null,{"$f":"IFERROR(VLOOKUP($C19,#REF!,3,FALSE),\"\")","v":""},null,null,null,null,"","",{"$f":"IFERROR((#REF!/#REF!)*100,\"\")","v":""},{"$f":"IFERROR((#REF!/#REF!)*100,\"\")","v":""},{"$f":"IFERROR((#REF!/#REF!)*100,\"\")","v":""},{"$f":"IFERROR((#REF!/#REF!)*100,\"\")","v":""}]
[null,{"$f":"IFERROR(VLOOKUP($C20,#REF!,3,FALSE),\"\")","v":""},null,null,null,null,"","",{"$f":"IFERROR((#REF!/#REF!)*100,\"\")","v":""},{"$f":"IFERROR((#REF!/#REF!)*100,\"\")","v":""},{"$f":"IFERROR((#REF!/#REF!)*100,\"\")","v":""},{"$f":"IFERROR((#REF!/#REF!)*100,\"\")","v":""}]
[null,{"$f":"IFERROR(VLOOKUP($C21,#REF!,3,FALSE),\"\")","v":""},null,null,null,null,"","",{"$f":"IFERROR((#REF!/#REF!)*100,\"\")","v":""},{"$f":"IFERROR((#REF!/#REF!)*100,\"\")","v":""},{"$f":"IFERROR((#REF!/#REF!)*100,\"\")","v":""},{"$f":"IFERROR((#REF!/#REF!)*100,\"\")","v":""}]
[null,{"$f":"IFERROR(VLOOKUP($C22,#REF!,3,FALSE),\"\")","v":""},null,null,null,null,"","",{"$f":"IFERROR((#REF!/#REF!)*100,\"\")","v":""},{"$f":"IFERROR((#REF!/#REF!)*100,\"\")","v":""},{"$f":"IFERROR((#REF!/#REF!)*100,\"\")","v":""},{"$f":"IFERROR((#REF!/#REF!)*100,\"\")","v":""}]
[null,{"$f":"IFERROR(VLOOKUP($C23,#REF!,3,FALSE),\"\")","v":""},null,null,null,null,"","",{"$f":"IFERROR((#REF!/#REF!)*100,\"\")","v":""},{"$f":"IFERROR((#REF!/#REF!)*100,\"\")","v":""},{"$f":"IFERROR((#REF!/#REF!)*100,\"\")","v":""},{"$f":"IFERROR((#REF!/#REF!)*100,\"\")","v":""}]
[null,{"$f":"IFERROR(VLOOKUP($C24,#REF!,3,FALSE),\"\")","v":""},null,null,null,null,"","",{"$f":"IFERROR((#REF!/#REF!)*100,\"\")","v":""},{"$f":"IFERROR((#REF!/#REF!)*100,\"\")","v":""},{"$f":"IFERROR((#REF!/#REF!)*100,\"\")","v":""},{"$f":"IFERROR((#REF!/#REF!)*100,\"\")","v":""}]
[null,{"$f":"IFERROR(VLOOKUP($C25,#REF!,3,FALSE),\"\")","v":""},null,null,null,null,"","",{"$f":"IFERROR((#REF!/#REF!)*100,\"\")","v":""},{"$f":"IFERROR((#REF!/#REF!)*100,\"\")","v":""},{"$f":"IFERROR((#REF!/#REF!)*100,\"\")","v":""},{"$f":"IFERROR((#REF!/#REF!)*100,\"\")","v":""}]
[null,{"$f":"IFERROR(VLOOKUP($C26,#REF!,3,FALSE),\"\")","v":""},null,null,null,null,"","",{"$f":"IFERROR((#REF!/#REF!)*100,\"\")","v":""},{"$f":"IFERROR((#REF!/#REF!)*100,\"\")","v":""},{"$f":"IFERROR((#REF!/#REF!)*100,\"\")","v":""},{"$f":"IFERROR((#REF!/#REF!)*100,\"\")","v":""}]
[null,{"$f":"IFERROR(VLOOKUP($C27,#REF!,3,FALSE),\"\")","v":""},null,null,null,null,"","",{"$f":"IFERROR((#REF!/#REF!)*100,\"\")","v":""},{"$f":"IFERROR((#REF!/#REF!)*100,\"\")","v":""},{"$f":"IFERROR((#REF!/#REF!)*100,\"\")","v":""},{"$f":"IFERROR((#REF!/#REF!)*100,\"\")","v":""}]
[null,{"$f":"IFERROR(VLOOKUP($C28,#REF!,3,FALSE),\"\")","v":""},null,null,null,null,"","",{"$f":"IFERROR((#REF!/#REF!)*100,\"\")","v":""},{"$f":"IFERROR((#REF!/#REF!)*100,\"\")","v":""},{"$f":"IFERROR((#REF!/#REF!)*100,\"\")","v":""},{"$f":"IFERROR((#REF!/#REF!)*100,\"\")","v":""}]
[null,{"$f":"IFERROR(VLOOKUP($C29,#REF!,3,FALSE),\"\")","v":""},null,null,null,null,"","",{"$f":"IFERROR((#REF!/#REF!)*100,\"\")","v":""},{"$f":"IFERROR((#REF!/#REF!)*100,\"\")","v":""},{"$f":"IFERROR((#REF!/#REF!)*100,\"\")","v":""},{"$f":"IFERROR((#REF!/#REF!)*100,\"\")","v":""}]
[null,{"$f":"IFERROR(VLOOKUP($C30,#REF!,3,FALSE),\"\")","v":""},null,null,null,null,"","",{"$f":"IFERROR((#REF!/#REF!)*100,\"\")","v":""},{"$f":"IFERROR((#REF!/#REF!)*100,\"\")","v":""},{"$f":"IFERROR((#REF!/#REF!)*100,\"\")","v":""},{"$f":"IFERROR((#REF!/#REF!)*100,\"\")","v":""}]
[null,{"$f":"IFERROR(VLOOKUP($C31,#REF!,3,FALSE),\"\")","v":""},null,null,null,null,"","",{"$f":"IFERROR((#REF!/#REF!)*100,\"\")","v":""},{"$f":"IFERROR((#REF!/#REF!)*100,\"\")","v":""},{"$f":"IFERROR((#REF!/#REF!)*100,\"\")","v":""},{"$f":"IFERROR((#REF!/#REF!)*100,\"\")","v":""}]
[null,{"$f":"IFERROR(VLOOKUP($C32,#REF!,3,FALSE),\"\")","v":""},null,null,null,null,"","",{"$f":"IFERROR((#REF!/#REF!)*100,\"\")","v":""},{"$f":"IFERROR((#REF!/#REF!)*100,\"\")","v":""},{"$f":"IFERROR((#REF!/#REF!)*100,\"\")","v":""},{"$f":"IFERROR((#REF!/#REF!)*100,\"\")","v":""}]
[null,{"$f":"IFERROR(VLOOKUP($C33,#REF!,3,FALSE),\"\")","v":""},null,null,null,null,"","",{"$f":"IFERROR((#REF!/#REF!)*100,\"\")","v":""},{"$f":"IFERROR((#REF!/#REF!)*100,\"\")","v":""},{"$f":"IFERROR((#REF!/#REF!)*100,\"\")","v":""},{"$f":"IFERROR((#REF!/#REF!)*100,\"\")","v":""}]
[null,{"$f":"IFERROR(VLOOKUP($C34,#REF!,3,FALSE),\"\")","v":""},null,null,null,null,"","",{"$f":"IFERROR((#REF!/#REF!)*100,\"\")","v":""},{"$f":"IFERROR((#REF!/#REF!)*100,\"\")","v":""},{"$f":"IFERROR((#REF!/#REF!)*100,\"\")","v":""},{"$f":"IFERROR((#REF!/#REF!)*100,\"\")","v":""}]
[null,{"$f":"IFERROR(VLOOKUP($C35,#REF!,3,FALSE),\"\")","v":""},null,null,null,null,"","",{"$f":"IFERROR((#REF!/#REF!)*100,\"\")","v":""},{"$f":"IFERROR((#REF!/#REF!)*100,\"\")","v":""},{"$f":"IFERROR((#REF!/#REF!)*100,\"\")","v":""},{"$f":"IFERROR((#REF!/#REF!)*100,\"\")","v":""}]
[null,{"$f":"IFERROR(VLOOKUP($C36,#REF!,3,FALSE),\"\")","v":""},null,null,null,null,"","",{"$f":"IFERROR((#REF!/#REF!)*100,\"\")","v":""},{"$f":"IFERROR((#REF!/#REF!)*100,\"\")","v":""},{"$f":"IFERROR((#REF!/#REF!)*100,\"\")","v":""},{"$f":"IFERROR((#REF!/#REF!)*100,\"\")","v":""}]
[null,{"$f":"IFERROR(VLOOKUP($C37,#REF!,3,FALSE),\"\")","v":""},null,null,null,null,"","",{"$f":"IFERROR((#REF!/#REF!)*100,\"\")","v":""},{"$f":"IFERROR((#REF!/#REF!)*100,\"\")","v":""},{"$f":"IFERROR((#REF!/#REF!)*100,\"\")","v":""},{"$f":"IFERROR((#REF!/#REF!)*100,\"\")","v":""}]
[null,{"$f":"IFERROR(VLOOKUP($C38,#REF!,3,FALSE),\"\")","v":""},null,null,null,null,"","",{"$f":"IFERROR((#REF!/#REF!)*100,\"\")","v":""},{"$f":"IFERROR((#REF!/#REF!)*100,\"\")","v":""},{"$f":"IFERROR((#REF!/#REF!)*100,\"\")","v":""},{"$f":"IFERROR((#REF!/#REF!)*100,\"\")","v":""}]
[null,{"$f":"IFERROR(VLOOKUP($C39,#REF!,3,FALSE),\"\")","v":""},null,null,null,null,"","",{"$f":"IFERROR((#REF!/#REF!)*100,\"\")","v":""},{"$f":"IFERROR((#REF!/#REF!)*100,\"\")","v":""},{"$f":"IFERROR((#REF!/#REF!)*100,\"\")","v":""},{"$f":"IFERROR((#REF!/#REF!)*100,\"\")","v":""}]
[null,{"$f":"IFERROR(VLOOKUP($C40,#REF!,3,FALSE),\"\")","v":""},null,null,null,null,"","",{"$f":"IFERROR((#REF!/#REF!)*100,\"\")","v":""},{"$f":"IFERROR((#REF!/#REF!)*100,\"\")","v":""},{"$f":"IFERROR((#REF!/#REF!)*100,\"\")","v":""},{"$f":"IFERROR((#REF!/#REF!)*100,\"\")","v":""}]
[null,{"$f":"IFERROR(VLOOKUP($C41,#REF!,3,FALSE),\"\")","v":""},null,null,null,null,"","",{"$f":"IFERROR((#REF!/#REF!)*100,\"\")","v":""},{"$f":"IFERROR((#REF!/#REF!)*100,\"\")","v":""},{"$f":"IFERROR((#REF!/#REF!)*100,\"\")","v":""},{"$f":"IFERROR((#REF!/#REF!)*100,\"\")","v":""}]
[null,{"$f":"IFERROR(VLOOKUP($C42,#REF!,3,FALSE),\"\")","v":""},null,null,null,null,"","",{"$f":"IFERROR((#REF!/#REF!)*100,\"\")","v":""},{"$f":"IFERROR((#REF!/#REF!)*100,\"\")","v":""},{"$f":"IFERROR((#REF!/#REF!)*100,\"\")","v":""},{"$f":"IFERROR((#REF!/#REF!)*100,\"\")","v":""}]
[null,{"$f":"IFERROR(VLOOKUP($C43,#REF!,3,FALSE),\"\")","v":""},null,null,null,null,"","",{"$f":"IFERROR((#REF!/#REF!)*100,\"\")","v":""},{"$f":"IFERROR((#REF!/#REF!)*100,\"\")","v":""},{"$f":"IFERROR((#REF!/#REF!)*100,\"\")","v":""},{"$f":"IFERROR((#REF!/#REF!)*100,\"\")","v":""}]
[null,{"$f":"IFERROR(VLOOKUP($C44,#REF!,3,FALSE),\"\")","v":""},null,null,null,null,"","",{"$f":"IFERROR((#REF!/#REF!)*100,\"\")","v":""},{"$f":"IFERROR((#REF!/#REF!)*100,\"\")","v":""},{"$f":"IFERROR((#REF!/#REF!)*100,\"\")","v":""},{"$f":"IFERROR((#REF!/#REF!)*100,\"\")","v":""}]
[null,{"$f":"IFERROR(VLOOKUP($C45,#REF!,3,FALSE),\"\")","v":""},null,null,null,null,"","",{"$f":"IFERROR((#REF!/#REF!)*100,\"\")","v":""},{"$f":"IFERROR((#REF!/#REF!)*100,\"\")","v":""},{"$f":"IFERROR((#REF!/#REF!)*100,\"\")","v":""},{"$f":"IFERROR((#REF!/#REF!)*100,\"\")","v":""}]
[null,{"$f":"IFERROR(VLOOKUP($C46,#REF!,3,FALSE),\"\")","v":""},null,null,null,null,"","",{"$f":"IFERROR((#REF!/#REF!)*100,\"\")","v":""},{"$f":"IFERROR((#REF!/#REF!)*100,\"\")","v":""},{"$f":"IFERROR((#REF!/#REF!)*100,\"\")","v":""},{"$f":"IFERROR((#REF!/#REF!)*100,\"\")","v":""}]
[null,{"$f":"IFERROR(VLOOKUP($C47,#REF!,3,FALSE),\"\")","v":""},null,null,null,null,"","",{"$f":"IFERROR((#REF!/#REF!)*100,\"\")","v":""},{"$f":"IFERROR((#REF!/#REF!)*100,\"\")","v":""},{"$f":"IFERROR((#REF!/#REF!)*100,\"\")","v":""},{"$f":"IFERROR((#REF!/#REF!)*100,\"\")","v":""}]
[]
[]
[null,"PRINCIPALES ACCIONES REALIZADAS CON RECURSOS DE ORIGEN FEDERAL: "]
[null,"221 024 K015-Construcción de Infraestructura Pública;A través de la Obra por contrato se realizaron los siguientes trabajos en los proyectos denominados:Conservación y Rehabilitación de Espacios Públicos\n1.-Estabilización de talud en la colonia San Nicolás ll, con una superficie de 108.24 m3, 2.-Estabilización de talud en la colonia Cantera Puente de Piedra y Ampliación Isidro Fabela,con una superficie de 20.00 m3, 3.-Estabilización de talud en la colonia Comuneros de Santa Úrsula, con una superficie de 130.00 m3 \nTrabajos realizados en cada frente: Trazo y nivelación, excavación, cimbra, compacatación del terreno, filtros para drenes,trabajos con plantilla de concreto hidrahulico y trabajos de acero, así como el barrido y la limpieza del área.",null,null,null,null,null,null,null,null,null,null,null,null,null,null,null,null,null,null,null,null,null,null,null,null," corte y/o demolición de la carpeta asfáltica, excavación de la zanja hasta la profundidad que se encuentre la grieta, proteccion de las paredes de la zanja, extraccion del agua de la zanja, construcción de  coladeras(todos los tipos), bocas de tormenta, Construcción de muros de mampostería,Suministro y colocación de acero de refuerzo, Cimbra para Losa Tapa de Concreto Armado, Colado de Concreto, Relleno de las zanjas con material de banco, compactación de terreno, reconstrucción de pavimento, Decimbrado de Losa tapa, acarreos, limpieza de rejillas y estructuras que contengan azolve, retiro de material del sitio y limpieza final."]
[null,"Se realizaron 15 inmuebles en el proyecto denominado: Construir y Adecuar Planteles Educativos del Nivel Básico en los siguientes planteles educativos: Jardín de Niños: 1.-Itzcalli, ubicada en calle Guadalajara s/n, Col. Miguel Hidalgo 1a sección, Trabajos realizados: construcción de techumbre, 2.-Kantuni, ubicada en calle lmani y Dzemul, S/N, Col. Pedregal de San Nicolás 4a Seccion, Trabajos realizados: construcción de techumbre, 3.-Año Internacional del Niño, ubicada en calle Hacienda San Nicolás Tolentino s/n, Col. Prado Coapa 3ra. Sección, Trabajos realizados: restructuración de pasillos, aplicación de pintura e impermeabilización, 4.-Año de la República Federal, ubicada en calle María Hernández Zarco y Roque Estrada, Col. Fraccionamiento Belisario Domínguez, Trabajos realizados: construcción de techumbre, 5.-Ana María Navarro Becerra, ubiada en calle Nahoas esquina Otomies S/N, Col. Tlalcoligía,Trabajos realziados: construcción de sanitarios e impermeabilización, 6.-Tzinti, ubicada en calle Cuauhtemoc S/N, Pueblo Quieto, Trabajos realizados: construcción de techumbre \nEscuelas Primarias: 7-Luis de la Brena, ubicada en calle Reforma No. 1, Pueblo San Miguel Xicalco, Trabajos realizados: reconstrucción de edificio de aulas, tiene un avance físico del 50%,  por convenio de ampliación de tiempo,8.-Lázaro Cárdenas, ubicada en Club Deportivo Universidad  No. 300, Col. Fraccionamiento Villa Lázaro Cárdenas, Trabajos realizados:construcción de techumbre, 9-Niger, ubicadad en Calle Torreón S/N, Manzana 7, Unidad Habitacional Narciso Mendoza Super Manzana 7, Trabajos realizados: construcción de techumbre, 10.-De Participáción Social No. 5, ubicada en Avenida San Fernando No. 12, Col. Centro de Tlalpan, Trabajos realizados: sustitución de cancelería y puertas, aplicación de pintura, construcción de consultorio médico,11.-Somalia, ubicada en Avenida el Fortín # 46  y Andador 9 No. 3, Unidad Habitacional Narciso Mendoza Supermanzana 3, Trabajos realizados: construcción de techumbre y aplicación de pintura, 12.-Vidal Alcocer, ubicada en Calle Magisterio Nacional No. 102, Col. Centro de Tlalpan, Río Pánuco, Col. Toriello Guerra,Trabajos realizados: construcción de techumbre 13.-Río Panuco, ubicada en calle Puente de Piedra No. 72, Col. Toriello Guerra, Trabajos realizados: construcción de techumbre.\nEscuelas Secundarias: 14.-Técnica No. 96, ubicada en calle Guadalupe Victoria s/n, Pueblo Santo Tomás Ajusco, Trabajos realziados: construcción de rampas y loseta.15.-No. 155, ubicada en Callejón Zapote No. 148, Col. Isidro Fabela,Trabajos realizados: construcción de techumbre, 16.-No. 173, ubicada en calle Querétaro s/n, Col. Miguel Hidalgo 1a sección, Trabajos realizados: construcción de bebederos y pisos de loseta."]
[null,"Se realizó 1 inmueble en el proyecto denominado: Construcción, Ampliación de Infraestructura Social\n1.-Construcción de la 2da. etapa del Auditorio Comunal de la Magdalena Petlacalco, \nTrabajos realizados: albañilería,azotea,instalación sanitaria,instalacion hidráulica,instalación eléctrica,herrería, carpintería,acabados.   \n"]
[null,"Se lleva el avance Físico del 50% en el inmueble del proyecto denominado: Construcción y Ampliación de Edificios Públicos\n1.-Construcción 2do Piso de la Subdelegación de Santo Tomás Ajusco\nTrabajos realziados: trazo y nivelación, preliminares, elementos de concreto reforzado, albañilerías, habilitado de cimbra y acero de refuerzo                                         \n"]
[null,"221 049 E124 Programa Integral de Movilidad Inteligente; Al periodo a través de la Obra por Contrato, se realizaron 20,785.39 m2, en el proyecto denominado: Mantenimiento, Conservación y Rehabilitación en Vialidades Secundarias en las siguientes colonias: \n1.-San Andrés Totoltepec, 2.-Héroes de Padierna, 3.-Miguel Hidalgo\nTrabajos realizados en cada uno de los frentes: trazo y nivelación, fresado, brocales, barrido de la base para aplicar el riego de liga, carpeta de mezcla asfáltica, etc.",null,null,null,null,null,null,null,null,null,null,null,null,null,null,null,null,null,null,null,null,null,null,null,null," "]
[null,"Se realizaron 1,398.92 metros cuadrados en el proyecto denominado: Conservación y Rehabilitación de Banquetas en las siguientes colonias:\n1.-Isidro Fabela, 2.-Miguel Hidalgo.\nTrabajos realizados:Trazo y nivelación,  Extracción manual de tocón,  Demolición por medios manuales de guarniciones y banquetas de concreto simple, preparación, conformación y compactación de subrasante para banquetas, Suministro y colocación de tepetate de 10 cm de espesor, Banqueta de 10 cm de espesor de concreto hidráulico. Acabado con volteador en las aristas de banquetas, Guarnición de concreto hidráulico, renivelación de rejillas de registro."]
[null,"Se relizó la colocación de luminarias 50 luminarias en el proyecto denominado: Colocación de luminarias en la colonia:\n1.-Pueblo San Miguel Ajusco\nTrabajos realziados: Trazo y nivelación; suministro y colocación de tubos y coples conduit; suministro e instalación de cable; conexiones y pruebas; instalación de lámparas; suministro e instalación de pruebas de luminarias completas; construcción de cimiento para poste; construcción de registro; suministro, instalación y pintura de postes; corte con sierra de pavimento, demolición, carga y acarreo producto de la demolición; excavación  y relleno; piso de concreto hidráulico"]
[null,"221 274 K016 Rehabilitación y Mantenimiento de Infraestructura Pública-A través de la Obra por Contrato se relizaron 4 inmuebles en el proyecto denominado: Conservación y Rehabilitación de Espacios Deportivos en las siguientes ubicaciones: 1.-Deportivo CEFORMA, Col. Fuentes Brotantes, U.H. Fuentes Brotantes, Trabajos realizados: Rehabilitación de baños y exteriores, trabajos de iluminación interior y exterior, rehabilitación y cambio depisos, trabajos de herrería y para evitar acceso a palomas, aplicación de pintura en interiores y exteriores, 2.-Deportivo Parres el Guarda, Col. Parres el Guarda, Trabajos realizados: rehabilitación cancha de furbol soccer, , malla ciclónica e instalación eléctrica, 3.-Deportivo San Andrés Totoltepec, Pueblo San Andrés Totoltepec, Trabajos realizados: techumbre en alberca y panel solar, 4.-Deportivo Guayacanes, Col. Bosques del Pedregal, Trabajos realizados: Techumbre,estructura metálica,alumbrado publico,mantenimiento al area de juegos infantiles, aplicación de pintura,reconstrucción de muro."]
[null,"223 202 K014 -Infraestructura de Agua Potable; Alcantarillado y Saneamiento-A través de la Obra por Contrato se realizaron los siguientes trabajos: Con 10 piezas en el proyecto denominado Construcción y Rehabilitación de Resumideros, con trabajos para la construcción de Resumideros en las siguientes colonias: 1.- Cultura Maya, 2.-Pueblo San Andrés Totoltepec, 4.-Pedregal de San Nicolas 2a. Sección, 5.- Pedregal de San Nicolás 3a sección, 7.-Torres de Padierna, 9.-Miguel Hidalgo 3ra. Sección,11.- Héroes de Padierna, 12.- Lomas de Padierna,13.-Pedregal de San Nicolas 1a. Sección, \nTrabajos terminados en cada uno de los frentes: Trazo y nivelación,corte y/o demolición de la carpeta asfáltica,excavación de la zanja hasta la profundidad que se encuentre la grieta, proteccion de las paredes de la zanja, extraccion del agua de la zanja, construcción de  coladeras(todos los tipos), bocas de tormenta, construcción de muros de mampostería,suministro y colocación de acero de refuerzo, cimbra para losa tapa de concreto armado, colado de concreto, relleno de las zanjas con material de banco, compactación de terreno, reconstrucción de pavimento, decimbrado de losa tapa, acarreos, limpieza de rejillas y estructuras que contengan azolve, retiro de material del sitio y limpieza final.\n"]
[null,"Se realizaron 78.20 metros lineales en el proyecto denominado Construcción y Ampliación de Infraestructura de Agua Potable en el: 1.-Pueblo de San Pedro Mártir\nTrabajos realizados: instalación de tuberia de P.A.D.  y tomas domiciliarias"]
[null,"Se realizaron 3,429.95 metros Rehabilitación a la Red de Agua Potable en las siguientes colonias: 1.-Tlalmille, 2.-Cruz del Farol, 3.-Los encinos, 4.-Torres de Padierna, 5.-Cultura Maya, 6.-Miguel Hidalgo 3ra. Sección, 7.-Héroes de Padierna, 8.-Miguel Hidalgo 2da Sección, 9.-San Andrés Totoltepec.\nTrabajos realizados: Trazo y nivelación, demoliciones, excavaciones, rellenos, cambio de tubería de polietileno de alta densidad de diferentes diámetros, construcción y/o sustitución de cajas de válvulas, trabajos de bacheo  y Reparación de fugas de diversos diámetros, en válvulas y tubería de diferentes materiales.\n"]
[null,"Se realizaron 0.678 kilómetros en el proyecto denominado: Construcción y Ampliación de la Infraestructura del Sistema de Drenaje\n1.-Pueblo San Andrés Totoltepec, 2.- Cultura Maya.\ntrabajos realziados: introducción de la Red de Drenaje, tendido de tubería,relleno y compactación, bacheo, retiro de material,producto de compactación.\n"]
[null,"Se realizaron 4,571.07  metros en el proyecto denominado: Desazolve de la Red del Sistema de Drenaje en las siguientes colonias: \n1.-Héroes de Padierna, 2.Cuchilla de Padierna, 3.-Torres de Padierna, 4.-Miguel Hidalgo 3a. Sección, 5.-Miguel Hidalgo 4a. Sección, 6.-Pedregal de San Nicolás 2a. Sección, 7.-Pedregal de San Nicolás 3a. Sección, 8.-Bosques del Pedregal, 9.-Cultura Maya, 10.-La Primavera, 11.-Popular Santa Teresa, 12.-Lomas de Padierna, 13.-Miguel Hidalgo 1a. Sección, 14.- Miguel Hidalgo 2a. Sección, 15.-Jardines del Ajusco\nTrabajos realizados: Limpieza del sistema de alcantarillado sanitario, pluvial o combinado, considerando todos sus elementos de captación como pueden ser albañales, bocas de tormenta, rejillas, coladeras, tuberías, pozos de visita, cajas rompedoras de presión,  canales encofrados  o canales a cielo abierto, resumideros, etc., en los cuales se llevara a cabo el retiro de todo el azolve generado por tierra y basura que fue arrastrada por las lluvias,  resumideros limpieza de la grieta natural por la cual el agua se filtra hasta los mantos acuíferos, y para la red secundaria se limpiaron  las tuberías y pozos de visita realizando el desazolve por medios mecánicos, con el uso de malacates y del Camión Vactor."]
[null,"Se ejercieron recursos en la  Construcción, Rehabilitación y Proyecto Ejecutivo de Cárcamos para la Infraestructura del Sistema de Drenaje: \nLos recursos ejercidos refieren al Proyecto Ejecutivo de Cárcamos para la Infraestructura del Sistema de Drenaje en las colonias: 1.-Cantera Puente de Piedra, 2.-Isidro Fabela, 3.- El Zapote, 4.-Ejidos de San Pedro Mártir\nTrabajos realizados: levantamientos físicos de necesidades en los 3 cárcamos para rehabilitar y la construcción de 1 cárcamo nuevo, realización de memoria descriptiva,memoria de cálculo deacuerdo con los requerimientos de cada cárcamo,planos ejecutivos.\n"]
[null,"311 148 E150 Programa Integral de Movilidad Inteligente; A través de la Obra por Contrato se relizaron los trabajos en el proyecto denominado: Mantenimiento y Rehabilitación a Mercados con 4 inmuebles\n1.-Mercado Flores San Fernando, ubicado en Calzada de Tlalpan y avenida San Fernando, Colonia Barrio de Niño Jesús, Trabajos realizados: instalación eléctrica interna, módulos, instalación eléctrica exterior\n2.-Mercado Fuentes Brotantes, ubicado en Interior del Parque Nacional Fuentes Brotantes, colonia Fuentes Brotantes, Trabajos realizados: instalación eléctrica, sistema de drenaje, ampliación de baños, áreas verdes y juegos, 3.-Mercado Villa Coapa, ubicado en Avenida canal de Miramontes s/n entre avenida Acoxpa y Caporal, colonia Villa Coapa, Trabajos realizados: sustitución de luminaria led, alimentadores a locales, alimentador a hidroneumático, alumbrado exterior, alimentadores en baja tensión CCTV y telefonía, extracción de aire, 4.-Mercado Plaza Mexicana del Sur, ubicado en Avenida Acoxpa, entre Calzada de Tlalpan y Viaducto Tlalpan, Col. San Lorenzo Huipulco, Trabajos realizados: instalación eléctrica\n\n"]
[null,"Al periodo se redujeron los recursos para reorientarlos a los capítulos 2,000, 3,000 y 4,000 de diferentes Programas Presupuestarios para poder cumplir con las necesidades la  Alcadía de Tlalpan, adicionalmente se aperturaron los proyectos del Presupuesto Participativo con DG: 65 del Ejercicio 2021, para ver los movimientos presupuestales,  ver los formatos de ADECUACIONES PRESUPUESTALES, por cada Programa Presupuestario, cabe mencionar que también se señalan por cada uno los frentes que se dejaron de atender por cada proyecto denominado."]
[null,"223 202 K014-Se adicionan recursos en la partida refacciones y accesorios con DG:65 Presupuesto Participativo 2021 los cuales no pertenecen a la DGODU, el seguimiento lo llevará acabo la Dirección General de Participación Ciudadana.\nLa Obra por Administración para realizar los trabajos de rehabilitación y mantenimiento de Agua Potable, Drenaje y Desazolve, la meta se verá reflejada  en el Fondo NO ETIQUETADO RECURSOS FEDERALES-PARTICIPACIONES A ENTIDADES FEDERATIVAS Y MUNICIPIOS- PARTICIPACIONES EN EL IMPUESTO ESPECIAL SOBRE PRODUCCIÓN Y SERVICIOS-2022-ORIGINAL DE LA URG (15O410), "]
[null,"223 202 K014-Se adicionan recursos en la partida Material de limpieza la cual es partida centralizada, adicionalmente se amplían recursos en las siguientes partidas: material eléctrico, materiales complementarios, materiales de construcción, plásticos y derivados con DG:65 Presupuesto Participativo 2021 los cuales no pertenecen a la DGODU, el seguimiento lo llevará acabo la Dirección General de Participación Ciudadana.\nLa Obra por Administración para realizar los trabajos de mantenimiento y rehabilitación a Inmuebles Públicos, se reflejará su meta en el fondo NO ETIQUETADO RECURSOS FEDERALES-PARTICIPACIONES A ENTIDADES FEDERATIVAS Y MUNICIPIOS-FONDO DE COMPENSACIÓN DEL IMPUESTO DE AUTOMÓVILES NUEVOS (ISAN) -2022-ORIGINAL DE LA URG (15OC10)"]
[null,"311 148 E150- En este programa presupuestario se aperturó el proyecto denominado  Mantenimiento y Rehabilitación a Mercados con 4 inmuebles realizados,mismos que cuentan con tres Fuentes de Financiamiento:No etiquetado recursos fiscales-fiscales-fiscales-2021-original de la urg (Fiscales), Etiquetado Recursos Federales-Aportaciones Federales para Entidades Federativas y Municipios-Fondo de Aportaciones para el Fortalecimiento de las Entidades Federativas (FAFEF)-2021-Original de la URG, No Etiquetado Recursos Federales-Participaciones a Entidades Federativas y Municipios- Participaciones en el Impuesto Sobre Automóviles Nuevos-2021-Original de la URG, en dodnde se verán rfelejada la meta ejecutada., en dodnde se verán rfelejada la meta ejecutada."]
[null,"124 004 P002-En este programa presupuestario se adicionan recursos para la repartición de agua potable através de los camiones tipo pipas, los cuales serán complemento a la meta que se verá reflejada en el Fondo ETIQUETADO RECURSOS FEDERALES-APORTACIONES FEDERALES PARA ENTIDADES FEDERATIVAS Y MUNICIPIOS-FONDO DE APORTACIONES PARA EL FORTALECIMIENTO DE LOS MUNICIPIOS Y LAS DEMARCACIONES TERRITORIALES DEL DISTRITO FEDERAL (FORTAMUN)-2021-ORIGINAL DE LA URG, en este mismo programa presupuestario. "]
[null,"221 049 E124-Se adicionan recursos en este Fondo para  cubrir los trabajos de la Obra por Administración, misma que no tenía recursos para realizar su meta la cual se refleja en el Fondo NO ETIQUETADO RECURSOS FEDERALES-PARTICIPACIONES A ENTIDADES FEDERATIVAS Y MUNICIPIOS-FONDO GENERAL DE PARTICIPACIONES-2021-ORIGINAL DE LA URG, en las partidas: combustible, lubricantes y aditivios, mezcla asfáltica y artículos para la construcción, en beneficio de la población tlalpense, para los trabajos de  de mantenimiento a vialidades secundarias, mantenimiento a banquetas y trabajos de balizamiento."]
[null,"FRENTES CANCELADOS POR PROGRAMA PRESUPUESTARIO Y PROYECTO DENOMINADO\n223 202 K014 -Infraestructura de Agua Potable, Alcantarillado y Saneamiento-Frentes cancelados en los siguientes proyectos denominados:\nConstrucción y Rehabilitación de Resumideros\n1- Pueblo San Miguel Topilejo, 2.-Pedregal Santa Ú+67:68rsula Xitla, 3.-Pedregal de San Nicolás 4a sección, 4.- Lomas Hidalgo, 5.-Popular Santa Teresa, 6.- Miguel Hidalgo 4a. Seccion, 7.- Miguel Hidalgo 2a. Seccion, debido a que sus rcursos se transfirieron a otros capítulo :2000,3000 y 4000, para realizar trabajos prioritarios de la Alcadía de Tlalpan\nDesazolve de la Red del Sistema de Drenaje\n1.-Pedregal de San Nicolás 1a. Sección,2.-Pedregal de San Nicolás 4a. Sección,3.-Lomas Altas de Padierna,4.-Lomas Hidalgo,5.-San Pedro Martir,6.-Cruz del Farol,7.-Zacatón,8.-2 de Octubre,9.-San Andrés Totoltepec,10.-Pueblo de San Miguel Xicalco,11.-Pueblo San Miguel Topilejo,12.-La Lonja, 13.-Cantera Puente de Piedra, 14.-Pedregal de Santa Úrsula Xitla,15.-Talcoligía,16.-San Pedro Apostol, los recursos se reorientaron para atender presupuesto participativo de los capitulos 6000, 2000, 3000 y 4000\nConstrucción, Rehabilitación y Proyecto Ejecutivo de Cárcamos para la Infraestructura del Sistema de Drenaje\nSe dejaron de atender los trabajos para la Construcción, Rehabilitación para la Infraestructura del Sistema de Drenaje en las colonias: \n1.-Cantera Puente de Piedra, 2.-Isidro Fabela, 3.- El Zapote, 4.-Ejidos de San Pedro Mártir, debido a la reducción de recursos, los cuales se reorientaron a los capítulos: 2000, 3000 Y 4000 y así poder cubrir con las necesidades prioritarias de la Alcaldía. \nConstrucción y Ampliación de la Infraestructura del Sistema de Drenaje\n1.-Miguel Hidalgo 4ta. sección, 2.-Manantial Peña Pobre, 3.- Pueblo Chimalcoyoc, debido a que los recursos se reorientaron a los capítulos: 2000, 3000 Y 4000,\nConstrucción, Rehabilitación y Proyecto Ejecutivo de Cárcamos para la Infraestructura del Sistema de Drenaje: \nSe dejaron de atender los trabajos para la Construcción, Rehabilitación para la Infraestructura del Sistema de Drenaje en las colonias: \n1.-Cantera Puente de Piedra, 2.-Isidro Fabela, 3.- El Zapote, 4.-Ejidos de San Pedro Mártir, debido a la reducción de recursos, los cuales se reorientaron a los capítulos: 2000, 3000 Y 4000 y así poder cubrir con las necesidades prioritarias de la Alcaldía, los recursos se reorientaron para atender presupuesto participativo de los capitulos 6000, 2000, 3000 y 4000\n"]
[null,"221 024 K015-Construcción de Infraestructura Pública-Frentes cancelados en los siguientes proyectos denominados:\nConstrucción, Ampliación de Infraestructura Social (Se dejaron de atender 7 inmuebles)\n1.-Construcción de Centro comunitario en la colonia Paraje Tecorral,2.-Construcción de la Casa del Adulto Mayor en el Pueblo San Miguel Ajusco,3.-Centro Integral de Esparcimiento Lúdico y Orientación en la colonia Isidro Fabela, 4.-Conclución de techo de la cancha de usos múltiples en la colonia Diamante,5.-Proyección y Construcción del CAO de la colonia Pedregal de San Nicolás 3ra. Sección,6.-Ampliación del CEDIC Cultura Maya,7.-Centro Comunitario Santo Tomás Ajusco,  los recursos se reorientaron a los capitulo 2000, 3000 y 4000.\nConservación y Rehabilitación de Espacios Públicos\n4.-Construcción del Arco de Identidad del Pueblo Magdalena Petlacalco \nFRENTE CANCELADO (TERMINACIÓN ANTICIPADA)POR PROBLEMAS DE OPOSICIÓN VECINAL. \nConstrucción y Ampliación de Edificios Públicos\n1.-Ampliación de la Sede del Consejo Comunitario en Pueblo San Andrés Totoltepec,2.-Construcción a la 2a etapa del Campamento Limantitla,3.-Construcción de Arco de identidad Magdalena Petlacalco., los recursos se reorientaron a los capitulos 2000, 3000 y 4000\n"]

{"sheet":"AP_RF FORTAMUN ","index":4,"n_rows":61,"n_cols":26,"rows_kept":61,"cut":false,"hidden":false,"merged":[[49,1,49,11],[1,1,1,11],[2,1,2,11],[4,1,4,4],[4,5,4,11],[5,1,5,4],[5,5,5,11],[7,1,7,4],[7,5,7,11],[9,1,9,11],[10,1,10,7],[10,8,10,11],[61,1,61,12],[50,1,54,11],[56,1,56,11],[57,0,57,11],[58,0,58,11],[59,1,59,12],[60,1,60,12]]}
[]
[null,"AP-RF  AVANCE PRESUPUESTAL DE RECURSOS DE ORIGEN FEDERAL"]
[null,"FONDO, CONVENIO, SUBSIDIO O PARTICIPACIÓN: (1)"]
[]
[null,"Unidad Responsable de Gasto:",null,null,null,"DIRECCIÓN GENERAL DE OBRAS Y DESARROLLO URBANO"]
[null,"Período:",null,null,null,"Enero-Diciembre 2021"]
[]
[null,"FONDO",null,null,null,"ETIQUETADO RECURSOS FEDERALES-APORTACIONES FEDERALES PARA ENTIDADES FEDERATIVAS Y MUNICIPIOS-FONDO DE APORTACIONES PARA EL FORTALECIMIENTO DE LOS MUNICIPIOS Y LAS DEMARCACIONES TERRITORIALES DEL DISTRITO FEDERAL (FORTAMUN)-2021-ORIGINAL DE LA URG"]
[]
[null,"R      E      S      U      L      T      A      D      O      S"]
[null,"PRESUPUESTO\n(Pesos con dos decimales)",null,null,null,null,null,null,"AVANCE\n%"]
[null,"APROBADO\n","MODIFICADO\n","PROGRAMADO\n","SALDO DEL \nCOMPROMISO","DEVENGADO\n","EJERCIDO\n","PAGADO\n","(DEVENGADO / APROBADO)*100\n","(DEVENGADO / MODIFICADO)*100\n","(EJERCIDO / APROBADO)*100\n","(EJERCIDO / MODIFICADO)*100\n"]
[null,77961280,85407920.329999998,83203463.329999998,83203463.329999998,83203463.329999998,69946836.569999993,69946836.569999993,{"$f":"IFERROR(($F13/$B13)*100,\"\")","v":106.72408576411266},{"$f":"IFERROR(($F13/$B13)*100,\"\")","v":106.72408576411266},{"$f":"IFERROR(($G13/$B13)*100,\"\")","v":89.719969413021431},{"$f":"IFERROR(($G13/$C13)*100,\"\")","v":81.897365372835083}]
[]
[null,null,null,null,null,null,null,null,{"$f":"IFERROR((#REF!/#REF!)*100,\"\")","v":""},{"$f":"IFERROR((#REF!/#REF!)*100,\"\")","v":""},{"$f":"IFERROR((#REF!/#REF!)*100,\"\")","v":""},{"$f":"IFERROR((#REF!/#REF!)*100,\"\")","v":""}]
[null,null,null,null,null,null,null,null,{"$f":"IFERROR((#REF!/#REF!)*100,\"\")","v":""},{"$f":"IFERROR((#REF!/#REF!)*100,\"\")","v":""},{"$f":"IFERROR((#REF!/#REF!)*100,\"\")","v":""},{"$f":"IFERROR((#REF!/#REF!)*100,\"\")","v":""}]
[null,{"$f":"IFERROR(VLOOKUP($C17,#REF!,3,FALSE),\"\")","v":""},null,null,null,null,{"$f":"IFERROR(F17/C17,\"\")","v":""},{"$f":"IFERROR((F17/D17*100),\"\")","v":""},{"$f":"IFERROR((#REF!/#REF!)*100,\"\")","v":""},{"$f":"IFERROR((#REF!/#REF!)*100,\"\")","v":""},{"$f":"IFERROR((#REF!/#REF!)*100,\"\")","v":""},{"$f":"IFERROR((#REF!/#REF!)*100,\"\")","v":""}]
[null,{"$f":"IFERROR(VLOOKUP($C18,#REF!,3,FALSE),\"\")","v":""},null,null,null,null,"","",{"$f":"IFERROR((#REF!/#REF!)*100,\"\")","v":""},{"$f":"IFERROR((#REF!/#REF!)*100,\"\")","v":""},{"$f":"IFERROR((#REF!/#REF!)*100,\"\")","v":""},{"$f":"IFERROR((#REF!/#REF!)*100,\"\")","v":""}]
[null,{"$f":"IFERROR(VLOOKUP($C19,#REF!,3,FALSE),\"\")","v":""},null,null,null,null,"","",{"$f":"IFERROR((#REF!/#REF!)*100,\"\")","v":""},{"$f":"IFERROR((#REF!/#REF!)*100,\"\")","v":""},{"$f":"IFERROR((#REF!/#REF!)*100,\"\")","v":""},{"$f":"IFERROR((#REF!/#REF!)*100,\"\")","v":""}]
[null,{"$f":"IFERROR(VLOOKUP($C20,#REF!,3,FALSE),\"\")","v":""},null,null,null,null,"","",{"$f":"IFERROR((#REF!/#REF!)*100,\"\")","v":""},{"$f":"IFERROR((#REF!/#REF!)*100,\"\")","v":""},{"$f":"IFERROR((#REF!/#REF!)*100,\"\")","v":""},{"$f":"IFERROR((#REF!/#REF!)*100,\"\")","v":""}]
[null,{"$f":"IFERROR(VLOOKUP($C21,#REF!,3,FALSE),\"\")","v":""},null,null,null,null,"","",{"$f":"IFERROR((#REF!/#REF!)*100,\"\")","v":""},{"$f":"IFERROR((#REF!/#REF!)*100,\"\")","v":""},{"$f":"IFERROR((#REF!/#REF!)*100,\"\")","v":""},{"$f":"IFERROR((#REF!/#REF!)*100,\"\")","v":""}]
[null,{"$f":"IFERROR(VLOOKUP($C22,#REF!,3,FALSE),\"\")","v":""},null,null,null,null,"","",{"$f":"IFERROR((#REF!/#REF!)*100,\"\")","v":""},{"$f":"IFERROR((#REF!/#REF!)*100,\"\")","v":""},{"$f":"IFERROR((#REF!/#REF!)*100,\"\")","v":""},{"$f":"IFERROR((#REF!/#REF!)*100,\"\")","v":""}]
[null,{"$f":"IFERROR(VLOOKUP($C23,#REF!,3,FALSE),\"\")","v":""},null,null,null,null,"","",{"$f":"IFERROR((#REF!/#REF!)*100,\"\")","v":""},{"$f":"IFERROR((#REF!/#REF!)*100,\"\")","v":""},{"$f":"IFERROR((#REF!/#REF!)*100,\"\")","v":""},{"$f":"IFERROR((#REF!/#REF!)*100,\"\")","v":""}]
[null,{"$f":"IFERROR(VLOOKUP($C24,#REF!,3,FALSE),\"\")","v":""},null,null,null,null,"","",{"$f":"IFERROR((#REF!/#REF!)*100,\"\")","v":""},{"$f":"IFERROR((#REF!/#REF!)*100,\"\")","v":""},{"$f":"IFERROR((#REF!/#REF!)*100,\"\")","v":""},{"$f":"IFERROR((#REF!/#REF!)*100,\"\")","v":""}]
[null,{"$f":"IFERROR(VLOOKUP($C25,#REF!,3,FALSE),\"\")","v":""},null,null,null,null,"","",{"$f":"IFERROR((#REF!/#REF!)*100,\"\")","v":""},{"$f":"IFERROR((#REF!/#REF!)*100,\"\")","v":""},{"$f":"IFERROR((#REF!/#REF!)*100,\"\")","v":""},{"$f":"IFERROR((#REF!/#REF!)*100,\"\")","v":""}]
[null,{"$f":"IFERROR(VLOOKUP($C26,#REF!,3,FALSE),\"\")","v":""},null,null,null,null,"","",{"$f":"IFERROR((#REF!/#REF!)*100,\"\")","v":""},{"$f":"IFERROR((#REF!/#REF!)*100,\"\")","v":""},{"$f":"IFERROR((#REF!/#REF!)*100,\"\")","v":""},{"$f":"IFERROR((#REF!/#REF!)*100,\"\")","v":""}]
[null,{"$f":"IFERROR(VLOOKUP($C27,#REF!,3,FALSE),\"\")","v":""},null,null,null,null,"","",{"$f":"IFERROR((#REF!/#REF!)*100,\"\")","v":""},{"$f":"IFERROR((#REF!/#REF!)*100,\"\")","v":""},{"$f":"IFERROR((#REF!/#REF!)*100,\"\")","v":""},{"$f":"IFERROR((#REF!/#REF!)*100,\"\")","v":""}]
[null,{"$f":"IFERROR(VLOOKUP($C28,#REF!,3,FALSE),\"\")","v":""},null,null,null,null,"","",{"$f":"IFERROR((#REF!/#REF!)*100,\"\")","v":""},{"$f":"IFERROR((#REF!/#REF!)*100,\"\")","v":""},{"$f":"IFERROR((#REF!/#REF!)*100,\"\")","v":""},{"$f":"IFERROR((#REF!/#REF!)*100,\"\")","v":""}]
[null,{"$f":"IFERROR(VLOOKUP($C29,#REF!,3,FALSE),\"\")","v":""},null,null,null,null,"","",{"$f":"IFERROR((#REF!/#REF!)*100,\"\")","v":""},{"$f":"IFERROR((#REF!/#REF!)*100,\"\")","v":""},{"$f":"IFERROR((#REF!/#REF!)*100,\"\")","v":""},{"$f":"IFERROR((#REF!/#REF!)*100,\"\")","v":""}]
[null,{"$f":"IFERROR(VLOOKUP($C30,#REF!,3,FALSE),\"\")","v":""},null,null,null,null,"","",{"$f":"IFERROR((#REF!/#REF!)*100,\"\")","v":""},{"$f":"IFERROR((#REF!/#REF!)*100,\"\")","v":""},{"$f":"IFERROR((#REF!/#REF!)*100,\"\")","v":""},{"$f":"IFERROR((#REF!/#REF!)*100,\"\")","v":""}]
[null,{"$f":"IFERROR(VLOOKUP($C31,#REF!,3,FALSE),\"\")","v":""},null,null,null,null,"","",{"$f":"IFERROR((#REF!/#REF!)*100,\"\")","v":""},{"$f":"IFERROR((#REF!/#REF!)*100,\"\")","v":""},{"$f":"IFERROR((#REF!/#REF!)*100,\"\")","v":""},{"$f":"IFERROR((#REF!/#REF!)*100,\"\")","v":""}]
[null,{"$f":"IFERROR(VLOOKUP($C32,#REF!,3,FALSE),\"\")","v":""},null,null,null,null,"","",{"$f":"IFERROR((#REF!/#REF!)*100,\"\")","v":""},{"$f":"IFERROR((#REF!/#REF!)*100,\"\")","v":""},{"$f":"IFERROR((#REF!/#REF!)*100,\"\")","v":""},{"$f":"IFERROR((#REF!/#REF!)*100,\"\")","v":""}]
[null,{"$f":"IFERROR(VLOOKUP($C33,#REF!,3,FALSE),\"\")","v":""},null,null,null,null,"","",{"$f":"IFERROR((#REF!/#REF!)*100,\"\")","v":""},{"$f":"IFERROR((#REF!/#REF!)*100,\"\")","v":""},{"$f":"IFERROR((#REF!/#REF!)*100,\"\")","v":""},{"$f":"IFERROR((#REF!/#REF!)*100,\"\")","v":""}]
[null,{"$f":"IFERROR(VLOOKUP($C34,#REF!,3,FALSE),\"\")","v":""},null,null,null,null,"","",{"$f":"IFERROR((#REF!/#REF!)*100,\"\")","v":""},{"$f":"IFERROR((#REF!/#REF!)*100,\"\")","v":""},{"$f":"IFERROR((#REF!/#REF!)*100,\"\")","v":""},{"$f":"IFERROR((#REF!/#REF!)*100,\"\")","v":""}]
[null,{"$f":"IFERROR(VLOOKUP($C35,#REF!,3,FALSE),\"\")","v":""},null,null,null,null,"","",{"$f":"IFERROR((#REF!/#REF!)*100,\"\")","v":""},{"$f":"IFERROR((#REF!/#REF!)*100,\"\")","v":""},{"$f":"IFERROR((#REF!/#REF!)*100,\"\")","v":""},{"$f":"IFERROR((#REF!/#REF!)*100,\"\")","v":""}]
[null,{"$f":"IFERROR(VLOOKUP($C36,#REF!,3,FALSE),\"\")","v":""},null,null,null,null,"","",{"$f":"IFERROR((#REF!/#REF!)*100,\"\")","v":""},{"$f":"IFERROR((#REF!/#REF!)*100,\"\")","v":""},{"$f":"IFERROR((#REF!/#REF!)*100,\"\")","v":""},{"$f":"IFERROR((#REF!/#REF!)*100,\"\")","v":""}]
[null,{"$f":"IFERROR(VLOOKUP($C37,#REF!,3,FALSE),\"\")","v":""},null,null,null,null,"","",{"$f":"IFERROR((#REF!/#REF!)*100,\"\")","v":""},{"$f":"IFERROR((#REF!/#REF!)*100,\"\")","v":""},{"$f":"IFERROR((#REF!/#REF!)*100,\"\")","v":""},{"$f":"IFERROR((#REF!/#REF!)*100,\"\")","v":""}]
[null,{"$f":"IFERROR(VLOOKUP($C38,#REF!,3,FALSE),\"\")","v":""},null,null,null,null,"","",{"$f":"IFERROR((#REF!/#REF!)*100,\"\")","v":""},{"$f":"IFERROR((#REF!/#REF!)*100,\"\")","v":""},{"$f":"IFERROR((#REF!/#REF!)*100,\"\")","v":""},{"$f":"IFERROR((#REF!/#REF!)*100,\"\")","v":""}]
[null,{"$f":"IFERROR(VLOOKUP($C39,#REF!,3,FALSE),\"\")","v":""},null,null,null,null,"","",{"$f":"IFERROR((#REF!/#REF!)*100,\"\")","v":""},{"$f":"IFERROR((#REF!/#REF!)*100,\"\")","v":""},{"$f":"IFERROR((#REF!/#REF!)*100,\"\")","v":""},{"$f":"IFERROR((#REF!/#REF!)*100,\"\")","v":""}]
[null,{"$f":"IFERROR(VLOOKUP($C40,#REF!,3,FALSE),\"\")","v":""},null,null,null,null,"","",{"$f":"IFERROR((#REF!/#REF!)*100,\"\")","v":""},{"$f":"IFERROR((#REF!/#REF!)*100,\"\")","v":""},{"$f":"IFERROR((#REF!/#REF!)*100,\"\")","v":""},{"$f":"IFERROR((#REF!/#REF!)*100,\"\")","v":""}]
[null,{"$f":"IFERROR(VLOOKUP($C41,#REF!,3,FALSE),\"\")","v":""},null,null,null,null,"","",{"$f":"IFERROR((#REF!/#REF!)*100,\"\")","v":""},{"$f":"IFERROR((#REF!/#REF!)*100,\"\")","v":""},{"$f":"IFERROR((#REF!/#REF!)*100,\"\")","v":""},{"$f":"IFERROR((#REF!/#REF!)*100,\"\")","v":""}]
[null,{"$f":"IFERROR(VLOOKUP($C42,#REF!,3,FALSE),\"\")","v":""},null,null,null,null,"","",{"$f":"IFERROR((#REF!/#REF!)*100,\"\")","v":""},{"$f":"IFERROR((#REF!/#REF!)*100,\"\")","v":""},{"$f":"IFERROR((#REF!/#REF!)*100,\"\")","v":""},{"$f":"IFERROR((#REF!/#REF!)*100,\"\")","v":""}]
[null,{"$f":"IFERROR(VLOOKUP($C43,#REF!,3,FALSE),\"\")","v":""},null,null,null,null,"","",{"$f":"IFERROR((#REF!/#REF!)*100,\"\")","v":""},{"$f":"IFERROR((#REF!/#REF!)*100,\"\")","v":""},{"$f":"IFERROR((#REF!/#REF!)*100,\"\")","v":""},{"$f":"IFERROR((#REF!/#REF!)*100,\"\")","v":""}]
[null,{"$f":"IFERROR(VLOOKUP($C44,#REF!,3,FALSE),\"\")","v":""},null,null,null,null,"","",{"$f":"IFERROR((#REF!/#REF!)*100,\"\")","v":""},{"$f":"IFERROR((#REF!/#REF!)*100,\"\")","v":""},{"$f":"IFERROR((#REF!/#REF!)*100,\"\")","v":""},{"$f":"IFERROR((#REF!/#REF!)*100,\"\")","v":""}]
[null,{"$f":"IFERROR(VLOOKUP($C45,#REF!,3,FALSE),\"\")","v":""},null,null,null,null,"","",{"$f":"IFERROR((#REF!/#REF!)*100,\"\")","v":""},{"$f":"IFERROR((#REF!/#REF!)*100,\"\")","v":""},{"$f":"IFERROR((#REF!/#REF!)*100,\"\")","v":""},{"$f":"IFERROR((#REF!/#REF!)*100,\"\")","v":""}]
[null,{"$f":"IFERROR(VLOOKUP($C46,#REF!,3,FALSE),\"\")","v":""},null,null,null,null,"","",{"$f":"IFERROR((#REF!/#REF!)*100,\"\")","v":""},{"$f":"IFERROR((#REF!/#REF!)*100,\"\")","v":""},{"$f":"IFERROR((#REF!/#REF!)*100,\"\")","v":""},{"$f":"IFERROR((#REF!/#REF!)*100,\"\")","v":""}]
[null,{"$f":"IFERROR(VLOOKUP($C47,#REF!,3,FALSE),\"\")","v":""},null,null,null,null,"","",{"$f":"IFERROR((#REF!/#REF!)*100,\"\")","v":""},{"$f":"IFERROR((#REF!/#REF!)*100,\"\")","v":""},{"$f":"IFERROR((#REF!/#REF!)*100,\"\")","v":""},{"$f":"IFERROR((#REF!/#REF!)*100,\"\")","v":""}]
[]
[]
[null,"PRINCIPALES ACCIONES REALIZADAS CON RECURSOS DE ORIGEN FEDERAL: "]
[null,"124 004 P002-Promoción Integral para el Cumplimiento de los Derechos Humanos;  A través de la Obra por Administración se realizaron  los trabajos en la repartición de agua potable a través de los camiones tipo Pipas, con un acumulado de 1,501,885.00 m3 en las siguientes garzas:  \n1. GARZA HUIPULCO. En las siguientes colonias: 3 de Mayo, Achichipilco, Ahuacatitla, Altos Tepetlica, Amalillo, Ampliación Ayocatitla, Ampliación Guadalupana, Ampliación la Magdalena Petlacalco, Ampliación la Venta, Ampliación Lomas de Texcalatlaco, Ampliación Oriente, Ampliación Parres, Ampliación Plan de Ayala, Ampliación Tezontitla, Arenal, Atocpa, Ayocatitla, Ayometitla, Bosques de Tepeximilpa, Colinas de Tepuente, Colonial del Valle, Cuanejaque, Cuauhtenco, Diamante, Dolores Tlalli, Ejidos de San Pedro Mártir, El Arenal Tlahuepa, El Calvario, El Cantil, El Divisadero, El Mirador, Encinos del Pedregal, Estrella Mora, Fuentes de Tepepan, Héroes de 1910, Huinisco, Ixtlahuaca, Izpangologuia, Jardines de San Juan, La Concepción, La Faja, La Guadalupana, La Joyita, La Libertad, La Palma, La Pedrera, La Presa, La Quinta, La Venta, Las Flores, Las Margaritas, Lomas de Tepuente, Lomas de Texcalatlaco, Lomas del Capulín, Los Ángeles, Los Arcos, Los Volcanes, Magdalena Petlacalco, Magueyera, Mesa los Hornos, Miguel Hidalgo 1a Secc., Mirador del Colibrí, Nueva Renacimiento de Axalco, Ocotes Parres, Ocotla, Oyameyo, Paraje Huinizco, Paraje La Cima, Paraje La Herradura, Paraje las Maravillas, Paraje Tenancatitla, Paraje Tlaquexpa, Parres El Guarda, Pedregal de Aminco, Pedregal de las Águilas, Piedra Larga, Plan de Ayala, Plan de Ayala 2a Secc. (Ampliación), Progreso Tlalpan, San Andrés Totoltepec, San Bartolo el Chico, San Buenaventura (Pueblo San Andrés Totoltepec), San Miguel Ajusco, San Miguel Tehuizco, San Miguel Topilejo, San Miguel Toxiac, San Miguel Xicalco, San Pedro Mártir, Santa Ana, Santa Cruz, Santa Úrsula Xitla, Santo Tomás Ajusco, Tepetitla, Tepetlica, Teposanes, Tepuente, Tetexaloca, Tezontitla, Tlaxopan, Tlaxopan Norte, U.H. Hueytlalpan, Valle Verde, Vista Hermosa, Vistas Del Valle, Viveros de Coatectlan, Viveros de Cuernavaca, Xaltipac, Xaxalco, Xilinimoco.  Acumulado x Garza  374,540.00m3.\n2. GARZA FLACSO. En las siguientes colonias: 2 de Octubre, Achichipilco, Ampliación la Venta, Ampliación Miguel Hidalgo, Belvedere, Bosques, Bosques del Pedregal, Chichicaspatl, Chimilli, Cruz del Farol, Cuchilla de Padierna, Cuilotepec, Cuilotepec II, Cultura Maya, Ejidos de San Andrés, Ejidos de San Andrés Totoltepec, El Mirador, Estación la Venta, Héroes de 1910, Héroes de Padierna, Jardines de San Juan, La Joya (Ajusco), La Magueyera, La Quinta, La Venta, Lomas de Cuilotepec, Lomas de Padierna, Lomas de Padierna II, Lomas de Padierna Sur, Lomas de Tepemecatl, Lomas de Texcalatlaco, Lomas del Capulín, Lomas del Pedregal, Lomas Hidalgo, Los Encinos, Miguel Hidalgo 1a Secc., Miguel Hidalgo 2a Secc., Miguel Hidalgo 3a Secc., Miguel Hidalgo 4a. Secc., Mirador 1a Secc., Mirador 2a Secc., Mirador 3a Secc., Mirador I, Mirador II, Paraje 38, Paraje del Conejo, Paraje la Herradura, Paraje la Joya, Pedregal de San Nicolás, Primavera, San Miguel Ajusco, San Miguel Tehuizco, San Miguel Toxiac, San Nicolás II, Santa Cruz, Santo Tomas Ajusco, Tequimila, Torres de Padierna, Vistas del Pedregal, Zacatón, Zorros Solidaridad. Acumulado x Garza 403,948.00 m3.\n3. GARZA POZO XOCHIMILCO 30. En las siguientes colonias:2 de Octubre, 3 de Mayo, 3 de Mayo (Ampliación), Achichipilco, Ahuacatitla, Altos Tepetlica, Amalillo, Ampliación Ayocatitla, Ampliacion Guadalupana, Ampliación la Venta, Ampliación Lomas de Texcalatlaco, Ampliación los Ángeles, Ampliación Oriente, Ampliación Parres, Ampliación Plan de Ayala, Arenal, Atocpa, Ayocatitla, Ayometitla, Colonial del Valle, Cuanejaque, Diamante, Dolores Tlalli, El Calvario, El Divisadero, El Mirador, Estrella Mora, Fuentes de Tepepan, Huinisco, Ixtlahuaca, Izpangologuia, Jardines de San Juan, La Concepción, La Faja, La Guadalupana, La Joya, La Joya (Ajusco), La Joyita, La Libertad, La Magueyera, La Palma, La Pedrera, La Venta, Las Flores, Las Margaritas, Lomas de Coatectlan, Lomas de Tepuente, Lomas de Texcalatlaco, Lomas del Capulín, Los Ángeles, Los Volcanes, Magdalena Petlacalco, Magueyera, María Esther Zuno de Echeverría, Mesa los Hornos, Mirador del Colibrí, Mirador del Valle, Mirador del Valle(Pueblo de la Magdalena Petlacalco), Nueva Renacimiento de Axalco, Ocotes Parres, Ocotla, Oyameyo, Paraje Huinizco, Paraje la Cima, Paraje la Herradura, Paraje las Maravillas, Paraje Loloigque, Paraje Texcalatlaco, Paraje Tlaquexpa, Parajes: La Joya, La Magueyera, La Faja, La Joyita y La Pedrera, Parres el Guarda, Pedregal de Aminco, Pedregal del Topilejo, Piedra Larga, Plan de Ayala, San Andrés Totoltepec, San Miguel Ajusco, San Miguel Tehuizco, San Miguel Topilejo, San Miguel Toxiac, San Miguel Xicalco, San Pedro Mártir, Santa Cruz, Santa Úrsula Xitla, Santo Tomás Ajusco, Tecorral, Tepetitla, Tepetlica, Tepuente, Tezontitla, Tlalcoligia, Tlalpan Centro 1, Tlaxopan, U.H. Hueytlalpan, Valle Verde, Vista Hermosa, Vistas del Valle, Viveros de Coatectlan, Xaltipac, Xaxalco, Xaxalipac. Acumulado x Garza 351,248.00 m3.\n4. GARZA TULYEHUALCO 13. En las siguientes colonias: 2 de Octubre, 3 de Mayo, 3 de Mayo (Ampliación), Achichipilco, Achichipisco, Ahuacatitla, Altos , epetlica, Amalillo, Ampliación Ayocatitla, Ampliación Guadalupana, Ampliación la Magdalena Petlacalco, Ampliación Lomas de Texcalatlaco, Ampliación Oriente, Ampliación Parres, Ampliación Plan de Ayala, Ampliación Tezontitla, Arenal, Atocpa, Ayocatitla, Ayometitla, Buenavista, Colonial del Valle, Cuanejaque, Cuauhtenco, Diamante, Dolores Tlalli, El Divisadero, El Mirador, Encinos del Pedregal, Huinisco, Jardines de San Juan, La Concepción, La Faja, La Fama, La Guadalupana, La Joyita, La Libertad, La Magueyera, La Palma, La Palma 1a Secc., La Venta, Las Flores, Las Margaritas, Lomas de Coatectlan, Lomas de Tepuente, Lomas de Texcalatlaco, Lomas del Capulín, Los Ángeles, Magdalena Petlacalco, Magueyera, María Esther Zuno de Echeverría, Mesa los Hornos, Mirador del Colibrí, Nueva Renacimiento de Axalco, Ocotla, Paraje Huinizco, Paraje la Raíz, Paraje las Maravillas, Paraje Loloigque, Paraje Tlaquexpa, Parres el Guarda, Pedregal de San Francisco, Pedregal de Santa Úrsula Xitla, Pepeloncoztla, Piedra Larga, Plan de Ayala, Progreso Tlalpan, Rinconada El Mirador, San Andrés Totoltepec, San Miguel Ajusco, San Miguel Tehuizco, San Miguel Topilejo, San Miguel Toxiac, San Miguel Xicalco, San Pedro Mártir, Santa Ana, Santa Cruz, Tepetlica, Teposanes, Tepuente, Tetecala, Tetexaloca, Tezontitla, Tlalpan Centro 1, Tlalpuente, Tlaxopan, U.H. Hueytlalpan, Valle Verde, Vista Hermosa, Vistas del Valle, Viveros de Coatectlan, Xacaltitla, Xaltipac, Xaxalco, Xaxalipac, Xilinimoco. Acumulado x Garza 313,085.00 m3.\n5.-GARZA TORIELLO GUERRA : 2 de Octubre, Bosques del Pedregal, Chichicaspatl, Héroes de Padierna, Jardines de San Juan, Lomas de Cuilotepec, San Miguel Ajusco, San Nicolás II, Santo Tomás Ajusco, Zacatón, Zorros Solidaridad.\nAcumulado x Garza 59,064.00 m3",null,null,null,null,null,null,null,null,null,null,null,null,null,null,null,null,null,null,null,null,null,null,null,{"$f":"246922+266900+234648+204048+38393","v":990911}]
[]
[]
[]
[]
[]
[]
["\nAl periodo y por instrucción  de la Dirección de Administración se llevan a acabo los trabajos de Repartición de Agua Potable atavés de los camiones tipo pipas, en el programa presupuestario Promoción Integral para el Cumplimiento de los Derechos Humanos, en los cuales se adicionaron recursos debido a que el monto orginal fué insuficiente para atender la demanda ciudadana por la pandemia del COVID-19, por lo que cuenta con 4 fondos los cuales son: NO ETIQUETADO RECURSOS FISCALES-FISCALES-FISCALES-2021-ORIGINAL DE LA URG, NO ETIQUETADO RECURSOS FEDERALES-PARTICIPACIONES A ENTIDADES FEDERATIVAS Y MUNICIPIOS-FONDO GENERAL DE PARTICIPACIONES-2021-ORIGINAL DE LA URG, NO ETIQUETADO RECURSOS FEDERALES-PARTICIPACIONES A ENTIDADES FEDERATIVAS Y MUNICIPIOS-PARTICIPACIONES A LA VENTA FINAL DE GASOLINA Y DIESEL-2022-ORIGINAL DE LA URG  (15O610) y FORTAMUN en este último se verá reflejada la meta ejecutada."]
["221 049 E124-Se autorizaron recursos de la partida 2611 para la compra de Combustible,lubricantes y aditivos la cual es una partida centralizada; En este programa presupuestal no se reflejará meta realizada a través de la Obra por Administración, la cual se realziará en su totalidad en el Fondo Participaciones Federales 15O210..\n"]
[null,"223 202 K014-Se autorizaron recursos de la partida 2611 para la compra de Combustible,lubricantes y aditivos y 2961 para la compra de Refacciones y accesorios de equipo de transporte, las cuales son partidas centralizadas; En este programa presupuestal no se reflejará meta realizada la cual se llevará en el Fondo Participaciones Federales 15O410 para los trabajos de Mantenimiento y rehabilitación de Agua Potable, Drenaje y Desazolve."]
[null,"221 274 K016-Se autorizaron recursos que refieren al capítulo 2000 partidas 2411 mezcla asfáltica, 2421 compra de cemento, 2511 productos químicos,  los cuales son apoyo para la meta que se ve refeljada en el fondo 15OC10 para la atención de mantenimiento a la infraestructura pública (Edificios Públicos).\nPor otro lado a través de la Obra por contrato se aperturó el proyecto denominado: Pavimentación asfáltica de todas las calles del Pueblo de San Miguel Topilejo con clave 12-157, con recursos del Presupuesto Participativo DG:65 el cual cuenta con 2 fondos de financiamiento el cual es Fiscales será complemento a la meta ejecutada en este fondo."]

{"sheet":"AP_RF FORTAMUN 25P114","index":5,"n_rows":58,"n_cols":12,"rows_kept":58,"cut":false,"hidden":false,"merged":[[1,1,1,11],[2,1,2,11],[4,1,4,4],[4,5,4,11],[5,1,5,4],[5,5,5,11],[50,1,54,11],[57,1,57,12],[58,1,58,12],[7,1,7,4],[7,5,7,11],[9,1,9,11],[10,1,10,7],[10,8,10,11],[49,1,49,11]]}
[]
[null,"AP-RF  AVANCE PRESUPUESTAL DE RECURSOS DE ORIGEN FEDERAL"]
[null,"FONDO, CONVENIO, SUBSIDIO O PARTICIPACIÓN: (1)"]
[]
[null,"Unidad Responsable de Gasto:",null,null,null,"DIRECCIÓN GENERAL DE OBRAS Y DESARROLLO URBANO"]
[null,"Período:",null,null,null,"Enero-Diciembre 2021"]
[]
[null,"FONDO",null,null,null,"PARTICIPACIONES A ENTIDADES FEDERATIVAS Y MUNICIPIOS (15OZ04)"]
[]
[null,"R      E      S      U      L      T      A      D      O      S"]
[null,"PRESUPUESTO\n(Pesos con dos decimales)",null,null,null,null,null,null,"AVANCE\n%"]
[null,"APROBADO\n","MODIFICADO\n","PROGRAMADO\n","SALDO DEL \nCOMPROMISO","DEVENGADO\n","EJERCIDO\n","PAGADO\n","(DEVENGADO / APROBADO)*100\n","(DEVENGADO / MODIFICADO)*100\n","(EJERCIDO / APROBADO)*100\n","(EJERCIDO / MODIFICADO)*100\n"]
[null,0,{"$f":"14200+17421.14","v":31621.14},{"$f":"14200+17421.14","v":31621.14},{"$f":"14200+17421.14","v":31621.14},{"$f":"14200+17421.14","v":31621.14},0,0,0,{"$f":"IFERROR(($F13/$B13)*100,\"\")","v":""},{"$f":"IFERROR(($G13/$B13)*100,\"\")","v":""},{"$f":"IFERROR(($G13/$C13)*100,\"\")","v":0}]
[]
[null,null,null,null,null,null,null,null,{"$f":"IFERROR((#REF!/#REF!)*100,\"\")","v":""},{"$f":"IFERROR((#REF!/#REF!)*100,\"\")","v":""},{"$f":"IFERROR((#REF!/#REF!)*100,\"\")","v":""},{"$f":"IFERROR((#REF!/#REF!)*100,\"\")","v":""}]
[null,null,null,null,null,null,null,null,{"$f":"IFERROR((#REF!/#REF!)*100,\"\")","v":""},{"$f":"IFERROR((#REF!/#REF!)*100,\"\")","v":""},{"$f":"IFERROR((#REF!/#REF!)*100,\"\")","v":""},{"$f":"IFERROR((#REF!/#REF!)*100,\"\")","v":""}]
[null,{"$f":"IFERROR(VLOOKUP($C17,#REF!,3,FALSE),\"\")","v":""},null,null,null,null,{"$f":"IFERROR(F17/C17,\"\")","v":""},{"$f":"IFERROR((F17/D17*100),\"\")","v":""},{"$f":"IFERROR((#REF!/#REF!)*100,\"\")","v":""},{"$f":"IFERROR((#REF!/#REF!)*100,\"\")","v":""},{"$f":"IFERROR((#REF!/#REF!)*100,\"\")","v":""},{"$f":"IFERROR((#REF!/#REF!)*100,\"\")","v":""}]
[null,{"$f":"IFERROR(VLOOKUP($C18,#REF!,3,FALSE),\"\")","v":""},null,null,null,null,"","",{"$f":"IFERROR((#REF!/#REF!)*100,\"\")","v":""},{"$f":"IFERROR((#REF!/#REF!)*100,\"\")","v":""},{"$f":"IFERROR((#REF!/#REF!)*100,\"\")","v":""},{"$f":"IFERROR((#REF!/#REF!)*100,\"\")","v":""}]
[null,{"$f":"IFERROR(VLOOKUP($C19,#REF!,3,FALSE),\"\")","v":""},null,null,null,null,"","",{"$f":"IFERROR((#REF!/#REF!)*100,\"\")","v":""},{"$f":"IFERROR((#REF!/#REF!)*100,\"\")","v":""},{"$f":"IFERROR((#REF!/#REF!)*100,\"\")","v":""},{"$f":"IFERROR((#REF!/#REF!)*100,\"\")","v":""}]
[null,{"$f":"IFERROR(VLOOKUP($C20,#REF!,3,FALSE),\"\")","v":""},null,null,null,null,"","",{"$f":"IFERROR((#REF!/#REF!)*100,\"\")","v":""},{"$f":"IFERROR((#REF!/#REF!)*100,\"\")","v":""},{"$f":"IFERROR((#REF!/#REF!)*100,\"\")","v":""},{"$f":"IFERROR((#REF!/#REF!)*100,\"\")","v":""}]
[null,{"$f":"IFERROR(VLOOKUP($C21,#REF!,3,FALSE),\"\")","v":""},null,null,null,null,"","",{"$f":"IFERROR((#REF!/#REF!)*100,\"\")","v":""},{"$f":"IFERROR((#REF!/#REF!)*100,\"\")","v":""},{"$f":"IFERROR((#REF!/#REF!)*100,\"\")","v":""},{"$f":"IFERROR((#REF!/#REF!)*100,\"\")","v":""}]
[null,{"$f":"IFERROR(VLOOKUP($C22,#REF!,3,FALSE),\"\")","v":""},null,null,null,null,"","",{"$f":"IFERROR((#REF!/#REF!)*100,\"\")","v":""},{"$f":"IFERROR((#REF!/#REF!)*100,\"\")","v":""},{"$f":"IFERROR((#REF!/#REF!)*100,\"\")","v":""},{"$f":"IFERROR((#REF!/#REF!)*100,\"\")","v":""}]
[null,{"$f":"IFERROR(VLOOKUP($C23,#REF!,3,FALSE),\"\")","v":""},null,null,null,null,"","",{"$f":"IFERROR((#REF!/#REF!)*100,\"\")","v":""},{"$f":"IFERROR((#REF!/#REF!)*100,\"\")","v":""},{"$f":"IFERROR((#REF!/#REF!)*100,\"\")","v":""},{"$f":"IFERROR((#REF!/#REF!)*100,\"\")","v":""}]
[null,{"$f":"IFERROR(VLOOKUP($C24,#REF!,3,FALSE),\"\")","v":""},null,null,null,null,"","",{"$f":"IFERROR((#REF!/#REF!)*100,\"\")","v":""},{"$f":"IFERROR((#REF!/#REF!)*100,\"\")","v":""},{"$f":"IFERROR((#REF!/#REF!)*100,\"\")","v":""},{"$f":"IFERROR((#REF!/#REF!)*100,\"\")","v":""}]
[null,{"$f":"IFERROR(VLOOKUP($C25,#REF!,3,FALSE),\"\")","v":""},null,null,null,null,"","",{"$f":"IFERROR((#REF!/#REF!)*100,\"\")","v":""},{"$f":"IFERROR((#REF!/#REF!)*100,\"\")","v":""},{"$f":"IFERROR((#REF!/#REF!)*100,\"\")","v":""},{"$f":"IFERROR((#REF!/#REF!)*100,\"\")","v":""}]
[null,{"$f":"IFERROR(VLOOKUP($C26,#REF!,3,FALSE),\"\")","v":""},null,null,null,null,"","",{"$f":"IFERROR((#REF!/#REF!)*100,\"\")","v":""},{"$f":"IFERROR((#REF!/#REF!)*100,\"\")","v":""},{"$f":"IFERROR((#REF!/#REF!)*100,\"\")","v":""},{"$f":"IFERROR((#REF!/#REF!)*100,\"\")","v":""}]
[null,{"$f":"IFERROR(VLOOKUP($C27,#REF!,3,FALSE),\"\")","v":""},null,null,null,null,"","",{"$f":"IFERROR((#REF!/#REF!)*100,\"\")","v":""},{"$f":"IFERROR((#REF!/#REF!)*100,\"\")","v":""},{"$f":"IFERROR((#REF!/#REF!)*100,\"\")","v":""},{"$f":"IFERROR((#REF!/#REF!)*100,\"\")","v":""}]
[null,{"$f":"IFERROR(VLOOKUP($C28,#REF!,3,FALSE),\"\")","v":""},null,null,null,null,"","",{"$f":"IFERROR((#REF!/#REF!)*100,\"\")","v":""},{"$f":"IFERROR((#REF!/#REF!)*100,\"\")","v":""},{"$f":"IFERROR((#REF!/#REF!)*100,\"\")","v":""},{"$f":"IFERROR((#REF!/#REF!)*100,\"\")","v":""}]
[null,{"$f":"IFERROR(VLOOKUP($C29,#REF!,3,FALSE),\"\")","v":""},null,null,null,null,"","",{"$f":"IFERROR((#REF!/#REF!)*100,\"\")","v":""},{"$f":"IFERROR((#REF!/#REF!)*100,\"\")","v":""},{"$f":"IFERROR((#REF!/#REF!)*100,\"\")","v":""},{"$f":"IFERROR((#REF!/#REF!)*100,\"\")","v":""}]
[null,{"$f":"IFERROR(VLOOKUP($C30,#REF!,3,FALSE),\"\")","v":""},null,null,null,null,"","",{"$f":"IFERROR((#REF!/#REF!)*100,\"\")","v":""},{"$f":"IFERROR((#REF!/#REF!)*100,\"\")","v":""},{"$f":"IFERROR((#REF!/#REF!)*100,\"\")","v":""},{"$f":"IFERROR((#REF!/#REF!)*100,\"\")","v":""}]
[null,{"$f":"IFERROR(VLOOKUP($C31,#REF!,3,FALSE),\"\")","v":""},null,null,null,null,"","",{"$f":"IFERROR((#REF!/#REF!)*100,\"\")","v":""},{"$f":"IFERROR((#REF!/#REF!)*100,\"\")","v":""},{"$f":"IFERROR((#REF!/#REF!)*100,\"\")","v":""},{"$f":"IFERROR((#REF!/#REF!)*100,\"\")","v":""}]
[null,{"$f":"IFERROR(VLOOKUP($C32,#REF!,3,FALSE),\"\")","v":""},null,null,null,null,"","",{"$f":"IFERROR((#REF!/#REF!)*100,\"\")","v":""},{"$f":"IFERROR((#REF!/#REF!)*100,\"\")","v":""},{"$f":"IFERROR((#REF!/#REF!)*100,\"\")","v":""},{"$f":"IFERROR((#REF!/#REF!)*100,\"\")","v":""}]
[null,{"$f":"IFERROR(VLOOKUP($C33,#REF!,3,FALSE),\"\")","v":""},null,null,null,null,"","",{"$f":"IFERROR((#REF!/#REF!)*100,\"\")","v":""},{"$f":"IFERROR((#REF!/#REF!)*100,\"\")","v":""},{"$f":"IFERROR((#REF!/#REF!)*100,\"\")","v":""},{"$f":"IFERROR((#REF!/#REF!)*100,\"\")","v":""}]
[null,{"$f":"IFERROR(VLOOKUP($C34,#REF!,3,FALSE),\"\")","v":""},null,null,null,null,"","",{"$f":"IFERROR((#REF!/#REF!)*100,\"\")","v":""},{"$f":"IFERROR((#REF!/#REF!)*100,\"\")","v":""},{"$f":"IFERROR((#REF!/#REF!)*100,\"\")","v":""},{"$f":"IFERROR((#REF!/#REF!)*100,\"\")","v":""}]
[null,{"$f":"IFERROR(VLOOKUP($C35,#REF!,3,FALSE),\"\")","v":""},null,null,null,null,"","",{"$f":"IFERROR((#REF!/#REF!)*100,\"\")","v":""},{"$f":"IFERROR((#REF!/#REF!)*100,\"\")","v":""},{"$f":"IFERROR((#REF!/#REF!)*100,\"\")","v":""},{"$f":"IFERROR((#REF!/#REF!)*100,\"\")","v":""}]
[null,{"$f":"IFERROR(VLOOKUP($C36,#REF!,3,FALSE),\"\")","v":""},null,null,null,null,"","",{"$f":"IFERROR((#REF!/#REF!)*100,\"\")","v":""},{"$f":"IFERROR((#REF!/#REF!)*100,\"\")","v":""},{"$f":"IFERROR((#REF!/#REF!)*100,\"\")","v":""},{"$f":"IFERROR((#REF!/#REF!)*100,\"\")","v":""}]
[null,{"$f":"IFERROR(VLOOKUP($C37,#REF!,3,FALSE),\"\")","v":""},null,null,null,null,"","",{"$f":"IFERROR((#REF!/#REF!)*100,\"\")","v":""},{"$f":"IFERROR((#REF!/#REF!)*100,\"\")","v":""},{"$f":"IFERROR((#REF!/#REF!)*100,\"\")","v":""},{"$f":"IFERROR((#REF!/#REF!)*100,\"\")","v":""}]
[null,{"$f":"IFERROR(VLOOKUP($C38,#REF!,3,FALSE),\"\")","v":""},null,null,null,null,"","",{"$f":"IFERROR((#REF!/#REF!)*100,\"\")","v":""},{"$f":"IFERROR((#REF!/#REF!)*100,\"\")","v":""},{"$f":"IFERROR((#REF!/#REF!)*100,\"\")","v":""},{"$f":"IFERROR((#REF!/#REF!)*100,\"\")","v":""}]
[null,{"$f":"IFERROR(VLOOKUP($C39,#REF!,3,FALSE),\"\")","v":""},null,null,null,null,"","",{"$f":"IFERROR((#REF!/#REF!)*100,\"\")","v":""},{"$f":"IFERROR((#REF!/#REF!)*100,\"\")","v":""},{"$f":"IFERROR((#REF!/#REF!)*100,\"\")","v":""},{"$f":"IFERROR((#REF!/#REF!)*100,\"\")","v":""}]
[null,{"$f":"IFERROR(VLOOKUP($C40,#REF!,3,FALSE),\"\")","v":""},null,null,null,null,"","",{"$f":"IFERROR((#REF!/#REF!)*100,\"\")","v":""},{"$f":"IFERROR((#REF!/#REF!)*100,\"\")","v":""},{"$f":"IFERROR((#REF!/#REF!)*100,\"\")","v":""},{"$f":"IFERROR((#REF!/#REF!)*100,\"\")","v":""}]
[null,{"$f":"IFERROR(VLOOKUP($C41,#REF!,3,FALSE),\"\")","v":""},null,null,null,null,"","",{"$f":"IFERROR((#REF!/#REF!)*100,\"\")","v":""},{"$f":"IFERROR((#REF!/#REF!)*100,\"\")","v":""},{"$f":"IFERROR((#REF!/#REF!)*100,\"\")","v":""},{"$f":"IFERROR((#REF!/#REF!)*100,\"\")","v":""}]
[null,{"$f":"IFERROR(VLOOKUP($C42,#REF!,3,FALSE),\"\")","v":""},null,null,null,null,"","",{"$f":"IFERROR((#REF!/#REF!)*100,\"\")","v":""},{"$f":"IFERROR((#REF!/#REF!)*100,\"\")","v":""},{"$f":"IFERROR((#REF!/#REF!)*100,\"\")","v":""},{"$f":"IFERROR((#REF!/#REF!)*100,\"\")","v":""}]
[null,{"$f":"IFERROR(VLOOKUP($C43,#REF!,3,FALSE),\"\")","v":""},null,null,null,null,"","",{"$f":"IFERROR((#REF!/#REF!)*100,\"\")","v":""},{"$f":"IFERROR((#REF!/#REF!)*100,\"\")","v":""},{"$f":"IFERROR((#REF!/#REF!)*100,\"\")","v":""},{"$f":"IFERROR((#REF!/#REF!)*100,\"\")","v":""}]
[null,{"$f":"IFERROR(VLOOKUP($C44,#REF!,3,FALSE),\"\")","v":""},null,null,null,null,"","",{"$f":"IFERROR((#REF!/#REF!)*100,\"\")","v":""},{"$f":"IFERROR((#REF!/#REF!)*100,\"\")","v":""},{"$f":"IFERROR((#REF!/#REF!)*100,\"\")","v":""},{"$f":"IFERROR((#REF!/#REF!)*100,\"\")","v":""}]
[null,{"$f":"IFERROR(VLOOKUP($C45,#REF!,3,FALSE),\"\")","v":""},null,null,null,null,"","",{"$f":"IFERROR((#REF!/#REF!)*100,\"\")","v":""},{"$f":"IFERROR((#REF!/#REF!)*100,\"\")","v":""},{"$f":"IFERROR((#REF!/#REF!)*100,\"\")","v":""},{"$f":"IFERROR((#REF!/#REF!)*100,\"\")","v":""}]
[null,{"$f":"IFERROR(VLOOKUP($C46,#REF!,3,FALSE),\"\")","v":""},null,null,null,null,"","",{"$f":"IFERROR((#REF!/#REF!)*100,\"\")","v":""},{"$f":"IFERROR((#REF!/#REF!)*100,\"\")","v":""},{"$f":"IFERROR((#REF!/#REF!)*100,\"\")","v":""},{"$f":"IFERROR((#REF!/#REF!)*100,\"\")","v":""}]
[null,{"$f":"IFERROR(VLOOKUP($C47,#REF!,3,FALSE),\"\")","v":""},null,null,null,null,"","",{"$f":"IFERROR((#REF!/#REF!)*100,\"\")","v":""},{"$f":"IFERROR((#REF!/#REF!)*100,\"\")","v":""},{"$f":"IFERROR((#REF!/#REF!)*100,\"\")","v":""},{"$f":"IFERROR((#REF!/#REF!)*100,\"\")","v":""}]
[]
[]
[null,"PRINCIPALES ACCIONES REALIZADAS CON RECURSOS DE ORIGEN FEDERAL: "]
[null,"Al periodo no hay acciones realizadas"]
[]
[]
[]
[]
[]
[]
[null,"221 274 K016-A través de la Obra por Administración se adicionan  recusros del capítulo 2000,  debido a que los de origen fueron insuficientes para realizar los trabajos  de Matnimiento a diferentes tipos de inmuebles Públicos, las partidas autorizadas son: artículos para la construcción, material de limpieza la cual no pertenece a la DGODU, la meta ejecutada se verá reflejada en el fondo NO ETIQUETADO RECURSOS FEDERALES-PARTICIPACIONES A ENTIDADES FEDERATIVAS Y MUNICIPIOS-FONDO DE COMPENSACIÓN DEL IMPUESTO DE AUTOMÓVILES NUEVOS (ISAN) -2022-ORIGINAL DE LA URG (15OC10), ya que estos recursos son complemento."]

{"sheet":"AP_RF FAFEF 25P212","index":6,"n_rows":57,"n_cols":12,"rows_kept":57,"cut":false,"hidden":false,"merged":[[1,1,1,11],[2,1,2,11],[4,1,4,4],[4,5,4,11],[5,1,5,4],[5,5,5,11],[56,1,56,12],[7,1,7,4],[7,5,7,11],[9,1,9,11],[10,1,10,7],[10,8,10,11],[49,1,49,11],[50,1,50,11],[51,2,51,11],[52,2,52,11],[53,2,53,11],[54,2,54,11]]}
[]
[null,"AP-RF  AVANCE PRESUPUESTAL DE RECURSOS DE ORIGEN FEDERAL"]
[null,"FONDO, CONVENIO, SUBSIDIO O PARTICIPACIÓN: (1)"]
[]
[null,"Unidad Responsable de Gasto:",null,null,null,"DIRECCIÓN GENERAL DE OBRAS Y DESARROLLO URBANO"]
[null,"Período:",null,null,null,"Enero-Diciembre 2021"]
[]
[null,"FONDO",null,null,null,"ETIQUETADO RECURSOS FEDERALES-APORTACIONES FEDERALES PARA ENTIDADES FEDERATIVAS Y MUNICIPIOS-FONDO DE APORTACIONES PARA EL FORTALECIMIENTO DE LAS ENTIDADES FEDERATIVAS (FAFEF)-2021-ORIGINAL DE LA URG"]
[]
[null,"R      E      S      U      L      T      A      D      O      S"]
[null,"PRESUPUESTO\n(Pesos con dos decimales)",null,null,null,null,null,null,"AVANCE\n%"]
[null,"APROBADO\n","MODIFICADO\n","PROGRAMADO\n","SALDO DEL \nCOMPROMISO","DEVENGADO\n","EJERCIDO\n","PAGADO\n","(DEVENGADO / APROBADO)*100\n","(DEVENGADO / MODIFICADO)*100\n","(EJERCIDO / APROBADO)*100\n","(EJERCIDO / MODIFICADO)*100\n"]
[null,0,9124485,8110653.3399999999,8110653.3399999999,8110653.3399999999,5040531.67,0,0,0,0,{"$f":"IFERROR(($G13/$C13)*100,\"\")","v":55.241820990444936}]
[]
[null,null,null,null,null,null,null,null,{"$f":"IFERROR((#REF!/#REF!)*100,\"\")","v":""},{"$f":"IFERROR((#REF!/#REF!)*100,\"\")","v":""},{"$f":"IFERROR((#REF!/#REF!)*100,\"\")","v":""},{"$f":"IFERROR((#REF!/#REF!)*100,\"\")","v":""}]
[null,null,null,null,null,null,null,null,{"$f":"IFERROR((#REF!/#REF!)*100,\"\")","v":""},{"$f":"IFERROR((#REF!/#REF!)*100,\"\")","v":""},{"$f":"IFERROR((#REF!/#REF!)*100,\"\")","v":""},{"$f":"IFERROR((#REF!/#REF!)*100,\"\")","v":""}]
[null,{"$f":"IFERROR(VLOOKUP($C17,#REF!,3,FALSE),\"\")","v":""},null,null,null,null,{"$f":"IFERROR(F17/C17,\"\")","v":""},{"$f":"IFERROR((F17/D17*100),\"\")","v":""},{"$f":"IFERROR((#REF!/#REF!)*100,\"\")","v":""},{"$f":"IFERROR((#REF!/#REF!)*100,\"\")","v":""},{"$f":"IFERROR((#REF!/#REF!)*100,\"\")","v":""},{"$f":"IFERROR((#REF!/#REF!)*100,\"\")","v":""}]
[null,{"$f":"IFERROR(VLOOKUP($C18,#REF!,3,FALSE),\"\")","v":""},null,null,null,null,"","",{"$f":"IFERROR((#REF!/#REF!)*100,\"\")","v":""},{"$f":"IFERROR((#REF!/#REF!)*100,\"\")","v":""},{"$f":"IFERROR((#REF!/#REF!)*100,\"\")","v":""},{"$f":"IFERROR((#REF!/#REF!)*100,\"\")","v":""}]
[null,{"$f":"IFERROR(VLOOKUP($C19,#REF!,3,FALSE),\"\")","v":""},null,null,null,null,"","",{"$f":"IFERROR((#REF!/#REF!)*100,\"\")","v":""},{"$f":"IFERROR((#REF!/#REF!)*100,\"\")","v":""},{"$f":"IFERROR((#REF!/#REF!)*100,\"\")","v":""},{"$f":"IFERROR((#REF!/#REF!)*100,\"\")","v":""}]
[null,{"$f":"IFERROR(VLOOKUP($C20,#REF!,3,FALSE),\"\")","v":""},null,null,null,null,"","",{"$f":"IFERROR((#REF!/#REF!)*100,\"\")","v":""},{"$f":"IFERROR((#REF!/#REF!)*100,\"\")","v":""},{"$f":"IFERROR((#REF!/#REF!)*100,\"\")","v":""},{"$f":"IFERROR((#REF!/#REF!)*100,\"\")","v":""}]
[null,{"$f":"IFERROR(VLOOKUP($C21,#REF!,3,FALSE),\"\")","v":""},null,null,null,null,"","",{"$f":"IFERROR((#REF!/#REF!)*100,\"\")","v":""},{"$f":"IFERROR((#REF!/#REF!)*100,\"\")","v":""},{"$f":"IFERROR((#REF!/#REF!)*100,\"\")","v":""},{"$f":"IFERROR((#REF!/#REF!)*100,\"\")","v":""}]
[null,{"$f":"IFERROR(VLOOKUP($C22,#REF!,3,FALSE),\"\")","v":""},null,null,null,null,"","",{"$f":"IFERROR((#REF!/#REF!)*100,\"\")","v":""},{"$f":"IFERROR((#REF!/#REF!)*100,\"\")","v":""},{"$f":"IFERROR((#REF!/#REF!)*100,\"\")","v":""},{"$f":"IFERROR((#REF!/#REF!)*100,\"\")","v":""}]
[null,{"$f":"IFERROR(VLOOKUP($C23,#REF!,3,FALSE),\"\")","v":""},null,null,null,null,"","",{"$f":"IFERROR((#REF!/#REF!)*100,\"\")","v":""},{"$f":"IFERROR((#REF!/#REF!)*100,\"\")","v":""},{"$f":"IFERROR((#REF!/#REF!)*100,\"\")","v":""},{"$f":"IFERROR((#REF!/#REF!)*100,\"\")","v":""}]
[null,{"$f":"IFERROR(VLOOKUP($C24,#REF!,3,FALSE),\"\")","v":""},null,null,null,null,"","",{"$f":"IFERROR((#REF!/#REF!)*100,\"\")","v":""},{"$f":"IFERROR((#REF!/#REF!)*100,\"\")","v":""},{"$f":"IFERROR((#REF!/#REF!)*100,\"\")","v":""},{"$f":"IFERROR((#REF!/#REF!)*100,\"\")","v":""}]
[null,{"$f":"IFERROR(VLOOKUP($C25,#REF!,3,FALSE),\"\")","v":""},null,null,null,null,"","",{"$f":"IFERROR((#REF!/#REF!)*100,\"\")","v":""},{"$f":"IFERROR((#REF!/#REF!)*100,\"\")","v":""},{"$f":"IFERROR((#REF!/#REF!)*100,\"\")","v":""},{"$f":"IFERROR((#REF!/#REF!)*100,\"\")","v":""}]
[null,{"$f":"IFERROR(VLOOKUP($C26,#REF!,3,FALSE),\"\")","v":""},null,null,null,null,"","",{"$f":"IFERROR((#REF!/#REF!)*100,\"\")","v":""},{"$f":"IFERROR((#REF!/#REF!)*100,\"\")","v":""},{"$f":"IFERROR((#REF!/#REF!)*100,\"\")","v":""},{"$f":"IFERROR((#REF!/#REF!)*100,\"\")","v":""}]
[null,{"$f":"IFERROR(VLOOKUP($C27,#REF!,3,FALSE),\"\")","v":""},null,null,null,null,"","",{"$f":"IFERROR((#REF!/#REF!)*100,\"\")","v":""},{"$f":"IFERROR((#REF!/#REF!)*100,\"\")","v":""},{"$f":"IFERROR((#REF!/#REF!)*100,\"\")","v":""},{"$f":"IFERROR((#REF!/#REF!)*100,\"\")","v":""}]
[null,{"$f":"IFERROR(VLOOKUP($C28,#REF!,3,FALSE),\"\")","v":""},null,null,null,null,"","",{"$f":"IFERROR((#REF!/#REF!)*100,\"\")","v":""},{"$f":"IFERROR((#REF!/#REF!)*100,\"\")","v":""},{"$f":"IFERROR((#REF!/#REF!)*100,\"\")","v":""},{"$f":"IFERROR((#REF!/#REF!)*100,\"\")","v":""}]
[null,{"$f":"IFERROR(VLOOKUP($C29,#REF!,3,FALSE),\"\")","v":""},null,null,null,null,"","",{"$f":"IFERROR((#REF!/#REF!)*100,\"\")","v":""},{"$f":"IFERROR((#REF!/#REF!)*100,\"\")","v":""},{"$f":"IFERROR((#REF!/#REF!)*100,\"\")","v":""},{"$f":"IFERROR((#REF!/#REF!)*100,\"\")","v":""}]
[null,{"$f":"IFERROR(VLOOKUP($C30,#REF!,3,FALSE),\"\")","v":""},null,null,null,null,"","",{"$f":"IFERROR((#REF!/#REF!)*100,\"\")","v":""},{"$f":"IFERROR((#REF!/#REF!)*100,\"\")","v":""},{"$f":"IFERROR((#REF!/#REF!)*100,\"\")","v":""},{"$f":"IFERROR((#REF!/#REF!)*100,\"\")","v":""}]
[null,{"$f":"IFERROR(VLOOKUP($C31,#REF!,3,FALSE),\"\")","v":""},null,null,null,null,"","",{"$f":"IFERROR((#REF!/#REF!)*100,\"\")","v":""},{"$f":"IFERROR((#REF!/#REF!)*100,\"\")","v":""},{"$f":"IFERROR((#REF!/#REF!)*100,\"\")","v":""},{"$f":"IFERROR((#REF!/#REF!)*100,\"\")","v":""}]
[null,{"$f":"IFERROR(VLOOKUP($C32,#REF!,3,FALSE),\"\")","v":""},null,null,null,null,"","",{"$f":"IFERROR((#REF!/#REF!)*100,\"\")","v":""},{"$f":"IFERROR((#REF!/#REF!)*100,\"\")","v":""},{"$f":"IFERROR((#REF!/#REF!)*100,\"\")","v":""},{"$f":"IFERROR((#REF!/#REF!)*100,\"\")","v":""}]
[null,{"$f":"IFERROR(VLOOKUP($C33,#REF!,3,FALSE),\"\")","v":""},null,null,null,null,"","",{"$f":"IFERROR((#REF!/#REF!)*100,\"\")","v":""},{"$f":"IFERROR((#REF!/#REF!)*100,\"\")","v":""},{"$f":"IFERROR((#REF!/#REF!)*100,\"\")","v":""},{"$f":"IFERROR((#REF!/#REF!)*100,\"\")","v":""}]
[null,{"$f":"IFERROR(VLOOKUP($C34,#REF!,3,FALSE),\"\")","v":""},null,null,null,null,"","",{"$f":"IFERROR((#REF!/#REF!)*100,\"\")","v":""},{"$f":"IFERROR((#REF!/#REF!)*100,\"\")","v":""},{"$f":"IFERROR((#REF!/#REF!)*100,\"\")","v":""},{"$f":"IFERROR((#REF!/#REF!)*100,\"\")","v":""}]
[null,{"$f":"IFERROR(VLOOKUP($C35,#REF!,3,FALSE),\"\")","v":""},null,null,null,null,"","",{"$f":"IFERROR((#REF!/#REF!)*100,\"\")","v":""},{"$f":"IFERROR((#REF!/#REF!)*100,\"\")","v":""},{"$f":"IFERROR((#REF!/#REF!)*100,\"\")","v":""},{"$f":"IFERROR((#REF!/#REF!)*100,\"\")","v":""}]
[null,{"$f":"IFERROR(VLOOKUP($C36,#REF!,3,FALSE),\"\")","v":""},null,null,null,null,"","",{"$f":"IFERROR((#REF!/#REF!)*100,\"\")","v":""},{"$f":"IFERROR((#REF!/#REF!)*100,\"\")","v":""},{"$f":"IFERROR((#REF!/#REF!)*100,\"\")","v":""},{"$f":"IFERROR((#REF!/#REF!)*100,\"\")","v":""}]
[null,{"$f":"IFERROR(VLOOKUP($C37,#REF!,3,FALSE),\"\")","v":""},null,null,null,null,"","",{"$f":"IFERROR((#REF!/#REF!)*100,\"\")","v":""},{"$f":"IFERROR((#REF!/#REF!)*100,\"\")","v":""},{"$f":"IFERROR((#REF!/#REF!)*100,\"\")","v":""},{"$f":"IFERROR((#REF!/#REF!)*100,\"\")","v":""}]
[null,{"$f":"IFERROR(VLOOKUP($C38,#REF!,3,FALSE),\"\")","v":""},null,null,null,null,"","",{"$f":"IFERROR((#REF!/#REF!)*100,\"\")","v":""},{"$f":"IFERROR((#REF!/#REF!)*100,\"\")","v":""},{"$f":"IFERROR((#REF!/#REF!)*100,\"\")","v":""},{"$f":"IFERROR((#REF!/#REF!)*100,\"\")","v":""}]
[null,{"$f":"IFERROR(VLOOKUP($C39,#REF!,3,FALSE),\"\")","v":""},null,null,null,null,"","",{"$f":"IFERROR((#REF!/#REF!)*100,\"\")","v":""},{"$f":"IFERROR((#REF!/#REF!)*100,\"\")","v":""},{"$f":"IFERROR((#REF!/#REF!)*100,\"\")","v":""},{"$f":"IFERROR((#REF!/#REF!)*100,\"\")","v":""}]
[null,{"$f":"IFERROR(VLOOKUP($C40,#REF!,3,FALSE),\"\")","v":""},null,null,null,null,"","",{"$f":"IFERROR((#REF!/#REF!)*100,\"\")","v":""},{"$f":"IFERROR((#REF!/#REF!)*100,\"\")","v":""},{"$f":"IFERROR((#REF!/#REF!)*100,\"\")","v":""},{"$f":"IFERROR((#REF!/#REF!)*100,\"\")","v":""}]
[null,{"$f":"IFERROR(VLOOKUP($C41,#REF!,3,FALSE),\"\")","v":""},null,null,null,null,"","",{"$f":"IFERROR((#REF!/#REF!)*100,\"\")","v":""},{"$f":"IFERROR((#REF!/#REF!)*100,\"\")","v":""},{"$f":"IFERROR((#REF!/#REF!)*100,\"\")","v":""},{"$f":"IFERROR((#REF!/#REF!)*100,\"\")","v":""}]
[null,{"$f":"IFERROR(VLOOKUP($C42,#REF!,3,FALSE),\"\")","v":""},null,null,null,null,"","",{"$f":"IFERROR((#REF!/#REF!)*100,\"\")","v":""},{"$f":"IFERROR((#REF!/#REF!)*100,\"\")","v":""},{"$f":"IFERROR((#REF!/#REF!)*100,\"\")","v":""},{"$f":"IFERROR((#REF!/#REF!)*100,\"\")","v":""}]
[null,{"$f":"IFERROR(VLOOKUP($C43,#REF!,3,FALSE),\"\")","v":""},null,null,null,null,"","",{"$f":"IFERROR((#REF!/#REF!)*100,\"\")","v":""},{"$f":"IFERROR((#REF!/#REF!)*100,\"\")","v":""},{"$f":"IFERROR((#REF!/#REF!)*100,\"\")","v":""},{"$f":"IFERROR((#REF!/#REF!)*100,\"\")","v":""}]
[null,{"$f":"IFERROR(VLOOKUP($C44,#REF!,3,FALSE),\"\")","v":""},null,null,null,null,"","",{"$f":"IFERROR((#REF!/#REF!)*100,\"\")","v":""},{"$f":"IFERROR((#REF!/#REF!)*100,\"\")","v":""},{"$f":"IFERROR((#REF!/#REF!)*100,\"\")","v":""},{"$f":"IFERROR((#REF!/#REF!)*100,\"\")","v":""}]
[null,{"$f":"IFERROR(VLOOKUP($C45,#REF!,3,FALSE),\"\")","v":""},null,null,null,null,"","",{"$f":"IFERROR((#REF!/#REF!)*100,\"\")","v":""},{"$f":"IFERROR((#REF!/#REF!)*100,\"\")","v":""},{"$f":"IFERROR((#REF!/#REF!)*100,\"\")","v":""},{"$f":"IFERROR((#REF!/#REF!)*100,\"\")","v":""}]
[null,{"$f":"IFERROR(VLOOKUP($C46,#REF!,3,FALSE),\"\")","v":""},null,null,null,null,"","",{"$f":"IFERROR((#REF!/#REF!)*100,\"\")","v":""},{"$f":"IFERROR((#REF!/#REF!)*100,\"\")","v":""},{"$f":"IFERROR((#REF!/#REF!)*100,\"\")","v":""},{"$f":"IFERROR((#REF!/#REF!)*100,\"\")","v":""}]
[null,{"$f":"IFERROR(VLOOKUP($C47,#REF!,3,FALSE),\"\")","v":""},null,null,null,null,"","",{"$f":"IFERROR((#REF!/#REF!)*100,\"\")","v":""},{"$f":"IFERROR((#REF!/#REF!)*100,\"\")","v":""},{"$f":"IFERROR((#REF!/#REF!)*100,\"\")","v":""},{"$f":"IFERROR((#REF!/#REF!)*100,\"\")","v":""}]
[]
[]
[null,"PRINCIPALES ACCIONES REALIZADAS CON RECURSOS DE ORIGEN FEDERAL: "]
[null,"311 148 E150 Programa Integral de Movilidad Inteligente; A través de la Obra por Contrato se relizaron los trabajos en el proyecto denominado: Mantenimiento y Rehabilitación a Mercados con 4 inmuebles\n1.-Mercado Flores San Fernando, ubicado en Calzada de Tlalpan y avenida San Fernando, Colonia Barrio de Niño Jesús, Trabajos realizados: instalación eléctrica interna, módulos, instalación eléctrica exterior, 2.-Mercado Fuentes Brotantes, ubicado en Interior del Parque Nacional Fuentes Brotantes, colonia Fuentes Brotantes, Trabajos realizados: instalación eléctrica, sistema de drenaje, ampliación de baños, áreas verdes y juegos, 3.-Mercado Villa Coapa, ubicado en Avenida canal de Miramontes s/n entre avenida Acoxpa y Caporal, colonia Villa Coapa, Trabajos realizados: sustitución de luminaria led, alimentadores a locales, alimentador a hidroneumático, alumbrado exterior, alimentadores en baja tensión CCTV y telefonía, extracción de aire, 4.-Mercado Plaza Mexicana del Sur, ubicado en Avenida Acoxpa, entre Calzada de Tlalpan y Viaducto Tlalpan, Col. San Lorenzo Huipulco, Trabajos realizados: instalación eléctrica\n\n"]
[]
[]
[]
[]
[]
[null,"311 148 E150- En este programa presupuestario se aperturó el proyecto denominado  Mantenimiento y Rehabilitación a Mercados con 4 inmuebles realizados,mismos que cuentan con tres Fuentes de Financiamiento:No etiquetado recursos fiscales-fiscales-fiscales-2021-original de la urg (Fiscales), Etiquetado Recursos Federales-Aportaciones Federales para Entidades Federativas y Municipios-Fondo de Aportaciones para el Fortalecimiento de las Entidades Federativas (FAFEF)-2021-Original de la URG, No Etiquetado Recursos Federales-Participaciones a Entidades Federativas y Municipios- Participaciones en el Impuesto Sobre Automóviles Nuevos-2021-Original de la URG, en dodnde se verán rfelejada la meta ejecutada., en dodnde se verán rfelejada la meta ejecutada, aún cuandolos frentes ya estan al 100%, se hace mención de uqe todavía se encuentran las estimacines en proceso de revisión y autorización de CLS."]

{"sheet":"AP_RF FAIS 25P610","index":7,"n_rows":58,"n_cols":12,"rows_kept":58,"cut":false,"hidden":false,"merged":[[49,1,49,11],[1,1,1,11],[2,1,2,11],[4,1,4,4],[4,5,4,11],[5,1,5,4],[5,5,5,11],[7,1,7,4],[7,5,7,11],[9,1,9,11],[10,1,10,7],[10,8,10,11],[50,1,54,11],[57,1,57,11],[58,1,58,12],[59,1,59,12],[60,1,60,12]]}
[]
[null,"AP-RF  AVANCE PRESUPUESTAL DE RECURSOS DE ORIGEN FEDERAL"]
[null,"FONDO, CONVENIO, SUBSIDIO O PARTICIPACIÓN: (1)"]
[]
[null,"Unidad Responsable de Gasto:",null,null,null,"DIRECCIÓN GENERAL DE OBRAS Y DESARROLLO URBANO"]
[null,"Período:",null,null,null,"Enero-Diciembre 2021"]
[]
[null,"FONDO",null,null,null,"ETIQUETADO RECURSOS FEDERALES-APORTACIONES FEDERALES PARA ENTIDADES FEDERATIVAS Y MUNICIPIOS-FONDO DE APORTACIONES PARA LA INFRAESTRUCTURA SOCIAL (FAIS)-2022-ORIGINAL DE LA URG"]
[]
[null,"R      E      S      U      L      T      A      D      O      S"]
[null,"PRESUPUESTO\n(Pesos con dos decimales)",null,null,null,null,null,null,"AVANCE\n%"]
[null,"APROBADO\n","MODIFICADO\n","PROGRAMADO\n","SALDO DEL \nCOMPROMISO","DEVENGADO\n","EJERCIDO\n","PAGADO\n","(DEVENGADO / APROBADO)*100\n","(DEVENGADO / MODIFICADO)*100\n","(EJERCIDO / APROBADO)*100\n","(EJERCIDO / MODIFICADO)*100\n"]
[null,94530581,94530581,93631908,0,0,0,0,0,0,0,0]
[]
[null,null,null,null,null,null,null,null,{"$f":"IFERROR((#REF!/#REF!)*100,\"\")","v":""},{"$f":"IFERROR((#REF!/#REF!)*100,\"\")","v":""},{"$f":"IFERROR((#REF!/#REF!)*100,\"\")","v":""},{"$f":"IFERROR((#REF!/#REF!)*100,\"\")","v":""}]
[null,null,null,null,null,null,null,null,{"$f":"IFERROR((#REF!/#REF!)*100,\"\")","v":""},{"$f":"IFERROR((#REF!/#REF!)*100,\"\")","v":""},{"$f":"IFERROR((#REF!/#REF!)*100,\"\")","v":""},{"$f":"IFERROR((#REF!/#REF!)*100,\"\")","v":""}]
[null,{"$f":"IFERROR(VLOOKUP($C17,#REF!,3,FALSE),\"\")","v":""},null,null,null,null,{"$f":"IFERROR(F17/C17,\"\")","v":""},{"$f":"IFERROR((F17/D17*100),\"\")","v":""},{"$f":"IFERROR((#REF!/#REF!)*100,\"\")","v":""},{"$f":"IFERROR((#REF!/#REF!)*100,\"\")","v":""},{"$f":"IFERROR((#REF!/#REF!)*100,\"\")","v":""},{"$f":"IFERROR((#REF!/#REF!)*100,\"\")","v":""}]
[null,{"$f":"IFERROR(VLOOKUP($C18,#REF!,3,FALSE),\"\")","v":""},null,null,null,null,"","",{"$f":"IFERROR((#REF!/#REF!)*100,\"\")","v":""},{"$f":"IFERROR((#REF!/#REF!)*100,\"\")","v":""},{"$f":"IFERROR((#REF!/#REF!)*100,\"\")","v":""},{"$f":"IFERROR((#REF!/#REF!)*100,\"\")","v":""}]
[null,{"$f":"IFERROR(VLOOKUP($C19,#REF!,3,FALSE),\"\")","v":""},null,null,null,null,"","",{"$f":"IFERROR((#REF!/#REF!)*100,\"\")","v":""},{"$f":"IFERROR((#REF!/#REF!)*100,\"\")","v":""},{"$f":"IFERROR((#REF!/#REF!)*100,\"\")","v":""},{"$f":"IFERROR((#REF!/#REF!)*100,\"\")","v":""}]
[null,{"$f":"IFERROR(VLOOKUP($C20,#REF!,3,FALSE),\"\")","v":""},null,null,null,null,"","",{"$f":"IFERROR((#REF!/#REF!)*100,\"\")","v":""},{"$f":"IFERROR((#REF!/#REF!)*100,\"\")","v":""},{"$f":"IFERROR((#REF!/#REF!)*100,\"\")","v":""},{"$f":"IFERROR((#REF!/#REF!)*100,\"\")","v":""}]
[null,{"$f":"IFERROR(VLOOKUP($C21,#REF!,3,FALSE),\"\")","v":""},null,null,null,null,"","",{"$f":"IFERROR((#REF!/#REF!)*100,\"\")","v":""},{"$f":"IFERROR((#REF!/#REF!)*100,\"\")","v":""},{"$f":"IFERROR((#REF!/#REF!)*100,\"\")","v":""},{"$f":"IFERROR((#REF!/#REF!)*100,\"\")","v":""}]
[null,{"$f":"IFERROR(VLOOKUP($C22,#REF!,3,FALSE),\"\")","v":""},null,null,null,null,"","",{"$f":"IFERROR((#REF!/#REF!)*100,\"\")","v":""},{"$f":"IFERROR((#REF!/#REF!)*100,\"\")","v":""},{"$f":"IFERROR((#REF!/#REF!)*100,\"\")","v":""},{"$f":"IFERROR((#REF!/#REF!)*100,\"\")","v":""}]
[null,{"$f":"IFERROR(VLOOKUP($C23,#REF!,3,FALSE),\"\")","v":""},null,null,null,null,"","",{"$f":"IFERROR((#REF!/#REF!)*100,\"\")","v":""},{"$f":"IFERROR((#REF!/#REF!)*100,\"\")","v":""},{"$f":"IFERROR((#REF!/#REF!)*100,\"\")","v":""},{"$f":"IFERROR((#REF!/#REF!)*100,\"\")","v":""}]
[null,{"$f":"IFERROR(VLOOKUP($C24,#REF!,3,FALSE),\"\")","v":""},null,null,null,null,"","",{"$f":"IFERROR((#REF!/#REF!)*100,\"\")","v":""},{"$f":"IFERROR((#REF!/#REF!)*100,\"\")","v":""},{"$f":"IFERROR((#REF!/#REF!)*100,\"\")","v":""},{"$f":"IFERROR((#REF!/#REF!)*100,\"\")","v":""}]
[null,{"$f":"IFERROR(VLOOKUP($C25,#REF!,3,FALSE),\"\")","v":""},null,null,null,null,"","",{"$f":"IFERROR((#REF!/#REF!)*100,\"\")","v":""},{"$f":"IFERROR((#REF!/#REF!)*100,\"\")","v":""},{"$f":"IFERROR((#REF!/#REF!)*100,\"\")","v":""},{"$f":"IFERROR((#REF!/#REF!)*100,\"\")","v":""}]
[null,{"$f":"IFERROR(VLOOKUP($C26,#REF!,3,FALSE),\"\")","v":""},null,null,null,null,"","",{"$f":"IFERROR((#REF!/#REF!)*100,\"\")","v":""},{"$f":"IFERROR((#REF!/#REF!)*100,\"\")","v":""},{"$f":"IFERROR((#REF!/#REF!)*100,\"\")","v":""},{"$f":"IFERROR((#REF!/#REF!)*100,\"\")","v":""}]
[null,{"$f":"IFERROR(VLOOKUP($C27,#REF!,3,FALSE),\"\")","v":""},null,null,null,null,"","",{"$f":"IFERROR((#REF!/#REF!)*100,\"\")","v":""},{"$f":"IFERROR((#REF!/#REF!)*100,\"\")","v":""},{"$f":"IFERROR((#REF!/#REF!)*100,\"\")","v":""},{"$f":"IFERROR((#REF!/#REF!)*100,\"\")","v":""}]
[null,{"$f":"IFERROR(VLOOKUP($C28,#REF!,3,FALSE),\"\")","v":""},null,null,null,null,"","",{"$f":"IFERROR((#REF!/#REF!)*100,\"\")","v":""},{"$f":"IFERROR((#REF!/#REF!)*100,\"\")","v":""},{"$f":"IFERROR((#REF!/#REF!)*100,\"\")","v":""},{"$f":"IFERROR((#REF!/#REF!)*100,\"\")","v":""}]
[null,{"$f":"IFERROR(VLOOKUP($C29,#REF!,3,FALSE),\"\")","v":""},null,null,null,null,"","",{"$f":"IFERROR((#REF!/#REF!)*100,\"\")","v":""},{"$f":"IFERROR((#REF!/#REF!)*100,\"\")","v":""},{"$f":"IFERROR((#REF!/#REF!)*100,\"\")","v":""},{"$f":"IFERROR((#REF!/#REF!)*100,\"\")","v":""}]
[null,{"$f":"IFERROR(VLOOKUP($C30,#REF!,3,FALSE),\"\")","v":""},null,null,null,null,"","",{"$f":"IFERROR((#REF!/#REF!)*100,\"\")","v":""},{"$f":"IFERROR((#REF!/#REF!)*100,\"\")","v":""},{"$f":"IFERROR((#REF!/#REF!)*100,\"\")","v":""},{"$f":"IFERROR((#REF!/#REF!)*100,\"\")","v":""}]
[null,{"$f":"IFERROR(VLOOKUP($C31,#REF!,3,FALSE),\"\")","v":""},null,null,null,null,"","",{"$f":"IFERROR((#REF!/#REF!)*100,\"\")","v":""},{"$f":"IFERROR((#REF!/#REF!)*100,\"\")","v":""},{"$f":"IFERROR((#REF!/#REF!)*100,\"\")","v":""},{"$f":"IFERROR((#REF!/#REF!)*100,\"\")","v":""}]
[null,{"$f":"IFERROR(VLOOKUP($C32,#REF!,3,FALSE),\"\")","v":""},null,null,null,null,"","",{"$f":"IFERROR((#REF!/#REF!)*100,\"\")","v":""},{"$f":"IFERROR((#REF!/#REF!)*100,\"\")","v":""},{"$f":"IFERROR((#REF!/#REF!)*100,\"\")","v":""},{"$f":"IFERROR((#REF!/#REF!)*100,\"\")","v":""}]
[null,{"$f":"IFERROR(VLOOKUP($C33,#REF!,3,FALSE),\"\")","v":""},null,null,null,null,"","",{"$f":"IFERROR((#REF!/#REF!)*100,\"\")","v":""},{"$f":"IFERROR((#REF!/#REF!)*100,\"\")","v":""},{"$f":"IFERROR((#REF!/#REF!)*100,\"\")","v":""},{"$f":"IFERROR((#REF!/#REF!)*100,\"\")","v":""}]
[null,{"$f":"IFERROR(VLOOKUP($C34,#REF!,3,FALSE),\"\")","v":""},null,null,null,null,"","",{"$f":"IFERROR((#REF!/#REF!)*100,\"\")","v":""},{"$f":"IFERROR((#REF!/#REF!)*100,\"\")","v":""},{"$f":"IFERROR((#REF!/#REF!)*100,\"\")","v":""},{"$f":"IFERROR((#REF!/#REF!)*100,\"\")","v":""}]
[null,{"$f":"IFERROR(VLOOKUP($C35,#REF!,3,FALSE),\"\")","v":""},null,null,null,null,"","",{"$f":"IFERROR((#REF!/#REF!)*100,\"\")","v":""},{"$f":"IFERROR((#REF!/#REF!)*100,\"\")","v":""},{"$f":"IFERROR((#REF!/#REF!)*100,\"\")","v":""},{"$f":"IFERROR((#REF!/#REF!)*100,\"\")","v":""}]
[null,{"$f":"IFERROR(VLOOKUP($C36,#REF!,3,FALSE),\"\")","v":""},null,null,null,null,"","",{"$f":"IFERROR((#REF!/#REF!)*100,\"\")","v":""},{"$f":"IFERROR((#REF!/#REF!)*100,\"\")","v":""},{"$f":"IFERROR((#REF!/#REF!)*100,\"\")","v":""},{"$f":"IFERROR((#REF!/#REF!)*100,\"\")","v":""}]
[null,{"$f":"IFERROR(VLOOKUP($C37,#REF!,3,FALSE),\"\")","v":""},null,null,null,null,"","",{"$f":"IFERROR((#REF!/#REF!)*100,\"\")","v":""},{"$f":"IFERROR((#REF!/#REF!)*100,\"\")","v":""},{"$f":"IFERROR((#REF!/#REF!)*100,\"\")","v":""},{"$f":"IFERROR((#REF!/#REF!)*100,\"\")","v":""}]
[null,{"$f":"IFERROR(VLOOKUP($C38,#REF!,3,FALSE),\"\")","v":""},null,null,null,null,"","",{"$f":"IFERROR((#REF!/#REF!)*100,\"\")","v":""},{"$f":"IFERROR((#REF!/#REF!)*100,\"\")","v":""},{"$f":"IFERROR((#REF!/#REF!)*100,\"\")","v":""},{"$f":"IFERROR((#REF!/#REF!)*100,\"\")","v":""}]
[null,{"$f":"IFERROR(VLOOKUP($C39,#REF!,3,FALSE),\"\")","v":""},null,null,null,null,"","",{"$f":"IFERROR((#REF!/#REF!)*100,\"\")","v":""},{"$f":"IFERROR((#REF!/#REF!)*100,\"\")","v":""},{"$f":"IFERROR((#REF!/#REF!)*100,\"\")","v":""},{"$f":"IFERROR((#REF!/#REF!)*100,\"\")","v":""}]
[null,{"$f":"IFERROR(VLOOKUP($C40,#REF!,3,FALSE),\"\")","v":""},null,null,null,null,"","",{"$f":"IFERROR((#REF!/#REF!)*100,\"\")","v":""},{"$f":"IFERROR((#REF!/#REF!)*100,\"\")","v":""},{"$f":"IFERROR((#REF!/#REF!)*100,\"\")","v":""},{"$f":"IFERROR((#REF!/#REF!)*100,\"\")","v":""}]
[null,{"$f":"IFERROR(VLOOKUP($C41,#REF!,3,FALSE),\"\")","v":""},null,null,null,null,"","",{"$f":"IFERROR((#REF!/#REF!)*100,\"\")","v":""},{"$f":"IFERROR((#REF!/#REF!)*100,\"\")","v":""},{"$f":"IFERROR((#REF!/#REF!)*100,\"\")","v":""},{"$f":"IFERROR((#REF!/#REF!)*100,\"\")","v":""}]
[null,{"$f":"IFERROR(VLOOKUP($C42,#REF!,3,FALSE),\"\")","v":""},null,null,null,null,"","",{"$f":"IFERROR((#REF!/#REF!)*100,\"\")","v":""},{"$f":"IFERROR((#REF!/#REF!)*100,\"\")","v":""},{"$f":"IFERROR((#REF!/#REF!)*100,\"\")","v":""},{"$f":"IFERROR((#REF!/#REF!)*100,\"\")","v":""}]
[null,{"$f":"IFERROR(VLOOKUP($C43,#REF!,3,FALSE),\"\")","v":""},null,null,null,null,"","",{"$f":"IFERROR((#REF!/#REF!)*100,\"\")","v":""},{"$f":"IFERROR((#REF!/#REF!)*100,\"\")","v":""},{"$f":"IFERROR((#REF!/#REF!)*100,\"\")","v":""},{"$f":"IFERROR((#REF!/#REF!)*100,\"\")","v":""}]
[null,{"$f":"IFERROR(VLOOKUP($C44,#REF!,3,FALSE),\"\")","v":""},null,null,null,null,"","",{"$f":"IFERROR((#REF!/#REF!)*100,\"\")","v":""},{"$f":"IFERROR((#REF!/#REF!)*100,\"\")","v":""},{"$f":"IFERROR((#REF!/#REF!)*100,\"\")","v":""},{"$f":"IFERROR((#REF!/#REF!)*100,\"\")","v":""}]
[null,{"$f":"IFERROR(VLOOKUP($C45,#REF!,3,FALSE),\"\")","v":""},null,null,null,null,"","",{"$f":"IFERROR((#REF!/#REF!)*100,\"\")","v":""},{"$f":"IFERROR((#REF!/#REF!)*100,\"\")","v":""},{"$f":"IFERROR((#REF!/#REF!)*100,\"\")","v":""},{"$f":"IFERROR((#REF!/#REF!)*100,\"\")","v":""}]
[null,{"$f":"IFERROR(VLOOKUP($C46,#REF!,3,FALSE),\"\")","v":""},null,null,null,null,"","",{"$f":"IFERROR((#REF!/#REF!)*100,\"\")","v":""},{"$f":"IFERROR((#REF!/#REF!)*100,\"\")","v":""},{"$f":"IFERROR((#REF!/#REF!)*100,\"\")","v":""},{"$f":"IFERROR((#REF!/#REF!)*100,\"\")","v":""}]
[null,{"$f":"IFERROR(VLOOKUP($C47,#REF!,3,FALSE),\"\")","v":""},null,null,null,null,"","",{"$f":"IFERROR((#REF!/#REF!)*100,\"\")","v":""},{"$f":"IFERROR((#REF!/#REF!)*100,\"\")","v":""},{"$f":"IFERROR((#REF!/#REF!)*100,\"\")","v":""},{"$f":"IFERROR((#REF!/#REF!)*100,\"\")","v":""}]
[]
[]
[null,"PRINCIPALES ACCIONES REALIZADAS CON RECURSOS DE ORIGEN FEDERAL: "]
[null,"Al periodo no hay acciones realizadas"]
[]
[]
[]
[]
[]
[]
[null,"221 274 K016-Se autorizaron recursos los cuales refieren al capítulo 6000 donde se aperturó el proyecto denominado:  Mantener y Rehabilitar los Planteles Educativos del Nivel Básico este proyecto cuenta con 2 fondos Participaciones Federales 15O510  donde se relizarán 33 escuelas y en el fondo  FAIS se tenía contemplado realizar  7 escuelas,  sin embargo debido a que el FAIS tiene como objetivo fundamental el financiamiento de obras y acciones sociales básicas que beneficien directamente a sectores de población en condiciones de rezago social y pobreza extrema, los recursos fueron reorientados a la apertura de diferentes proyectos denominados: Rehabilitación del Sistema de Alumbrado Público, Rehabilitación de banquetas, Rehabilitacion de superficie de rodamiento (Repavimentación), Rehabilitación del Sistema de Alcantarillado Pluvial, Verificación y seguimiento de las obras (FISMDF)(SUPERVISIÓN DE OBRA), y Con recursos del Presupuesto Participativo DG:65 se aperturan  los siguientes proyectos: Construcción de Resumidero, Construcción de Drenaje, Mantenimiento al Drenaje en toda la colonia, Construcción de Drenaje Pluvial con Pozo de Absorción o Cosecha de Agua, los cuales se verán reflejados al 100%, hasta el Cierre de la Cuenta Pública, razón por la cual no se tienen acciones realizadas al periodo ya que los proyectos antes mencionados se contrataron a afinales de noviembre."]

{"sheet":"AP_RF FAIS 25P614","index":8,"n_rows":58,"n_cols":12,"rows_kept":58,"cut":false,"hidden":false,"merged":[[49,1,49,11],[1,1,1,11],[2,1,2,11],[4,1,4,4],[4,5,4,11],[5,1,5,4],[5,5,5,11],[7,1,7,4],[7,5,7,11],[9,1,9,11],[10,1,10,7],[10,8,10,11],[50,1,54,11],[57,1,57,11],[58,1,58,12],[59,1,59,12],[60,1,60,12]]}
[]
[null,"AP-RF  AVANCE PRESUPUESTAL DE RECURSOS DE ORIGEN FEDERAL"]
[null,"FONDO, CONVENIO, SUBSIDIO O PARTICIPACIÓN: (1)"]
[]
[null,"Unidad Responsable de Gasto:",null,null,null,"DIRECCIÓN GENERAL DE OBRAS Y DESARROLLO URBANO"]
[null,"Período:",null,null,null,"Enero-Diciembre 2021"]
[]
[null,"FONDO",null,null,null,"ETIQUETADO RECURSOS FEDERALES-APORTACIONES FEDERALES PARA ENTIDADES FEDERATIVAS Y MUNICIPIOS-FONDO DE APORTACIONES PARA LA INFRAESTRUCTURA SOCIAL (FAIS)-2022-ORIGINAL DE LA URG ( 25P614)"]
[]
[null,"R      E      S      U      L      T      A      D      O      S"]
[null,"PRESUPUESTO\n(Pesos con dos decimales)",null,null,null,null,null,null,"AVANCE\n%"]
[null,"APROBADO\n","MODIFICADO\n","PROGRAMADO\n","SALDO DEL \nCOMPROMISO","DEVENGADO\n","EJERCIDO\n","PAGADO\n","(DEVENGADO / APROBADO)*100\n","(DEVENGADO / MODIFICADO)*100\n","(EJERCIDO / APROBADO)*100\n","(EJERCIDO / MODIFICADO)*100\n"]
[null,0,1352218.3,1352218.3,0,0,0,0,0,0,0,0]
[]
[null,null,null,null,null,null,null,null,{"$f":"IFERROR((#REF!/#REF!)*100,\"\")","v":""},{"$f":"IFERROR((#REF!/#REF!)*100,\"\")","v":""},{"$f":"IFERROR((#REF!/#REF!)*100,\"\")","v":""},{"$f":"IFERROR((#REF!/#REF!)*100,\"\")","v":""}]
[null,null,null,null,null,null,null,null,{"$f":"IFERROR((#REF!/#REF!)*100,\"\")","v":""},{"$f":"IFERROR((#REF!/#REF!)*100,\"\")","v":""},{"$f":"IFERROR((#REF!/#REF!)*100,\"\")","v":""},{"$f":"IFERROR((#REF!/#REF!)*100,\"\")","v":""}]
[null,{"$f":"IFERROR(VLOOKUP($C17,#REF!,3,FALSE),\"\")","v":""},null,null,null,null,{"$f":"IFERROR(F17/C17,\"\")","v":""},{"$f":"IFERROR((F17/D17*100),\"\")","v":""},{"$f":"IFERROR((#REF!/#REF!)*100,\"\")","v":""},{"$f":"IFERROR((#REF!/#REF!)*100,\"\")","v":""},{"$f":"IFERROR((#REF!/#REF!)*100,\"\")","v":""},{"$f":"IFERROR((#REF!/#REF!)*100,\"\")","v":""}]
[null,{"$f":"IFERROR(VLOOKUP($C18,#REF!,3,FALSE),\"\")","v":""},null,null,null,null,"","",{"$f":"IFERROR((#REF!/#REF!)*100,\"\")","v":""},{"$f":"IFERROR((#REF!/#REF!)*100,\"\")","v":""},{"$f":"IFERROR((#REF!/#REF!)*100,\"\")","v":""},{"$f":"IFERROR((#REF!/#REF!)*100,\"\")","v":""}]
[null,{"$f":"IFERROR(VLOOKUP($C19,#REF!,3,FALSE),\"\")","v":""},null,null,null,null,"","",{"$f":"IFERROR((#REF!/#REF!)*100,\"\")","v":""},{"$f":"IFERROR((#REF!/#REF!)*100,\"\")","v":""},{"$f":"IFERROR((#REF!/#REF!)*100,\"\")","v":""},{"$f":"IFERROR((#REF!/#REF!)*100,\"\")","v":""}]
[null,{"$f":"IFERROR(VLOOKUP($C20,#REF!,3,FALSE),\"\")","v":""},null,null,null,null,"","",{"$f":"IFERROR((#REF!/#REF!)*100,\"\")","v":""},{"$f":"IFERROR((#REF!/#REF!)*100,\"\")","v":""},{"$f":"IFERROR((#REF!/#REF!)*100,\"\")","v":""},{"$f":"IFERROR((#REF!/#REF!)*100,\"\")","v":""}]
[null,{"$f":"IFERROR(VLOOKUP($C21,#REF!,3,FALSE),\"\")","v":""},null,null,null,null,"","",{"$f":"IFERROR((#REF!/#REF!)*100,\"\")","v":""},{"$f":"IFERROR((#REF!/#REF!)*100,\"\")","v":""},{"$f":"IFERROR((#REF!/#REF!)*100,\"\")","v":""},{"$f":"IFERROR((#REF!/#REF!)*100,\"\")","v":""}]
[null,{"$f":"IFERROR(VLOOKUP($C22,#REF!,3,FALSE),\"\")","v":""},null,null,null,null,"","",{"$f":"IFERROR((#REF!/#REF!)*100,\"\")","v":""},{"$f":"IFERROR((#REF!/#REF!)*100,\"\")","v":""},{"$f":"IFERROR((#REF!/#REF!)*100,\"\")","v":""},{"$f":"IFERROR((#REF!/#REF!)*100,\"\")","v":""}]
[null,{"$f":"IFERROR(VLOOKUP($C23,#REF!,3,FALSE),\"\")","v":""},null,null,null,null,"","",{"$f":"IFERROR((#REF!/#REF!)*100,\"\")","v":""},{"$f":"IFERROR((#REF!/#REF!)*100,\"\")","v":""},{"$f":"IFERROR((#REF!/#REF!)*100,\"\")","v":""},{"$f":"IFERROR((#REF!/#REF!)*100,\"\")","v":""}]
[null,{"$f":"IFERROR(VLOOKUP($C24,#REF!,3,FALSE),\"\")","v":""},null,null,null,null,"","",{"$f":"IFERROR((#REF!/#REF!)*100,\"\")","v":""},{"$f":"IFERROR((#REF!/#REF!)*100,\"\")","v":""},{"$f":"IFERROR((#REF!/#REF!)*100,\"\")","v":""},{"$f":"IFERROR((#REF!/#REF!)*100,\"\")","v":""}]
[null,{"$f":"IFERROR(VLOOKUP($C25,#REF!,3,FALSE),\"\")","v":""},null,null,null,null,"","",{"$f":"IFERROR((#REF!/#REF!)*100,\"\")","v":""},{"$f":"IFERROR((#REF!/#REF!)*100,\"\")","v":""},{"$f":"IFERROR((#REF!/#REF!)*100,\"\")","v":""},{"$f":"IFERROR((#REF!/#REF!)*100,\"\")","v":""}]
[null,{"$f":"IFERROR(VLOOKUP($C26,#REF!,3,FALSE),\"\")","v":""},null,null,null,null,"","",{"$f":"IFERROR((#REF!/#REF!)*100,\"\")","v":""},{"$f":"IFERROR((#REF!/#REF!)*100,\"\")","v":""},{"$f":"IFERROR((#REF!/#REF!)*100,\"\")","v":""},{"$f":"IFERROR((#REF!/#REF!)*100,\"\")","v":""}]
[null,{"$f":"IFERROR(VLOOKUP($C27,#REF!,3,FALSE),\"\")","v":""},null,null,null,null,"","",{"$f":"IFERROR((#REF!/#REF!)*100,\"\")","v":""},{"$f":"IFERROR((#REF!/#REF!)*100,\"\")","v":""},{"$f":"IFERROR((#REF!/#REF!)*100,\"\")","v":""},{"$f":"IFERROR((#REF!/#REF!)*100,\"\")","v":""}]
[null,{"$f":"IFERROR(VLOOKUP($C28,#REF!,3,FALSE),\"\")","v":""},null,null,null,null,"","",{"$f":"IFERROR((#REF!/#REF!)*100,\"\")","v":""},{"$f":"IFERROR((#REF!/#REF!)*100,\"\")","v":""},{"$f":"IFERROR((#REF!/#REF!)*100,\"\")","v":""},{"$f":"IFERROR((#REF!/#REF!)*100,\"\")","v":""}]
[null,{"$f":"IFERROR(VLOOKUP($C29,#REF!,3,FALSE),\"\")","v":""},null,null,null,null,"","",{"$f":"IFERROR((#REF!/#REF!)*100,\"\")","v":""},{"$f":"IFERROR((#REF!/#REF!)*100,\"\")","v":""},{"$f":"IFERROR((#REF!/#REF!)*100,\"\")","v":""},{"$f":"IFERROR((#REF!/#REF!)*100,\"\")","v":""}]
[null,{"$f":"IFERROR(VLOOKUP($C30,#REF!,3,FALSE),\"\")","v":""},null,null,null,null,"","",{"$f":"IFERROR((#REF!/#REF!)*100,\"\")","v":""},{"$f":"IFERROR((#REF!/#REF!)*100,\"\")","v":""},{"$f":"IFERROR((#REF!/#REF!)*100,\"\")","v":""},{"$f":"IFERROR((#REF!/#REF!)*100,\"\")","v":""}]
[null,{"$f":"IFERROR(VLOOKUP($C31,#REF!,3,FALSE),\"\")","v":""},null,null,null,null,"","",{"$f":"IFERROR((#REF!/#REF!)*100,\"\")","v":""},{"$f":"IFERROR((#REF!/#REF!)*100,\"\")","v":""},{"$f":"IFERROR((#REF!/#REF!)*100,\"\")","v":""},{"$f":"IFERROR((#REF!/#REF!)*100,\"\")","v":""}]
[null,{"$f":"IFERROR(VLOOKUP($C32,#REF!,3,FALSE),\"\")","v":""},null,null,null,null,"","",{"$f":"IFERROR((#REF!/#REF!)*100,\"\")","v":""},{"$f":"IFERROR((#REF!/#REF!)*100,\"\")","v":""},{"$f":"IFERROR((#REF!/#REF!)*100,\"\")","v":""},{"$f":"IFERROR((#REF!/#REF!)*100,\"\")","v":""}]
[null,{"$f":"IFERROR(VLOOKUP($C33,#REF!,3,FALSE),\"\")","v":""},null,null,null,null,"","",{"$f":"IFERROR((#REF!/#REF!)*100,\"\")","v":""},{"$f":"IFERROR((#REF!/#REF!)*100,\"\")","v":""},{"$f":"IFERROR((#REF!/#REF!)*100,\"\")","v":""},{"$f":"IFERROR((#REF!/#REF!)*100,\"\")","v":""}]
[null,{"$f":"IFERROR(VLOOKUP($C34,#REF!,3,FALSE),\"\")","v":""},null,null,null,null,"","",{"$f":"IFERROR((#REF!/#REF!)*100,\"\")","v":""},{"$f":"IFERROR((#REF!/#REF!)*100,\"\")","v":""},{"$f":"IFERROR((#REF!/#REF!)*100,\"\")","v":""},{"$f":"IFERROR((#REF!/#REF!)*100,\"\")","v":""}]
[null,{"$f":"IFERROR(VLOOKUP($C35,#REF!,3,FALSE),\"\")","v":""},null,null,null,null,"","",{"$f":"IFERROR((#REF!/#REF!)*100,\"\")","v":""},{"$f":"IFERROR((#REF!/#REF!)*100,\"\")","v":""},{"$f":"IFERROR((#REF!/#REF!)*100,\"\")","v":""},{"$f":"IFERROR((#REF!/#REF!)*100,\"\")","v":""}]
[null,{"$f":"IFERROR(VLOOKUP($C36,#REF!,3,FALSE),\"\")","v":""},null,null,null,null,"","",{"$f":"IFERROR((#REF!/#REF!)*100,\"\")","v":""},{"$f":"IFERROR((#REF!/#REF!)*100,\"\")","v":""},{"$f":"IFERROR((#REF!/#REF!)*100,\"\")","v":""},{"$f":"IFERROR((#REF!/#REF!)*100,\"\")","v":""}]
[null,{"$f":"IFERROR(VLOOKUP($C37,#REF!,3,FALSE),\"\")","v":""},null,null,null,null,"","",{"$f":"IFERROR((#REF!/#REF!)*100,\"\")","v":""},{"$f":"IFERROR((#REF!/#REF!)*100,\"\")","v":""},{"$f":"IFERROR((#REF!/#REF!)*100,\"\")","v":""},{"$f":"IFERROR((#REF!/#REF!)*100,\"\")","v":""}]
[null,{"$f":"IFERROR(VLOOKUP($C38,#REF!,3,FALSE),\"\")","v":""},null,null,null,null,"","",{"$f":"IFERROR((#REF!/#REF!)*100,\"\")","v":""},{"$f":"IFERROR((#REF!/#REF!)*100,\"\")","v":""},{"$f":"IFERROR((#REF!/#REF!)*100,\"\")","v":""},{"$f":"IFERROR((#REF!/#REF!)*100,\"\")","v":""}]
[null,{"$f":"IFERROR(VLOOKUP($C39,#REF!,3,FALSE),\"\")","v":""},null,null,null,null,"","",{"$f":"IFERROR((#REF!/#REF!)*100,\"\")","v":""},{"$f":"IFERROR((#REF!/#REF!)*100,\"\")","v":""},{"$f":"IFERROR((#REF!/#REF!)*100,\"\")","v":""},{"$f":"IFERROR((#REF!/#REF!)*100,\"\")","v":""}]
[null,{"$f":"IFERROR(VLOOKUP($C40,#REF!,3,FALSE),\"\")","v":""},null,null,null,null,"","",{"$f":"IFERROR((#REF!/#REF!)*100,\"\")","v":""},{"$f":"IFERROR((#REF!/#REF!)*100,\"\")","v":""},{"$f":"IFERROR((#REF!/#REF!)*100,\"\")","v":""},{"$f":"IFERROR((#REF!/#REF!)*100,\"\")","v":""}]
[null,{"$f":"IFERROR(VLOOKUP($C41,#REF!,3,FALSE),\"\")","v":""},null,null,null,null,"","",{"$f":"IFERROR((#REF!/#REF!)*100,\"\")","v":""},{"$f":"IFERROR((#REF!/#REF!)*100,\"\")","v":""},{"$f":"IFERROR((#REF!/#REF!)*100,\"\")","v":""},{"$f":"IFERROR((#REF!/#REF!)*100,\"\")","v":""}]
[null,{"$f":"IFERROR(VLOOKUP($C42,#REF!,3,FALSE),\"\")","v":""},null,null,null,null,"","",{"$f":"IFERROR((#REF!/#REF!)*100,\"\")","v":""},{"$f":"IFERROR((#REF!/#REF!)*100,\"\")","v":""},{"$f":"IFERROR((#REF!/#REF!)*100,\"\")","v":""},{"$f":"IFERROR((#REF!/#REF!)*100,\"\")","v":""}]
[null,{"$f":"IFERROR(VLOOKUP($C43,#REF!,3,FALSE),\"\")","v":""},null,null,null,null,"","",{"$f":"IFERROR((#REF!/#REF!)*100,\"\")","v":""},{"$f":"IFERROR((#REF!/#REF!)*100,\"\")","v":""},{"$f":"IFERROR((#REF!/#REF!)*100,\"\")","v":""},{"$f":"IFERROR((#REF!/#REF!)*100,\"\")","v":""}]
[null,{"$f":"IFERROR(VLOOKUP($C44,#REF!,3,FALSE),\"\")","v":""},null,null,null,null,"","",{"$f":"IFERROR((#REF!/#REF!)*100,\"\")","v":""},{"$f":"IFERROR((#REF!/#REF!)*100,\"\")","v":""},{"$f":"IFERROR((#REF!/#REF!)*100,\"\")","v":""},{"$f":"IFERROR((#REF!/#REF!)*100,\"\")","v":""}]
[null,{"$f":"IFERROR(VLOOKUP($C45,#REF!,3,FALSE),\"\")","v":""},null,null,null,null,"","",{"$f":"IFERROR((#REF!/#REF!)*100,\"\")","v":""},{"$f":"IFERROR((#REF!/#REF!)*100,\"\")","v":""},{"$f":"IFERROR((#REF!/#REF!)*100,\"\")","v":""},{"$f":"IFERROR((#REF!/#REF!)*100,\"\")","v":""}]
[null,{"$f":"IFERROR(VLOOKUP($C46,#REF!,3,FALSE),\"\")","v":""},null,null,null,null,"","",{"$f":"IFERROR((#REF!/#REF!)*100,\"\")","v":""},{"$f":"IFERROR((#REF!/#REF!)*100,\"\")","v":""},{"$f":"IFERROR((#REF!/#REF!)*100,\"\")","v":""},{"$f":"IFERROR((#REF!/#REF!)*100,\"\")","v":""}]
[null,{"$f":"IFERROR(VLOOKUP($C47,#REF!,3,FALSE),\"\")","v":""},null,null,null,null,"","",{"$f":"IFERROR((#REF!/#REF!)*100,\"\")","v":""},{"$f":"IFERROR((#REF!/#REF!)*100,\"\")","v":""},{"$f":"IFERROR((#REF!/#REF!)*100,\"\")","v":""},{"$f":"IFERROR((#REF!/#REF!)*100,\"\")","v":""}]
[]
[]
[null,"PRINCIPALES ACCIONES REALIZADAS CON RECURSOS DE ORIGEN FEDERAL: "]
[null,"Al periodo no hay acciones realizadas"]
[]
[]
[]
[]
[]
[]
[null,"221 274 K016-Se aperturarom recursos del FAIS remanentes de ejercicios anteriores, donde se aperturó el  proyecto denominado:  Rehabilitacion de superficie de rodamiento (Repavimentación), el cual cuenta con 2 fondos y su meta se verá reflejada en el fondo ETIQUETADO RECURSOS FEDERALES-APORTACIONES FEDERALES PARA ENTIDADES FEDERATIVAS Y MUNICIPIOS-FONDO DE APORTACIONES PARA LA INFRAESTRUCTURA SOCIAL (FAIS)-2021-ORIGINAL DE LA URG, por lo que solo se consideran en este fondo complemento a la meta realziada."]

{"sheet":"AP_RF PART.FED 15O210","index":9,"n_rows":64,"n_cols":12,"rows_kept":64,"cut":false,"hidden":false,"merged":[[49,1,49,11],[1,1,1,11],[2,1,2,11],[4,1,4,4],[4,5,4,11],[5,1,5,4],[5,5,5,11],[7,1,7,4],[7,5,7,11],[9,1,9,11],[10,1,10,7],[10,8,10,11],[61,0,61,11],[62,0,62,11],[63,0,63,11],[50,1,54,11],[55,1,55,11],[56,1,56,11],[57,1,57,11],[59,0,59,11],[60,1,60,11]]}
[]
[null,"AP-RF  AVANCE PRESUPUESTAL DE RECURSOS DE ORIGEN FEDERAL"]
[null,"FONDO, CONVENIO, SUBSIDIO O PARTICIPACIÓN: (1)"]
[]
[null,"Unidad Responsable de Gasto:",null,null,null,"DIRECCIÓN GENERAL DE OBRAS Y DESARROLLO URBANO"]
[null,"Período:",null,null,null,"Enero-Diciembre 2021"]
[]
[null,"FONDO",null,null,null,"NO ETIQUETADO RECURSOS FEDERALES-PARTICIPACIONES A ENTIDADES FEDERATIVAS Y MUNICIPIOS-FONDO GENERAL DE PARTICIPACIONES-2021-ORIGINAL DE LA URG"]
[]
[null,"R      E      S      U      L      T      A      D      O      S"]
[null,"PRESUPUESTO\n(Pesos con dos decimales)",null,null,null,null,null,null,"AVANCE\n%"]
[null,"APROBADO\n","MODIFICADO\n","PROGRAMADO\n","SALDO DEL \nCOMPROMISO","DEVENGADO\n","EJERCIDO\n","PAGADO\n","(DEVENGADO / APROBADO)*100\n","(DEVENGADO / MODIFICADO)*100\n","(EJERCIDO / APROBADO)*100\n","(EJERCIDO / MODIFICADO)*100\n"]
[92923167,{"$f":"91104466+29931107","v":121035573},{"$f":"42648546.49+25500000","v":68148546.49000001},{"$f":"41568868.49+25500000","v":67068868.490000002},{"$f":"41568868.49+25500000","v":67068868.490000002},{"$f":"41568868.49+25500000","v":67068868.490000002},25495917,25495917,25495917,{"$f":"IFERROR(($F13/$B13)*100,\"\")","v":55.412526109162961},{"$f":"IFERROR(($G13/$B13)*100,\"\")","v":21.06481290421949},{"$f":"IFERROR(($G13/$C13)*100,\"\")","v":37.412268218723085}]
[]
[null,null,null,null,null,null,null,null,{"$f":"IFERROR((#REF!/#REF!)*100,\"\")","v":""},{"$f":"IFERROR((#REF!/#REF!)*100,\"\")","v":""},{"$f":"IFERROR((#REF!/#REF!)*100,\"\")","v":""},{"$f":"IFERROR((#REF!/#REF!)*100,\"\")","v":""}]
[null,null,null,null,null,null,null,null,{"$f":"IFERROR((#REF!/#REF!)*100,\"\")","v":""},{"$f":"IFERROR((#REF!/#REF!)*100,\"\")","v":""},{"$f":"IFERROR((#REF!/#REF!)*100,\"\")","v":""},{"$f":"IFERROR((#REF!/#REF!)*100,\"\")","v":""}]
[null,{"$f":"IFERROR(VLOOKUP($C17,#REF!,3,FALSE),\"\")","v":""},null,null,null,null,{"$f":"IFERROR(F17/C17,\"\")","v":""},{"$f":"IFERROR((F17/D17*100),\"\")","v":""},{"$f":"IFERROR((#REF!/#REF!)*100,\"\")","v":""},{"$f":"IFERROR((#REF!/#REF!)*100,\"\")","v":""},{"$f":"IFERROR((#REF!/#REF!)*100,\"\")","v":""},{"$f":"IFERROR((#REF!/#REF!)*100,\"\")","v":""}]
[null,{"$f":"IFERROR(VLOOKUP($C18,#REF!,3,FALSE),\"\")","v":""},null,null,null,null,"","",{"$f":"IFERROR((#REF!/#REF!)*100,\"\")","v":""},{"$f":"IFERROR((#REF!/#REF!)*100,\"\")","v":""},{"$f":"IFERROR((#REF!/#REF!)*100,\"\")","v":""},{"$f":"IFERROR((#REF!/#REF!)*100,\"\")","v":""}]
[null,{"$f":"IFERROR(VLOOKUP($C19,#REF!,3,FALSE),\"\")","v":""},null,null,null,null,"","",{"$f":"IFERROR((#REF!/#REF!)*100,\"\")","v":""},{"$f":"IFERROR((#REF!/#REF!)*100,\"\")","v":""},{"$f":"IFERROR((#REF!/#REF!)*100,\"\")","v":""},{"$f":"IFERROR((#REF!/#REF!)*100,\"\")","v":""}]
[null,{"$f":"IFERROR(VLOOKUP($C20,#REF!,3,FALSE),\"\")","v":""},null,null,null,null,"","",{"$f":"IFERROR((#REF!/#REF!)*100,\"\")","v":""},{"$f":"IFERROR((#REF!/#REF!)*100,\"\")","v":""},{"$f":"IFERROR((#REF!/#REF!)*100,\"\")","v":""},{"$f":"IFERROR((#REF!/#REF!)*100,\"\")","v":""}]
[null,{"$f":"IFERROR(VLOOKUP($C21,#REF!,3,FALSE),\"\")","v":""},null,null,null,null,"","",{"$f":"IFERROR((#REF!/#REF!)*100,\"\")","v":""},{"$f":"IFERROR((#REF!/#REF!)*100,\"\")","v":""},{"$f":"IFERROR((#REF!/#REF!)*100,\"\")","v":""},{"$f":"IFERROR((#REF!/#REF!)*100,\"\")","v":""}]
[null,{"$f":"IFERROR(VLOOKUP($C22,#REF!,3,FALSE),\"\")","v":""},null,null,null,null,"","",{"$f":"IFERROR((#REF!/#REF!)*100,\"\")","v":""},{"$f":"IFERROR((#REF!/#REF!)*100,\"\")","v":""},{"$f":"IFERROR((#REF!/#REF!)*100,\"\")","v":""},{"$f":"IFERROR((#REF!/#REF!)*100,\"\")","v":""}]
[null,{"$f":"IFERROR(VLOOKUP($C23,#REF!,3,FALSE),\"\")","v":""},null,null,null,null,"","",{"$f":"IFERROR((#REF!/#REF!)*100,\"\")","v":""},{"$f":"IFERROR((#REF!/#REF!)*100,\"\")","v":""},{"$f":"IFERROR((#REF!/#REF!)*100,\"\")","v":""},{"$f":"IFERROR((#REF!/#REF!)*100,\"\")","v":""}]
[null,{"$f":"IFERROR(VLOOKUP($C24,#REF!,3,FALSE),\"\")","v":""},null,null,null,null,"","",{"$f":"IFERROR((#REF!/#REF!)*100,\"\")","v":""},{"$f":"IFERROR((#REF!/#REF!)*100,\"\")","v":""},{"$f":"IFERROR((#REF!/#REF!)*100,\"\")","v":""},{"$f":"IFERROR((#REF!/#REF!)*100,\"\")","v":""}]
[null,{"$f":"IFERROR(VLOOKUP($C25,#REF!,3,FALSE),\"\")","v":""},null,null,null,null,"","",{"$f":"IFERROR((#REF!/#REF!)*100,\"\")","v":""},{"$f":"IFERROR((#REF!/#REF!)*100,\"\")","v":""},{"$f":"IFERROR((#REF!/#REF!)*100,\"\")","v":""},{"$f":"IFERROR((#REF!/#REF!)*100,\"\")","v":""}]
[null,{"$f":"IFERROR(VLOOKUP($C26,#REF!,3,FALSE),\"\")","v":""},null,null,null,null,"","",{"$f":"IFERROR((#REF!/#REF!)*100,\"\")","v":""},{"$f":"IFERROR((#REF!/#REF!)*100,\"\")","v":""},{"$f":"IFERROR((#REF!/#REF!)*100,\"\")","v":""},{"$f":"IFERROR((#REF!/#REF!)*100,\"\")","v":""}]
[null,{"$f":"IFERROR(VLOOKUP($C27,#REF!,3,FALSE),\"\")","v":""},null,null,null,null,"","",{"$f":"IFERROR((#REF!/#REF!)*100,\"\")","v":""},{"$f":"IFERROR((#REF!/#REF!)*100,\"\")","v":""},{"$f":"IFERROR((#REF!/#REF!)*100,\"\")","v":""},{"$f":"IFERROR((#REF!/#REF!)*100,\"\")","v":""}]
[null,{"$f":"IFERROR(VLOOKUP($C28,#REF!,3,FALSE),\"\")","v":""},null,null,null,null,"","",{"$f":"IFERROR((#REF!/#REF!)*100,\"\")","v":""},{"$f":"IFERROR((#REF!/#REF!)*100,\"\")","v":""},{"$f":"IFERROR((#REF!/#REF!)*100,\"\")","v":""},{"$f":"IFERROR((#REF!/#REF!)*100,\"\")","v":""}]
[null,{"$f":"IFERROR(VLOOKUP($C29,#REF!,3,FALSE),\"\")","v":""},null,null,null,null,"","",{"$f":"IFERROR((#REF!/#REF!)*100,\"\")","v":""},{"$f":"IFERROR((#REF!/#REF!)*100,\"\")","v":""},{"$f":"IFERROR((#REF!/#REF!)*100,\"\")","v":""},{"$f":"IFERROR((#REF!/#REF!)*100,\"\")","v":""}]
[null,{"$f":"IFERROR(VLOOKUP($C30,#REF!,3,FALSE),\"\")","v":""},null,null,null,null,"","",{"$f":"IFERROR((#REF!/#REF!)*100,\"\")","v":""},{"$f":"IFERROR((#REF!/#REF!)*100,\"\")","v":""},{"$f":"IFERROR((#REF!/#REF!)*100,\"\")","v":""},{"$f":"IFERROR((#REF!/#REF!)*100,\"\")","v":""}]
[null,{"$f":"IFERROR(VLOOKUP($C31,#REF!,3,FALSE),\"\")","v":""},null,null,null,null,"","",{"$f":"IFERROR((#REF!/#REF!)*100,\"\")","v":""},{"$f":"IFERROR((#REF!/#REF!)*100,\"\")","v":""},{"$f":"IFERROR((#REF!/#REF!)*100,\"\")","v":""},{"$f":"IFERROR((#REF!/#REF!)*100,\"\")","v":""}]
[null,{"$f":"IFERROR(VLOOKUP($C32,#REF!,3,FALSE),\"\")","v":""},null,null,null,null,"","",{"$f":"IFERROR((#REF!/#REF!)*100,\"\")","v":""},{"$f":"IFERROR((#REF!/#REF!)*100,\"\")","v":""},{"$f":"IFERROR((#REF!/#REF!)*100,\"\")","v":""},{"$f":"IFERROR((#REF!/#REF!)*100,\"\")","v":""}]
[null,{"$f":"IFERROR(VLOOKUP($C33,#REF!,3,FALSE),\"\")","v":""},null,null,null,null,"","",{"$f":"IFERROR((#REF!/#REF!)*100,\"\")","v":""},{"$f":"IFERROR((#REF!/#REF!)*100,\"\")","v":""},{"$f":"IFERROR((#REF!/#REF!)*100,\"\")","v":""},{"$f":"IFERROR((#REF!/#REF!)*100,\"\")","v":""}]
[null,{"$f":"IFERROR(VLOOKUP($C34,#REF!,3,FALSE),\"\")","v":""},null,null,null,null,"","",{"$f":"IFERROR((#REF!/#REF!)*100,\"\")","v":""},{"$f":"IFERROR((#REF!/#REF!)*100,\"\")","v":""},{"$f":"IFERROR((#REF!/#REF!)*100,\"\")","v":""},{"$f":"IFERROR((#REF!/#REF!)*100,\"\")","v":""}]
[null,{"$f":"IFERROR(VLOOKUP($C35,#REF!,3,FALSE),\"\")","v":""},null,null,null,null,"","",{"$f":"IFERROR((#REF!/#REF!)*100,\"\")","v":""},{"$f":"IFERROR((#REF!/#REF!)*100,\"\")","v":""},{"$f":"IFERROR((#REF!/#REF!)*100,\"\")","v":""},{"$f":"IFERROR((#REF!/#REF!)*100,\"\")","v":""}]
[null,{"$f":"IFERROR(VLOOKUP($C36,#REF!,3,FALSE),\"\")","v":""},null,null,null,null,"","",{"$f":"IFERROR((#REF!/#REF!)*100,\"\")","v":""},{"$f":"IFERROR((#REF!/#REF!)*100,\"\")","v":""},{"$f":"IFERROR((#REF!/#REF!)*100,\"\")","v":""},{"$f":"IFERROR((#REF!/#REF!)*100,\"\")","v":""}]
[null,{"$f":"IFERROR(VLOOKUP($C37,#REF!,3,FALSE),\"\")","v":""},null,null,null,null,"","",{"$f":"IFERROR((#REF!/#REF!)*100,\"\")","v":""},{"$f":"IFERROR((#REF!/#REF!)*100,\"\")","v":""},{"$f":"IFERROR((#REF!/#REF!)*100,\"\")","v":""},{"$f":"IFERROR((#REF!/#REF!)*100,\"\")","v":""}]
[null,{"$f":"IFERROR(VLOOKUP($C38,#REF!,3,FALSE),\"\")","v":""},null,null,null,null,"","",{"$f":"IFERROR((#REF!/#REF!)*100,\"\")","v":""},{"$f":"IFERROR((#REF!/#REF!)*100,\"\")","v":""},{"$f":"IFERROR((#REF!/#REF!)*100,\"\")","v":""},{"$f":"IFERROR((#REF!/#REF!)*100,\"\")","v":""}]
[null,{"$f":"IFERROR(VLOOKUP($C39,#REF!,3,FALSE),\"\")","v":""},null,null,null,null,"","",{"$f":"IFERROR((#REF!/#REF!)*100,\"\")","v":""},{"$f":"IFERROR((#REF!/#REF!)*100,\"\")","v":""},{"$f":"IFERROR((#REF!/#REF!)*100,\"\")","v":""},{"$f":"IFERROR((#REF!/#REF!)*100,\"\")","v":""}]
[null,{"$f":"IFERROR(VLOOKUP($C40,#REF!,3,FALSE),\"\")","v":""},null,null,null,null,"","",{"$f":"IFERROR((#REF!/#REF!)*100,\"\")","v":""},{"$f":"IFERROR((#REF!/#REF!)*100,\"\")","v":""},{"$f":"IFERROR((#REF!/#REF!)*100,\"\")","v":""},{"$f":"IFERROR((#REF!/#REF!)*100,\"\")","v":""}]
[null,{"$f":"IFERROR(VLOOKUP($C41,#REF!,3,FALSE),\"\")","v":""},null,null,null,null,"","",{"$f":"IFERROR((#REF!/#REF!)*100,\"\")","v":""},{"$f":"IFERROR((#REF!/#REF!)*100,\"\")","v":""},{"$f":"IFERROR((#REF!/#REF!)*100,\"\")","v":""},{"$f":"IFERROR((#REF!/#REF!)*100,\"\")","v":""}]
[null,{"$f":"IFERROR(VLOOKUP($C42,#REF!,3,FALSE),\"\")","v":""},null,null,null,null,"","",{"$f":"IFERROR((#REF!/#REF!)*100,\"\")","v":""},{"$f":"IFERROR((#REF!/#REF!)*100,\"\")","v":""},{"$f":"IFERROR((#REF!/#REF!)*100,\"\")","v":""},{"$f":"IFERROR((#REF!/#REF!)*100,\"\")","v":""}]
[null,{"$f":"IFERROR(VLOOKUP($C43,#REF!,3,FALSE),\"\")","v":""},null,null,null,null,"","",{"$f":"IFERROR((#REF!/#REF!)*100,\"\")","v":""},{"$f":"IFERROR((#REF!/#REF!)*100,\"\")","v":""},{"$f":"IFERROR((#REF!/#REF!)*100,\"\")","v":""},{"$f":"IFERROR((#REF!/#REF!)*100,\"\")","v":""}]
[null,{"$f":"IFERROR(VLOOKUP($C44,#REF!,3,FALSE),\"\")","v":""},null,null,null,null,"","",{"$f":"IFERROR((#REF!/#REF!)*100,\"\")","v":""},{"$f":"IFERROR((#REF!/#REF!)*100,\"\")","v":""},{"$f":"IFERROR((#REF!/#REF!)*100,\"\")","v":""},{"$f":"IFERROR((#REF!/#REF!)*100,\"\")","v":""}]
[null,{"$f":"IFERROR(VLOOKUP($C45,#REF!,3,FALSE),\"\")","v":""},null,null,null,null,"","",{"$f":"IFERROR((#REF!/#REF!)*100,\"\")","v":""},{"$f":"IFERROR((#REF!/#REF!)*100,\"\")","v":""},{"$f":"IFERROR((#REF!/#REF!)*100,\"\")","v":""},{"$f":"IFERROR((#REF!/#REF!)*100,\"\")","v":""}]
[null,{"$f":"IFERROR(VLOOKUP($C46,#REF!,3,FALSE),\"\")","v":""},null,null,null,null,"","",{"$f":"IFERROR((#REF!/#REF!)*100,\"\")","v":""},{"$f":"IFERROR((#REF!/#REF!)*100,\"\")","v":""},{"$f":"IFERROR((#REF!/#REF!)*100,\"\")","v":""},{"$f":"IFERROR((#REF!/#REF!)*100,\"\")","v":""}]
[null,{"$f":"IFERROR(VLOOKUP($C47,#REF!,3,FALSE),\"\")","v":""},null,null,null,null,"","",{"$f":"IFERROR((#REF!/#REF!)*100,\"\")","v":""},{"$f":"IFERROR((#REF!/#REF!)*100,\"\")","v":""},{"$f":"IFERROR((#REF!/#REF!)*100,\"\")","v":""},{"$f":"IFERROR((#REF!/#REF!)*100,\"\")","v":""}]
[]
[]
[null,"PRINCIPALES ACCIONES REALIZADAS CON RECURSOS DE ORIGEN FEDERAL: "]
[null,"221 049 E124-Programa Integral de Movilidad Inteligente Al periodo se realizaron a través de la Obra por Administración  los siguientes trabajos: Se realizaron  120,000.00 m2  para el Mantenimiento de la Carpeta Asfáltica con:  Trabajos de Bacheo con 103,304.38 m2 en las siguientes colonias:  A.m.s.a, Ampliación Oriente, Arboledas del Sur, Arenal Tepepan, Barrio El Capulín, Barrio La Fama, Barrio Niño Jesús ,Barrio San Pedro Apóstol, Belisario Domínguez Sección XVI, Belvedere,  Bosques de Tepeximilpa , Bosques del Pedregal , Cantera Puente de Piedra, Centro de Tlalpan, Chimalcoyotl, Chimilli, Cruz del Farol , Cultura Maya , Cuchilla de Padierna, Divisadero, Dos de Octubre , Ejidos de San Pedro Mártir , El Diamante,  El Tecorral , El Mirador 3ra Sección, Fraccionamiento Ex Hacienda San Juan de Dios, Fraccionamiento Granjas Coapa  ,Fraccionamiento Hacienda Coapa , Fraccionamiento Jardines de Villa Coapa, Fraccionamiento Magisterial Coapa, Fraccionamiento Prados Coapa 1a sección, Fraccionamiento Prados Coapa 2a. sección , Fraccionamiento Residencial Coapa ,Fraccionamiento Residencial Miramontes, Fraccionamiento Residencial Villa Coapa S.M.4., Fraccionamiento Residencial Villa Coapa S.M. 5 , Fraccionamiento Rinconada Coapa 1a Sección, Fraccionamiento Vergel de Coyoacán, Fraccionamiento Villa Lázaro Cárdenas ,  Fuentes Brotantes ,  Fuentes del Pedregal, Fuentes de Tepepan,  Guadalupe Tlalpan y San Lorenzo Huipulco , Héroes de 1910, Héroes de Padierna , Isidro Fabela, Jardínes del Ajusco, Juventud Unida, La Joya, La Palma, La Primavera, Lomas Altas de Padierna, Lomas de Padierna, Lomas Hidalgo, Los Encinos, La Santísima Trinidad, Los Volcanes, María Esther Zuno , Mesa los Hornos, Miguel Hidalgo 1a. sección, Miguel Hidalgo 2a. sección , Miguel Hidalgo 3a. sección , Miguel Hidalgo 4a. sección ,Nuevo Renacimiento de Axalco, Parques del Pedregal, Pedregal de las Águilas, Pedregal de San Nicolás 1ra Sección, Pedregal de San Nicolás 2a. sección , Pedregal de San Nicolás 3a. sección, Pedregal de San Nicolás 4a. sección ,  Pedregal de Santa Úrsula Xitla ,  Plan de Ayala, Popular Santa Teresa,  Pueblo de La Magdalena Petlacalco , Pueblo San Andrés Totoltepec, Pueblo San Pedro Mártir, Pueblo de Parres el Guarda, Pueblo de San Miguel Topilejo, Pueblo de San Miguel Xicalco, Pueblo de Santo Tomás Ajusco, Rincón del Mirador II, San Juan Tepeximilpa, San Lorenzo Huipulco, Tlalmille, Temaxtitla, Texcaltenco La Mesa, Tlalcoligia, Tlalmille, Torriello Guerra, Torres de Padierna, Unidad Habitacional Fovissste Fuentes Brotantes, Unidad Habitacional Narciso Mendoza S.M. 2, Unidad Habitacional Narciso Mendoza S.M. 8, Unidad Habitacional Hueso Periférico \"Dr. Ignacio Chávez\" e Infonavit Tenorios, Unidad Habitacional Sauzales Cebadales, Vistas del Pedregal, Viveros de Coactetlán. Trabajos de Carpeta Nueva con 9,429.00 m2 en las siguientes colonias: Fuentes del Pedregal, María Esther Zuno , Miguel Hidalgo 2a. Sección , Pueblo de San Andrés Totoltepec, Pueblo de la Magdalena Petlacalco, Pueblo de San Miguel Ajusco, Pueblo de San Miguel Topilejo, Pueblo de San Miguel Xicalco. Trabajos de Reencarpetado  con 7,266.62 m2 en las siguientes colonias: Fraccionamiento Rinconada Coapa 1ra Sección,   Infonavit Tenorios, Pueblo de San Miguel Ajusco, Toriello Guerra, Unidad Habitacional Hueso Periférico \"Dr. Ignacio Chávez\" Carpeta nueva:   Fuentes del Pedregal, María Esther Zuno , Miguel Hidalgo 2a. Sección , Pueblo de San Andrés Totoltepec, Pueblo de la Magdalena Petlacalco, Pueblo de San Miguel Ajusco, Pueblo de San Miguel Topilejo, Pueblo de San Miguel Xicalco.\nSe relizaron  3,000.90 m2  para los trabajos de mantenimiento a Banquetas en las siguientes colonias:  Cantera Puente de Piedra,Chimalcoyotl, Ejidos de San Pedro Mártir, Fraccionamiento Ex Hacienda San Juan de Dios, Fraccionamiento Floresta Coyoacán, Fraccionamiento Magisterial Coapa, Fraccionamiento Residencial Acoxpa, Fraccionamiento Vergel de Coyoacán, Fraccionamiento Vergel del Sur, Héroes de Padierna, Isidro Fabela, La Joya, La Santísima Trinidad, Lomas de Padierna, Miguel Hidalgo 3ra Sección, Miguel Hidalgo 4ta Sección, Pedregal de San Nicolás 4ta Sección, Pueblo de San Pedro Mártir, Pueblo de San Andrés Totoltepec,  Tlalcoligia, Unidad Habitacional Narciso Mendoza S.M.2.\nSe realizaron 85,000.00 ml  para los trabajos de Balizamiento a Vialidades Secundarias en las siguientes colonias: A.M.S.A., Arenal Guadalupe, Belisario Domínguez Sección XVI, Cumbres de Tepetongo,Fraccionamiento Magisterio Coapa, Fraccionamiento Rinconada Coapa 1ra Sección, Fraccionamiento Nueva Orienta Coapa, Fraccionamiento Vergel de Coyoacán, Fraccionamiento Villa Lázaro Cárdenas, Fuetes Brotantes, Guadalupe Tlalpan, Isidro Fabela, Loreto y Peña Pobre,  Lomas Hidalgo, Lomas de Padierna, Miguel Hidalgo 3a., Miguel Hidalgo 4ta Sección, Nuevo Renacimiento de Axalco, Pedregal de las Aguilas,Pueblo de San Andrés Totoltepec,  Pueblo Magdalena Petlacalco, Pueblo de San Miguel Topilejo, Pueblo de San Pedro Mártir, Pueblo de Santo Tomás Ajusco, San Lorenzo Huipulco, Unidad Habitacional El Zapote, Unidad Habitacional Narciso Mendoza S.M.1, Unidad Habitacional Narciso Mendoza S.M. 7."]
[]
[]
[]
[]
[]
[]
[]
[]
["Al periodo se aperturan los proyectos denominados: Obras en el Marco del Presupuesto Participativo EJERCICIO 2020 y Obras en el Marco del Presupuesto Participativo EJERCICIO 2021 de los cuales en este fondo se aperturan los proyectos del Presupuesto Participativo en cada uno de sus rubros autorizados de los cuales no se tienen ningún avance físico, por lo cual se verán reflejados hasta el cierre de la Cuenta Pública, donde se verá la ejecución de la meta.\nPor otro lado la reducción de los recursos refiere a que se aperturaron en otros programas presupuestarios el Presupuesto Participativo quedando en varios fondos presupuestales. "]
[null,"223 202 K014-Al periodo se programó 1 acción la cual   se cumple al 100%  refiere a la Obra por Administración con los trabajos de repartición de Agua potable a través de los camiones tipo pipas en el capítulo 3000 sin embargo por instrucciones de la Dirección General de Administración y a través de afectaciones presupuestales se reorientan los trabajos realizados al programa 124 004 P002 al fondo FORTAMUN donde se reporta la meta realizada y en este fondo quedan recursos complementarios a la meta.\nLo que refiere al Capítulo 2000, para realizar los trabajos a través de la Obra por Administración, donde se informa que se autorizaron partidas que no requiere la  Dirección General de Obras y Desarrollo Urbano. Izamiento."]
["221 049 E124-Se cumplen los objetivos institucionales referentes a la Obra por Administración, cabe hacer mención que se adicionan recursos debido a que no se contempló presupuesto de origen para realizar los trabajos de mantenimiento a vialidades secundarias, mantenimiento a banquetas y trabajos de balizamiento, por lo que en este programa presupuestario cuenta con FISCALES, PARTICIPACIONES FEDERALES donde se refleja la meta ejecutada, NO ETIQUETADO RECURSOS FEDERALES-PARTICIPACIONES A ENTIDADES FEDERATIVAS Y MUNICIPIOS-FONDO DE COMPENSACIÓN DEL IMPUESTO DE AUTOMÓVILES NUEVOS (ISAN) -2022-ORIGINAL DE LA URG (15OC10) y FORTAMUN"]
["221 274 K016- Se autorizaron recursos del capítulo 6000 con los proyectos denominados: Obras en el Marco del Presupuesto Participativo EJERCICIO 2020 y Obras en el Marco del Presupuesto Participativo EJERCICIO 2021; al periodo ya se cuentan con contrtatos los cuales se realizaron a finales de noviembre, por lo que los trabajos a realizar, se encuentran en proceso de ejecución,  la cual se reflejará hasta la Cuenta Pública del Ejercicio 2021.\nPor otro lado se adicionan recursos. \nAdionalmente rse ampían recursos para el capítulo 2000 partidas: Material eléctrico, material para construcción, Herramientas menores y refacciones y accesorios con Presupuesto Participativo DG:80 Ejercicio 2020, los cuales no pertenecen a la DGODU y el control lo llevará acabo la Dirección General de Participación Ciudadana."]
[" 124 004 P002- Al periodo se autorizan recursos de para los trabajos de repartición de agua potable (PIPAS), los cuales son complemento a la meta que se lleva a cabo en el Fondo FORTAMUN"]

{"sheet":"AP_RF PART.FED 15O310","index":10,"n_rows":58,"n_cols":12,"rows_kept":58,"cut":false,"hidden":false,"merged":[[1,1,1,11],[2,1,2,11],[4,1,4,4],[4,5,4,11],[5,1,5,4],[5,5,5,11],[50,1,54,11],[57,1,57,12],[7,1,7,4],[7,5,7,11],[9,1,9,11],[10,1,10,7],[10,8,10,11],[49,1,49,11]]}
[]
[null,"AP-RF  AVANCE PRESUPUESTAL DE RECURSOS DE ORIGEN FEDERAL"]
[null,"FONDO, CONVENIO, SUBSIDIO O PARTICIPACIÓN: (1)"]
[]
[null,"Unidad Responsable de Gasto:",null,null,null,"DIRECCIÓN GENERAL DE OBRAS Y DESARROLLO URBANO"]
[null,"Período:",null,null,null,"Enero-Diciembre 2021"]
[]
[null,"FONDO",null,null,null,"NO ETIQUETADO RECURSOS FEDERALES-PARTICIPACIONES A ENTIDADES FEDERATIVAS Y MUNICIPIOS-FONDO DE FOMENTO MUNICIPAL-2022-ORIGINAL DE LA URG (15O310)"]
[]
[null,"R      E      S      U      L      T      A      D      O      S"]
[null,"PRESUPUESTO\n(Pesos con dos decimales)",null,null,null,null,null,null,"AVANCE\n%"]
[null,"APROBADO\n","MODIFICADO\n","PROGRAMADO\n","SALDO DEL \nCOMPROMISO","DEVENGADO\n","EJERCIDO\n","PAGADO\n","(DEVENGADO / APROBADO)*100\n","(DEVENGADO / MODIFICADO)*100\n","(EJERCIDO / APROBADO)*100\n","(EJERCIDO / MODIFICADO)*100\n"]
[null,23057,23057,23057,23057,23057,23057,23057,{"$f":"IFERROR(($F13/$B13)*100,\"\")","v":100},{"$f":"IFERROR(($F13/$B13)*100,\"\")","v":100},{"$f":"IFERROR(($G13/$B13)*100,\"\")","v":100},{"$f":"IFERROR(($G13/$C13)*100,\"\")","v":100}]
[]
[null,null,null,null,null,null,null,null,{"$f":"IFERROR((#REF!/#REF!)*100,\"\")","v":""},{"$f":"IFERROR((#REF!/#REF!)*100,\"\")","v":""},{"$f":"IFERROR((#REF!/#REF!)*100,\"\")","v":""},{"$f":"IFERROR((#REF!/#REF!)*100,\"\")","v":""}]
[null,null,null,null,null,null,null,null,{"$f":"IFERROR((#REF!/#REF!)*100,\"\")","v":""},{"$f":"IFERROR((#REF!/#REF!)*100,\"\")","v":""},{"$f":"IFERROR((#REF!/#REF!)*100,\"\")","v":""},{"$f":"IFERROR((#REF!/#REF!)*100,\"\")","v":""}]
[null,{"$f":"IFERROR(VLOOKUP($C17,#REF!,3,FALSE),\"\")","v":""},null,null,null,null,{"$f":"IFERROR(F17/C17,\"\")","v":""},{"$f":"IFERROR((F17/D17*100),\"\")","v":""},{"$f":"IFERROR((#REF!/#REF!)*100,\"\")","v":""},{"$f":"IFERROR((#REF!/#REF!)*100,\"\")","v":""},{"$f":"IFERROR((#REF!/#REF!)*100,\"\")","v":""},{"$f":"IFERROR((#REF!/#REF!)*100,\"\")","v":""}]
[null,{"$f":"IFERROR(VLOOKUP($C18,#REF!,3,FALSE),\"\")","v":""},null,null,null,null,"","",{"$f":"IFERROR((#REF!/#REF!)*100,\"\")","v":""},{"$f":"IFERROR((#REF!/#REF!)*100,\"\")","v":""},{"$f":"IFERROR((#REF!/#REF!)*100,\"\")","v":""},{"$f":"IFERROR((#REF!/#REF!)*100,\"\")","v":""}]
[null,{"$f":"IFERROR(VLOOKUP($C19,#REF!,3,FALSE),\"\")","v":""},null,null,null,null,"","",{"$f":"IFERROR((#REF!/#REF!)*100,\"\")","v":""},{"$f":"IFERROR((#REF!/#REF!)*100,\"\")","v":""},{"$f":"IFERROR((#REF!/#REF!)*100,\"\")","v":""},{"$f":"IFERROR((#REF!/#REF!)*100,\"\")","v":""}]
[null,{"$f":"IFERROR(VLOOKUP($C20,#REF!,3,FALSE),\"\")","v":""},null,null,null,null,"","",{"$f":"IFERROR((#REF!/#REF!)*100,\"\")","v":""},{"$f":"IFERROR((#REF!/#REF!)*100,\"\")","v":""},{"$f":"IFERROR((#REF!/#REF!)*100,\"\")","v":""},{"$f":"IFERROR((#REF!/#REF!)*100,\"\")","v":""}]
[null,{"$f":"IFERROR(VLOOKUP($C21,#REF!,3,FALSE),\"\")","v":""},null,null,null,null,"","",{"$f":"IFERROR((#REF!/#REF!)*100,\"\")","v":""},{"$f":"IFERROR((#REF!/#REF!)*100,\"\")","v":""},{"$f":"IFERROR((#REF!/#REF!)*100,\"\")","v":""},{"$f":"IFERROR((#REF!/#REF!)*100,\"\")","v":""}]
[null,{"$f":"IFERROR(VLOOKUP($C22,#REF!,3,FALSE),\"\")","v":""},null,null,null,null,"","",{"$f":"IFERROR((#REF!/#REF!)*100,\"\")","v":""},{"$f":"IFERROR((#REF!/#REF!)*100,\"\")","v":""},{"$f":"IFERROR((#REF!/#REF!)*100,\"\")","v":""},{"$f":"IFERROR((#REF!/#REF!)*100,\"\")","v":""}]
[null,{"$f":"IFERROR(VLOOKUP($C23,#REF!,3,FALSE),\"\")","v":""},null,null,null,null,"","",{"$f":"IFERROR((#REF!/#REF!)*100,\"\")","v":""},{"$f":"IFERROR((#REF!/#REF!)*100,\"\")","v":""},{"$f":"IFERROR((#REF!/#REF!)*100,\"\")","v":""},{"$f":"IFERROR((#REF!/#REF!)*100,\"\")","v":""}]
[null,{"$f":"IFERROR(VLOOKUP($C24,#REF!,3,FALSE),\"\")","v":""},null,null,null,null,"","",{"$f":"IFERROR((#REF!/#REF!)*100,\"\")","v":""},{"$f":"IFERROR((#REF!/#REF!)*100,\"\")","v":""},{"$f":"IFERROR((#REF!/#REF!)*100,\"\")","v":""},{"$f":"IFERROR((#REF!/#REF!)*100,\"\")","v":""}]
[null,{"$f":"IFERROR(VLOOKUP($C25,#REF!,3,FALSE),\"\")","v":""},null,null,null,null,"","",{"$f":"IFERROR((#REF!/#REF!)*100,\"\")","v":""},{"$f":"IFERROR((#REF!/#REF!)*100,\"\")","v":""},{"$f":"IFERROR((#REF!/#REF!)*100,\"\")","v":""},{"$f":"IFERROR((#REF!/#REF!)*100,\"\")","v":""}]
[null,{"$f":"IFERROR(VLOOKUP($C26,#REF!,3,FALSE),\"\")","v":""},null,null,null,null,"","",{"$f":"IFERROR((#REF!/#REF!)*100,\"\")","v":""},{"$f":"IFERROR((#REF!/#REF!)*100,\"\")","v":""},{"$f":"IFERROR((#REF!/#REF!)*100,\"\")","v":""},{"$f":"IFERROR((#REF!/#REF!)*100,\"\")","v":""}]
[null,{"$f":"IFERROR(VLOOKUP($C27,#REF!,3,FALSE),\"\")","v":""},null,null,null,null,"","",{"$f":"IFERROR((#REF!/#REF!)*100,\"\")","v":""},{"$f":"IFERROR((#REF!/#REF!)*100,\"\")","v":""},{"$f":"IFERROR((#REF!/#REF!)*100,\"\")","v":""},{"$f":"IFERROR((#REF!/#REF!)*100,\"\")","v":""}]
[null,{"$f":"IFERROR(VLOOKUP($C28,#REF!,3,FALSE),\"\")","v":""},null,null,null,null,"","",{"$f":"IFERROR((#REF!/#REF!)*100,\"\")","v":""},{"$f":"IFERROR((#REF!/#REF!)*100,\"\")","v":""},{"$f":"IFERROR((#REF!/#REF!)*100,\"\")","v":""},{"$f":"IFERROR((#REF!/#REF!)*100,\"\")","v":""}]
[null,{"$f":"IFERROR(VLOOKUP($C29,#REF!,3,FALSE),\"\")","v":""},null,null,null,null,"","",{"$f":"IFERROR((#REF!/#REF!)*100,\"\")","v":""},{"$f":"IFERROR((#REF!/#REF!)*100,\"\")","v":""},{"$f":"IFERROR((#REF!/#REF!)*100,\"\")","v":""},{"$f":"IFERROR((#REF!/#REF!)*100,\"\")","v":""}]
[null,{"$f":"IFERROR(VLOOKUP($C30,#REF!,3,FALSE),\"\")","v":""},null,null,null,null,"","",{"$f":"IFERROR((#REF!/#REF!)*100,\"\")","v":""},{"$f":"IFERROR((#REF!/#REF!)*100,\"\")","v":""},{"$f":"IFERROR((#REF!/#REF!)*100,\"\")","v":""},{"$f":"IFERROR((#REF!/#REF!)*100,\"\")","v":""}]
[null,{"$f":"IFERROR(VLOOKUP($C31,#REF!,3,FALSE),\"\")","v":""},null,null,null,null,"","",{"$f":"IFERROR((#REF!/#REF!)*100,\"\")","v":""},{"$f":"IFERROR((#REF!/#REF!)*100,\"\")","v":""},{"$f":"IFERROR((#REF!/#REF!)*100,\"\")","v":""},{"$f":"IFERROR((#REF!/#REF!)*100,\"\")","v":""}]
[null,{"$f":"IFERROR(VLOOKUP($C32,#REF!,3,FALSE),\"\")","v":""},null,null,null,null,"","",{"$f":"IFERROR((#REF!/#REF!)*100,\"\")","v":""},{"$f":"IFERROR((#REF!/#REF!)*100,\"\")","v":""},{"$f":"IFERROR((#REF!/#REF!)*100,\"\")","v":""},{"$f":"IFERROR((#REF!/#REF!)*100,\"\")","v":""}]
[null,{"$f":"IFERROR(VLOOKUP($C33,#REF!,3,FALSE),\"\")","v":""},null,null,null,null,"","",{"$f":"IFERROR((#REF!/#REF!)*100,\"\")","v":""},{"$f":"IFERROR((#REF!/#REF!)*100,\"\")","v":""},{"$f":"IFERROR((#REF!/#REF!)*100,\"\")","v":""},{"$f":"IFERROR((#REF!/#REF!)*100,\"\")","v":""}]
[null,{"$f":"IFERROR(VLOOKUP($C34,#REF!,3,FALSE),\"\")","v":""},null,null,null,null,"","",{"$f":"IFERROR((#REF!/#REF!)*100,\"\")","v":""},{"$f":"IFERROR((#REF!/#REF!)*100,\"\")","v":""},{"$f":"IFERROR((#REF!/#REF!)*100,\"\")","v":""},{"$f":"IFERROR((#REF!/#REF!)*100,\"\")","v":""}]
[null,{"$f":"IFERROR(VLOOKUP($C35,#REF!,3,FALSE),\"\")","v":""},null,null,null,null,"","",{"$f":"IFERROR((#REF!/#REF!)*100,\"\")","v":""},{"$f":"IFERROR((#REF!/#REF!)*100,\"\")","v":""},{"$f":"IFERROR((#REF!/#REF!)*100,\"\")","v":""},{"$f":"IFERROR((#REF!/#REF!)*100,\"\")","v":""}]
[null,{"$f":"IFERROR(VLOOKUP($C36,#REF!,3,FALSE),\"\")","v":""},null,null,null,null,"","",{"$f":"IFERROR((#REF!/#REF!)*100,\"\")","v":""},{"$f":"IFERROR((#REF!/#REF!)*100,\"\")","v":""},{"$f":"IFERROR((#REF!/#REF!)*100,\"\")","v":""},{"$f":"IFERROR((#REF!/#REF!)*100,\"\")","v":""}]
[null,{"$f":"IFERROR(VLOOKUP($C37,#REF!,3,FALSE),\"\")","v":""},null,null,null,null,"","",{"$f":"IFERROR((#REF!/#REF!)*100,\"\")","v":""},{"$f":"IFERROR((#REF!/#REF!)*100,\"\")","v":""},{"$f":"IFERROR((#REF!/#REF!)*100,\"\")","v":""},{"$f":"IFERROR((#REF!/#REF!)*100,\"\")","v":""}]
[null,{"$f":"IFERROR(VLOOKUP($C38,#REF!,3,FALSE),\"\")","v":""},null,null,null,null,"","",{"$f":"IFERROR((#REF!/#REF!)*100,\"\")","v":""},{"$f":"IFERROR((#REF!/#REF!)*100,\"\")","v":""},{"$f":"IFERROR((#REF!/#REF!)*100,\"\")","v":""},{"$f":"IFERROR((#REF!/#REF!)*100,\"\")","v":""}]
[null,{"$f":"IFERROR(VLOOKUP($C39,#REF!,3,FALSE),\"\")","v":""},null,null,null,null,"","",{"$f":"IFERROR((#REF!/#REF!)*100,\"\")","v":""},{"$f":"IFERROR((#REF!/#REF!)*100,\"\")","v":""},{"$f":"IFERROR((#REF!/#REF!)*100,\"\")","v":""},{"$f":"IFERROR((#REF!/#REF!)*100,\"\")","v":""}]
[null,{"$f":"IFERROR(VLOOKUP($C40,#REF!,3,FALSE),\"\")","v":""},null,null,null,null,"","",{"$f":"IFERROR((#REF!/#REF!)*100,\"\")","v":""},{"$f":"IFERROR((#REF!/#REF!)*100,\"\")","v":""},{"$f":"IFERROR((#REF!/#REF!)*100,\"\")","v":""},{"$f":"IFERROR((#REF!/#REF!)*100,\"\")","v":""}]
[null,{"$f":"IFERROR(VLOOKUP($C41,#REF!,3,FALSE),\"\")","v":""},null,null,null,null,"","",{"$f":"IFERROR((#REF!/#REF!)*100,\"\")","v":""},{"$f":"IFERROR((#REF!/#REF!)*100,\"\")","v":""},{"$f":"IFERROR((#REF!/#REF!)*100,\"\")","v":""},{"$f":"IFERROR((#REF!/#REF!)*100,\"\")","v":""}]
[null,{"$f":"IFERROR(VLOOKUP($C42,#REF!,3,FALSE),\"\")","v":""},null,null,null,null,"","",{"$f":"IFERROR((#REF!/#REF!)*100,\"\")","v":""},{"$f":"IFERROR((#REF!/#REF!)*100,\"\")","v":""},{"$f":"IFERROR((#REF!/#REF!)*100,\"\")","v":""},{"$f":"IFERROR((#REF!/#REF!)*100,\"\")","v":""}]
[null,{"$f":"IFERROR(VLOOKUP($C43,#REF!,3,FALSE),\"\")","v":""},null,null,null,null,"","",{"$f":"IFERROR((#REF!/#REF!)*100,\"\")","v":""},{"$f":"IFERROR((#REF!/#REF!)*100,\"\")","v":""},{"$f":"IFERROR((#REF!/#REF!)*100,\"\")","v":""},{"$f":"IFERROR((#REF!/#REF!)*100,\"\")","v":""}]
[null,{"$f":"IFERROR(VLOOKUP($C44,#REF!,3,FALSE),\"\")","v":""},null,null,null,null,"","",{"$f":"IFERROR((#REF!/#REF!)*100,\"\")","v":""},{"$f":"IFERROR((#REF!/#REF!)*100,\"\")","v":""},{"$f":"IFERROR((#REF!/#REF!)*100,\"\")","v":""},{"$f":"IFERROR((#REF!/#REF!)*100,\"\")","v":""}]
[null,{"$f":"IFERROR(VLOOKUP($C45,#REF!,3,FALSE),\"\")","v":""},null,null,null,null,"","",{"$f":"IFERROR((#REF!/#REF!)*100,\"\")","v":""},{"$f":"IFERROR((#REF!/#REF!)*100,\"\")","v":""},{"$f":"IFERROR((#REF!/#REF!)*100,\"\")","v":""},{"$f":"IFERROR((#REF!/#REF!)*100,\"\")","v":""}]
[null,{"$f":"IFERROR(VLOOKUP($C46,#REF!,3,FALSE),\"\")","v":""},null,null,null,null,"","",{"$f":"IFERROR((#REF!/#REF!)*100,\"\")","v":""},{"$f":"IFERROR((#REF!/#REF!)*100,\"\")","v":""},{"$f":"IFERROR((#REF!/#REF!)*100,\"\")","v":""},{"$f":"IFERROR((#REF!/#REF!)*100,\"\")","v":""}]
[null,{"$f":"IFERROR(VLOOKUP($C47,#REF!,3,FALSE),\"\")","v":""},null,null,null,null,"","",{"$f":"IFERROR((#REF!/#REF!)*100,\"\")","v":""},{"$f":"IFERROR((#REF!/#REF!)*100,\"\")","v":""},{"$f":"IFERROR((#REF!/#REF!)*100,\"\")","v":""},{"$f":"IFERROR((#REF!/#REF!)*100,\"\")","v":""}]
[]
[]
[null,"PRINCIPALES ACCIONES REALIZADAS CON RECURSOS DE ORIGEN FEDERAL: "]
[null,"Al periodo no hay acciones realizadas"]
[]
[]
[]
[]
[]
[]
[null,"223 202 K014- Se autorizaron recursos del capítulo 2000 partida 2441 para compra de Madera y productos de madera la cual es controlada por la Dirección General de Administración."]

{"sheet":"AP_RF PART.FED 15O410","index":11,"n_rows":88,"n_cols":12,"rows_kept":88,"cut":false,"hidden":false,"merged":[[1,1,1,11],[2,1,2,11],[4,1,4,4],[4,5,4,11],[5,1,5,4],[5,5,5,11],[50,1,66,11],[67,1,83,11],[87,1,87,11],[86,1,86,11],[7,1,7,4],[7,5,7,11],[9,1,9,11],[10,1,10,7],[10,8,10,11],[49,1,49,11]]}
[]
[null,"AP-RF  AVANCE PRESUPUESTAL DE RECURSOS DE ORIGEN FEDERAL"]
[null,"FONDO, CONVENIO, SUBSIDIO O PARTICIPACIÓN: (1)"]
[]
[null,"Unidad Responsable de Gasto:",null,null,null,"DIRECCIÓN GENERAL DE OBRAS Y DESARROLLO URBANO"]
[null,"Período:",null,null,null,"Enero-Diciembre 2021"]
[]
[null,"FONDO",null,null,null,"NO ETIQUETADO RECURSOS FEDERALES-PARTICIPACIONES A ENTIDADES FEDERATIVAS Y MUNICIPIOS- PARTICIPACIONES EN EL IMPUESTO ESPECIAL SOBRE PRODUCCIÓN Y SERVICIOS-2022-ORIGINAL DE LA URG (15O410)"]
[]
[null,"R      E      S      U      L      T      A      D      O      S"]
[null,"PRESUPUESTO\n(Pesos con dos decimales)",null,null,null,null,null,null,"AVANCE\n%"]
[null,"APROBADO\n","MODIFICADO\n","PROGRAMADO\n","SALDO DEL \nCOMPROMISO","DEVENGADO\n","EJERCIDO\n","PAGADO\n","(DEVENGADO / APROBADO)*100\n","(DEVENGADO / MODIFICADO)*100\n","(EJERCIDO / APROBADO)*100\n","(EJERCIDO / MODIFICADO)*100\n"]
[null,528943,689145.43,647482.43000000005,647482.43000000005,647482.43000000005,528885.02,528885.02,0,{"$f":"IFERROR(($F13/$B13)*100,\"\")","v":122.41062458525778},{"$f":"IFERROR(($G13/$B13)*100,\"\")","v":99.989038516437503},{"$f":"IFERROR(($G13/$C13)*100,\"\")","v":76.74505220182624}]
[]
[null,null,null,null,null,null,null,null,{"$f":"IFERROR((#REF!/#REF!)*100,\"\")","v":""},{"$f":"IFERROR((#REF!/#REF!)*100,\"\")","v":""},{"$f":"IFERROR((#REF!/#REF!)*100,\"\")","v":""},{"$f":"IFERROR((#REF!/#REF!)*100,\"\")","v":""}]
[null,null,null,null,null,null,null,null,{"$f":"IFERROR((#REF!/#REF!)*100,\"\")","v":""},{"$f":"IFERROR((#REF!/#REF!)*100,\"\")","v":""},{"$f":"IFERROR((#REF!/#REF!)*100,\"\")","v":""},{"$f":"IFERROR((#REF!/#REF!)*100,\"\")","v":""}]
[null,{"$f":"IFERROR(VLOOKUP($C17,#REF!,3,FALSE),\"\")","v":""},null,null,null,null,{"$f":"IFERROR(F17/C17,\"\")","v":""},{"$f":"IFERROR((F17/D17*100),\"\")","v":""},{"$f":"IFERROR((#REF!/#REF!)*100,\"\")","v":""},{"$f":"IFERROR((#REF!/#REF!)*100,\"\")","v":""},{"$f":"IFERROR((#REF!/#REF!)*100,\"\")","v":""},{"$f":"IFERROR((#REF!/#REF!)*100,\"\")","v":""}]
[null,{"$f":"IFERROR(VLOOKUP($C18,#REF!,3,FALSE),\"\")","v":""},null,null,null,null,"","",{"$f":"IFERROR((#REF!/#REF!)*100,\"\")","v":""},{"$f":"IFERROR((#REF!/#REF!)*100,\"\")","v":""},{"$f":"IFERROR((#REF!/#REF!)*100,\"\")","v":""},{"$f":"IFERROR((#REF!/#REF!)*100,\"\")","v":""}]
[null,{"$f":"IFERROR(VLOOKUP($C19,#REF!,3,FALSE),\"\")","v":""},null,null,null,null,"","",{"$f":"IFERROR((#REF!/#REF!)*100,\"\")","v":""},{"$f":"IFERROR((#REF!/#REF!)*100,\"\")","v":""},{"$f":"IFERROR((#REF!/#REF!)*100,\"\")","v":""},{"$f":"IFERROR((#REF!/#REF!)*100,\"\")","v":""}]
[null,{"$f":"IFERROR(VLOOKUP($C20,#REF!,3,FALSE),\"\")","v":""},null,null,null,null,"","",{"$f":"IFERROR((#REF!/#REF!)*100,\"\")","v":""},{"$f":"IFERROR((#REF!/#REF!)*100,\"\")","v":""},{"$f":"IFERROR((#REF!/#REF!)*100,\"\")","v":""},{"$f":"IFERROR((#REF!/#REF!)*100,\"\")","v":""}]
[null,{"$f":"IFERROR(VLOOKUP($C21,#REF!,3,FALSE),\"\")","v":""},null,null,null,null,"","",{"$f":"IFERROR((#REF!/#REF!)*100,\"\")","v":""},{"$f":"IFERROR((#REF!/#REF!)*100,\"\")","v":""},{"$f":"IFERROR((#REF!/#REF!)*100,\"\")","v":""},{"$f":"IFERROR((#REF!/#REF!)*100,\"\")","v":""}]
[null,{"$f":"IFERROR(VLOOKUP($C22,#REF!,3,FALSE),\"\")","v":""},null,null,null,null,"","",{"$f":"IFERROR((#REF!/#REF!)*100,\"\")","v":""},{"$f":"IFERROR((#REF!/#REF!)*100,\"\")","v":""},{"$f":"IFERROR((#REF!/#REF!)*100,\"\")","v":""},{"$f":"IFERROR((#REF!/#REF!)*100,\"\")","v":""}]
[null,{"$f":"IFERROR(VLOOKUP($C23,#REF!,3,FALSE),\"\")","v":""},null,null,null,null,"","",{"$f":"IFERROR((#REF!/#REF!)*100,\"\")","v":""},{"$f":"IFERROR((#REF!/#REF!)*100,\"\")","v":""},{"$f":"IFERROR((#REF!/#REF!)*100,\"\")","v":""},{"$f":"IFERROR((#REF!/#REF!)*100,\"\")","v":""}]
[null,{"$f":"IFERROR(VLOOKUP($C24,#REF!,3,FALSE),\"\")","v":""},null,null,null,null,"","",{"$f":"IFERROR((#REF!/#REF!)*100,\"\")","v":""},{"$f":"IFERROR((#REF!/#REF!)*100,\"\")","v":""},{"$f":"IFERROR((#REF!/#REF!)*100,\"\")","v":""},{"$f":"IFERROR((#REF!/#REF!)*100,\"\")","v":""}]
[null,{"$f":"IFERROR(VLOOKUP($C25,#REF!,3,FALSE),\"\")","v":""},null,null,null,null,"","",{"$f":"IFERROR((#REF!/#REF!)*100,\"\")","v":""},{"$f":"IFERROR((#REF!/#REF!)*100,\"\")","v":""},{"$f":"IFERROR((#REF!/#REF!)*100,\"\")","v":""},{"$f":"IFERROR((#REF!/#REF!)*100,\"\")","v":""}]
[null,{"$f":"IFERROR(VLOOKUP($C26,#REF!,3,FALSE),\"\")","v":""},null,null,null,null,"","",{"$f":"IFERROR((#REF!/#REF!)*100,\"\")","v":""},{"$f":"IFERROR((#REF!/#REF!)*100,\"\")","v":""},{"$f":"IFERROR((#REF!/#REF!)*100,\"\")","v":""},{"$f":"IFERROR((#REF!/#REF!)*100,\"\")","v":""}]
[null,{"$f":"IFERROR(VLOOKUP($C27,#REF!,3,FALSE),\"\")","v":""},null,null,null,null,"","",{"$f":"IFERROR((#REF!/#REF!)*100,\"\")","v":""},{"$f":"IFERROR((#REF!/#REF!)*100,\"\")","v":""},{"$f":"IFERROR((#REF!/#REF!)*100,\"\")","v":""},{"$f":"IFERROR((#REF!/#REF!)*100,\"\")","v":""}]
[null,{"$f":"IFERROR(VLOOKUP($C28,#REF!,3,FALSE),\"\")","v":""},null,null,null,null,"","",{"$f":"IFERROR((#REF!/#REF!)*100,\"\")","v":""},{"$f":"IFERROR((#REF!/#REF!)*100,\"\")","v":""},{"$f":"IFERROR((#REF!/#REF!)*100,\"\")","v":""},{"$f":"IFERROR((#REF!/#REF!)*100,\"\")","v":""}]
[null,{"$f":"IFERROR(VLOOKUP($C29,#REF!,3,FALSE),\"\")","v":""},null,null,null,null,"","",{"$f":"IFERROR((#REF!/#REF!)*100,\"\")","v":""},{"$f":"IFERROR((#REF!/#REF!)*100,\"\")","v":""},{"$f":"IFERROR((#REF!/#REF!)*100,\"\")","v":""},{"$f":"IFERROR((#REF!/#REF!)*100,\"\")","v":""}]
[null,{"$f":"IFERROR(VLOOKUP($C30,#REF!,3,FALSE),\"\")","v":""},null,null,null,null,"","",{"$f":"IFERROR((#REF!/#REF!)*100,\"\")","v":""},{"$f":"IFERROR((#REF!/#REF!)*100,\"\")","v":""},{"$f":"IFERROR((#REF!/#REF!)*100,\"\")","v":""},{"$f":"IFERROR((#REF!/#REF!)*100,\"\")","v":""}]
[null,{"$f":"IFERROR(VLOOKUP($C31,#REF!,3,FALSE),\"\")","v":""},null,null,null,null,"","",{"$f":"IFERROR((#REF!/#REF!)*100,\"\")","v":""},{"$f":"IFERROR((#REF!/#REF!)*100,\"\")","v":""},{"$f":"IFERROR((#REF!/#REF!)*100,\"\")","v":""},{"$f":"IFERROR((#REF!/#REF!)*100,\"\")","v":""}]
[null,{"$f":"IFERROR(VLOOKUP($C32,#REF!,3,FALSE),\"\")","v":""},null,null,null,null,"","",{"$f":"IFERROR((#REF!/#REF!)*100,\"\")","v":""},{"$f":"IFERROR((#REF!/#REF!)*100,\"\")","v":""},{"$f":"IFERROR((#REF!/#REF!)*100,\"\")","v":""},{"$f":"IFERROR((#REF!/#REF!)*100,\"\")","v":""}]
[null,{"$f":"IFERROR(VLOOKUP($C33,#REF!,3,FALSE),\"\")","v":""},null,null,null,null,"","",{"$f":"IFERROR((#REF!/#REF!)*100,\"\")","v":""},{"$f":"IFERROR((#REF!/#REF!)*100,\"\")","v":""},{"$f":"IFERROR((#REF!/#REF!)*100,\"\")","v":""},{"$f":"IFERROR((#REF!/#REF!)*100,\"\")","v":""}]
[null,{"$f":"IFERROR(VLOOKUP($C34,#REF!,3,FALSE),\"\")","v":""},null,null,null,null,"","",{"$f":"IFERROR((#REF!/#REF!)*100,\"\")","v":""},{"$f":"IFERROR((#REF!/#REF!)*100,\"\")","v":""},{"$f":"IFERROR((#REF!/#REF!)*100,\"\")","v":""},{"$f":"IFERROR((#REF!/#REF!)*100,\"\")","v":""}]
[null,{"$f":"IFERROR(VLOOKUP($C35,#REF!,3,FALSE),\"\")","v":""},null,null,null,null,"","",{"$f":"IFERROR((#REF!/#REF!)*100,\"\")","v":""},{"$f":"IFERROR((#REF!/#REF!)*100,\"\")","v":""},{"$f":"IFERROR((#REF!/#REF!)*100,\"\")","v":""},{"$f":"IFERROR((#REF!/#REF!)*100,\"\")","v":""}]
[null,{"$f":"IFERROR(VLOOKUP($C36,#REF!,3,FALSE),\"\")","v":""},null,null,null,null,"","",{"$f":"IFERROR((#REF!/#REF!)*100,\"\")","v":""},{"$f":"IFERROR((#REF!/#REF!)*100,\"\")","v":""},{"$f":"IFERROR((#REF!/#REF!)*100,\"\")","v":""},{"$f":"IFERROR((#REF!/#REF!)*100,\"\")","v":""}]
[null,{"$f":"IFERROR(VLOOKUP($C37,#REF!,3,FALSE),\"\")","v":""},null,null,null,null,"","",{"$f":"IFERROR((#REF!/#REF!)*100,\"\")","v":""},{"$f":"IFERROR((#REF!/#REF!)*100,\"\")","v":""},{"$f":"IFERROR((#REF!/#REF!)*100,\"\")","v":""},{"$f":"IFERROR((#REF!/#REF!)*100,\"\")","v":""}]
[null,{"$f":"IFERROR(VLOOKUP($C38,#REF!,3,FALSE),\"\")","v":""},null,null,null,null,"","",{"$f":"IFERROR((#REF!/#REF!)*100,\"\")","v":""},{"$f":"IFERROR((#REF!/#REF!)*100,\"\")","v":""},{"$f":"IFERROR((#REF!/#REF!)*100,\"\")","v":""},{"$f":"IFERROR((#REF!/#REF!)*100,\"\")","v":""}]
[null,{"$f":"IFERROR(VLOOKUP($C39,#REF!,3,FALSE),\"\")","v":""},null,null,null,null,"","",{"$f":"IFERROR((#REF!/#REF!)*100,\"\")","v":""},{"$f":"IFERROR((#REF!/#REF!)*100,\"\")","v":""},{"$f":"IFERROR((#REF!/#REF!)*100,\"\")","v":""},{"$f":"IFERROR((#REF!/#REF!)*100,\"\")","v":""}]
[null,{"$f":"IFERROR(VLOOKUP($C40,#REF!,3,FALSE),\"\")","v":""},null,null,null,null,"","",{"$f":"IFERROR((#REF!/#REF!)*100,\"\")","v":""},{"$f":"IFERROR((#REF!/#REF!)*100,\"\")","v":""},{"$f":"IFERROR((#REF!/#REF!)*100,\"\")","v":""},{"$f":"IFERROR((#REF!/#REF!)*100,\"\")","v":""}]
[null,{"$f":"IFERROR(VLOOKUP($C41,#REF!,3,FALSE),\"\")","v":""},null,null,null,null,"","",{"$f":"IFERROR((#REF!/#REF!)*100,\"\")","v":""},{"$f":"IFERROR((#REF!/#REF!)*100,\"\")","v":""},{"$f":"IFERROR((#REF!/#REF!)*100,\"\")","v":""},{"$f":"IFERROR((#REF!/#REF!)*100,\"\")","v":""}]
[null,{"$f":"IFERROR(VLOOKUP($C42,#REF!,3,FALSE),\"\")","v":""},null,null,null,null,"","",{"$f":"IFERROR((#REF!/#REF!)*100,\"\")","v":""},{"$f":"IFERROR((#REF!/#REF!)*100,\"\")","v":""},{"$f":"IFERROR((#REF!/#REF!)*100,\"\")","v":""},{"$f":"IFERROR((#REF!/#REF!)*100,\"\")","v":""}]
[null,{"$f":"IFERROR(VLOOKUP($C43,#REF!,3,FALSE),\"\")","v":""},null,null,null,null,"","",{"$f":"IFERROR((#REF!/#REF!)*100,\"\")","v":""},{"$f":"IFERROR((#REF!/#REF!)*100,\"\")","v":""},{"$f":"IFERROR((#REF!/#REF!)*100,\"\")","v":""},{"$f":"IFERROR((#REF!/#REF!)*100,\"\")","v":""}]
[null,{"$f":"IFERROR(VLOOKUP($C44,#REF!,3,FALSE),\"\")","v":""},null,null,null,null,"","",{"$f":"IFERROR((#REF!/#REF!)*100,\"\")","v":""},{"$f":"IFERROR((#REF!/#REF!)*100,\"\")","v":""},{"$f":"IFERROR((#REF!/#REF!)*100,\"\")","v":""},{"$f":"IFERROR((#REF!/#REF!)*100,\"\")","v":""}]
[null,{"$f":"IFERROR(VLOOKUP($C45,#REF!,3,FALSE),\"\")","v":""},null,null,null,null,"","",{"$f":"IFERROR((#REF!/#REF!)*100,\"\")","v":""},{"$f":"IFERROR((#REF!/#REF!)*100,\"\")","v":""},{"$f":"IFERROR((#REF!/#REF!)*100,\"\")","v":""},{"$f":"IFERROR((#REF!/#REF!)*100,\"\")","v":""}]
[null,{"$f":"IFERROR(VLOOKUP($C46,#REF!,3,FALSE),\"\")","v":""},null,null,null,null,"","",{"$f":"IFERROR((#REF!/#REF!)*100,\"\")","v":""},{"$f":"IFERROR((#REF!/#REF!)*100,\"\")","v":""},{"$f":"IFERROR((#REF!/#REF!)*100,\"\")","v":""},{"$f":"IFERROR((#REF!/#REF!)*100,\"\")","v":""}]
[null,{"$f":"IFERROR(VLOOKUP($C47,#REF!,3,FALSE),\"\")","v":""},null,null,null,null,"","",{"$f":"IFERROR((#REF!/#REF!)*100,\"\")","v":""},{"$f":"IFERROR((#REF!/#REF!)*100,\"\")","v":""},{"$f":"IFERROR((#REF!/#REF!)*100,\"\")","v":""},{"$f":"IFERROR((#REF!/#REF!)*100,\"\")","v":""}]
[]
[]
[null,"PRINCIPALES ACCIONES REALIZADAS CON RECURSOS DE ORIGEN FEDERAL: "]
[null,"223 202 K014-Infraestructura de Agua Potable; Alcantarillado y Saneamiento  A través de la Obra por Administración al perido se realizaron  159,401.00 ml para el Mantenimiento a la red de Agua Potable en las siguientes colonias : 2 De Octubre ,Actopan, Ampl. Miguel Hidalgo, Ampl. Miguel Hidalgo 2da Secc,Ampl. Miguel Hidalgo 3era Secc,Ampl. Miguel Hidalgo 4ta Secc,Ampliación Oriente, Ampliación Plan de Ayala, Ampliación Tepeximilpa, Arboledas Del Sur , Barrio El Capulín, Barrio del niño Jesús, Belisario Domínguez, Belvedere, Bosques del Pedregal, Cantera Puente de Piedra, Chimilli,Chitchitcaspatl ,Cultura Maya, Cruz Del Farol , Cumbres de Tepetongo, Diamante, Divisadero, Ejidos de San Lorenzo Huipulco, Ejidos De San Pedro Mártir, El Mirador, El Mirador 3era Sección, Ex Hacienda Coapa, Ex Hacienda San Juan de Dios, Floresta Coyoacan,Fracc.  Javier Ramos Millán ,Fuentes Brotantes ,Fuentes De Tepepan , Fuentes del Pedregal, Guadalupe Tlalpan, Granjas Coapa, Hacienda San Juan De Dios ,Héroes De Padierna ,Isidro Fabela , ISSSFAM, Jardines Del Ajusco ,Jardines de la Montaña, Juventud Unida, La Joya , La Fama,  La Palma, La Palma 1era Secc., La Palma 2da Secc , La Tortuga Xolalpan, Lomas Altas De Padierna Sur ,Lomas De Padierna, Lomas Hidalgo, Lomas de Cuilotepec, Los Encinos ,Ma. Esther Zuno de Echeverría, Magdalena Petlacalco, Mesa Los Hornos, Miguel Hidalgo 1era Secc., Miguel Hidalgo 2da Secc ,Miguel Hidalgo 3era Secc ,Miguel Hidalgo 4ta Secc ,Miguel hidalgo ,Mirador, Mirador 1era Secc., Mirador 2da Secc., Mirador del Valle, Mirador I, Mirador II, Movimiento Organizado, Nueva Oriental Coapa, Nuevo Renacimiento De Axalco ,Paraje 38 ,Paraje Tetenco, Parres el Guarda, Parques Del Pedregal  ,Pedregal De Las Águilas ,Pedregal De San Nicolás ,Pedregal De San Nicolás 1a Secc ,Pedregal De San Nicolás 3era Secc ,Pedregal De San Nicolás 4a Secc ,Pedregal de Santa Úrsula Xitla, Pedregal De Tepepan ,Peña Pobre ,Plan de Ayala, Popular Santa Teresa ,Prados Coapa 1era Secc., Prados Coapa 2da Secc., Primavera, Progreso Tlalpan, Pueblo Quieto ,Residencial Acoxpa, Residencial  Chimalli ,Residencial  Villa Coapa , Rincón del Pedregal, Rinconada Coapa, Rinconada del Mirador, San Andrés Totoltepec ,San Bartolo el Chico, San Juan  Tepeximilpa ,San Lorenzo Huipulco, San Miguel Ajusco , San Miguel Topilejo ,San Miguel Xicalco, San Pedro  Mártir ,Santa Úrsula Xitla ,Santo Tomas Ajusco ,Santísima Trinidad, Tecorral, Tenorios, Tepetitla el Alto, Tlalcoligia, Tlalmille, Tlalpan Centro, Tlaxcaltenco la Mesa, Toriello Guerra ,Torres De Padierna , Tortuga Xolalpan , U.Hab ISSSFAM, U. Hab  Narcizo  Mendoza ,Valle Escondido ,Verano ,Vergel  Coapa ,Villa Charros Del  Pedregal ,Villa Coapa , Villa Lázaro Cárdenas, Vistas del Pedregal, Viveros de Coactectlán, Volcanes .\nAdicionalmente se realizaron trabajos en la reparación de 2,627.00 Fugas en las siguientes colonias:  2 De Octubre ,3 de Mayo, Ampl. Isidro Fabela,Ampl. Miguel Hidalgo,Ampl. Miguel Hidalgo 2da Secc,Ampl. Miguel Hidalgo 3era Secc, Ampl. Miguel Hidalgo 4ta Secc., Ampl. Tepeximilpa, Ampl. San Juan Tepeximilpa, Arboledas Del Sur,Arenal  Tepepan, Amsa, Anexo Mesa los Hornos, Arenal Guadalupe, Barrio Del Niño Jesus,Belizario  Dominguez,Belvedere,Bosques De Tepeximilpa,Cantera Puente De Piedra,Chimalcoyotl,Chimilli,Chitchitcaspatl,Club De Golf Mexico,Comuneros de Santa Úrsula Xitla, Cruz Del Farol,Cuchilla De Padierna,Cultura Maya,Diamante,Ejidos De San Pedro Martir,El Capulin,Ex Hacienda Coapa, Ex Hacienda San Juan  De Dios, El Mirador 1era Secc.,  El Mirador 2da Secc., El Mirador 3era Secc., Fracc Gabriel Ramos Millan, Fovissste, Fuentes Brotantes,Fuentes De Tepepan, Fuentes Del Pedregal, Granjas Coapa, Guadalupe Tlalpan, Hacienda San Juan  De Dios,Heroes De Padierna, Isidro Fabela, ISSSFAM, Jardines Del Ajusco, Juventud Unida, La Joya, La Fama, La Palma, La Palma 1era Secc, Loma Bonita,  Los Encinos, Lomas Altas De Padierna Sur, Lomas De Padierna, Lomas Hidalgo, Ma. Esther Zuno de Echeverría, Magisterial Coapa, Magdalena Petlacalco, Mesa Los Hornos, Miguel Hidalgo, Miguel Hidalgo  1era Secc,Miguel Hidalgo  2da Secc,Miguel Hidalgo  3era Secc, Miguel Hidalgo 4ta Secc., Mirador, Mirador 1era Secc., Mirador 2da Secc,Mirador 3era Secc,Mirador II, Nuevo Renacimiento de Axalco, Oriental Coapa, Paraje 38,Paraje Tetenco,Parques Del Pedregal, Pedregal de Santa Úrsula Xitla, Pedregal De Las Aguilas,Pedregal De San Nicolas,Pedregal de San Nicolás 1era Secc., Pedregal de San Nicolás 2da Secc., Pedregal de San Nicolás 3era Secc.,  Pedregal De San Nicolás 4ta Secc,Peña Pobre, Pequeña Tepeximilpa,Popular Santa Teresa, Prado Coapa, Prado Coapa 1era Secc,Prado Coapa 2da Secc,Prados Coapa, Primavera, Pueblo Quieto, Residencial Hacienda Coapa, Residencial Villa Coapa, San Andrés Totoltepec, San Bartolo el Chico, San Juan Tepeximilpa, San Lorenzo Huipulco, San Miguel Ajusco 9, Santo Tomas Ajusco, San Miguel Topilejo, San Miguel Xicalco, San Pedro Apostol,San Pedro Martir,Santa Úrsula Xitla, Sección XVII, Tlalcoligia,Tlalmille,Tlalpan Centro,Tlaxcaltenco La Mesa,Tecorrales,Tepeximilpa, Toriello Guerra, Torres De Padierna,U. Hab Fuentes Brotantes,U. Hab Narciso Mendoza, Verano, Vergel  Del Sur, Vergel de Coyoacán, Villa Charros Del Pedregal, Verano, Villa Coapa, Villa Lázaro Cardenas,Vistas de Cuilotepec, Viveros De Coactetlan.\nSe realizaron 292.54 kms para Mantener la Red Primaria y Secundaria de Drenaje Sanitario en las siguientes colonias: 2 de Octubre, Amsa, Ampliación Isidro Fabela, Ampl. Miguel Hidalgo 2da. Sección,Ampl. Miguel Hidalgo 3ra. Sección,Ampl. Miguel Hidalgo 4ta Sección, Ampliacion Tepeximilpa, Arboledas del Sur, Arenal de Tepepan, Barrio Las Camisetas, Barrio Niño Jesus, Bosques de Tepeximilpa, Bosques Del Pedregal, Cantera Puente de Piedra, Chichicaspatl, Chimalcoyotl,Cuchilla De Padierna, Cultura Maya, Ejidos de San Pedro Mártir, Ex Hacienda San Juan de Dios, Floresta Coyoacán, Fuentes del Pedregal, Fuentes De Tepepan, Granjas Coapa, Héroes de Padierna, Isidro Fabela, La Fama, La Joya, La Tortuga Xolalpa, Lomas de Padierna, Lomas Altas de Padierna Sur,  María Esther Zuno de Echeverría, Magisterial Coapa, Magdalena Petlacalco, Mesa los Hornos, Miguel Hidalgo 1ra. Sección, Mirador 1ra. Sección, Mirador 2da Sección, Nueva Oriental Coapa, Parres el Guarda,  Prados Coapa, Prados Coapa 1ra Secc., Prados Coapa 2da. Sección, Prados Coapa 3ra Secc., Pedregal de las Águilas, Pedregal De Chichicaspatl, Pedregal de Santa Úrsula Xitla, Pedregal de San Nicolás 1ra Sección, Pedregal de San Nicolás 4ta Sección, Pueblo Quieto, Residencial Acoxpa, Residencial Villa Coapa, Rinconada Las Hadas, Rinconada El Mirador, Rinconada Coapa, Rinconada Coapa 1ra Sección, Rómulo Sánchez Mireles, San Andrés Totoltepec, San Bartolo el Chico, San Lorenzo Huipulco, San Juan Tepeximilpa,San Miguel Ajusco,San Miguel Topilejo, San Miguel Xicalco,San Pedro Mártir, San Pedro Apóstol, Santa Úrsula Xitla, Santo Tomas Ajusco, Sector XVII, Tlalmille, Tlalpan Centro, Tenorios Fovissste, Tecorral, Tlalcoligia, Torriello Guerra, Torres de Padierna, U. H. Cuemanco I,U. H. Cuemanco II,U. H. Cuemanco III,U. H. Cuemanco IV,U.H.Narciso Mendoza SM.2., U. H. Narciso Mendoza Sm7, U.H. Fuentes Brotantes,U.H. Tenorios, Villa Olímpica, Villa Lázaro Cárdenas, Valle de Tepepan, Vergel de Coyoacán, Villa Coapa, Villa del Puente, Villa Lázaro Cárdenas, Volcanes.\n\n"]
[]
[]
[]
[]
[]
[]
[]
[]
[]
[]
[]
[]
[]
[]
[]
[]
[null,"Se realizaron 81,480.00 ml  para el Desazolve de la Red Secundaria  de Drenaje Sanitario en las siguientes colonias: Arenal Tepepan, Actopa, Ampliación Isidro Fabela, Ampl. Miguel Hidalgo 2da. Sección, Ampl. Miguel Hidalgo 3ra Sección, Ampl. Miguel Hidalgo 4ta. Sección, Arboledas del Sur, Barrio las Camisetas,  Bosques del Pedregal,Bosques de Tepeximilpa,  Cantera Puente de Piedra, Chimalcoyotl, Cultura Maya,Cruz del Farol, Ex Hacienda Coapa, Ejidos De San Pedro Mártir, El Mirador 1ra Sección, Granjas Coapa, Heroes de Padierna, Isidro Fabela, Jardines del Ajusco, Juventud Unida, La Joya, Lomas De Padierna, Lomas Altas de Padierna,  Ma. Esther Zuno de Echeverria, Magdalena Petlacalco,Mesa los Hornos, Mirador 1ra Secc., Mirador 2da Secc., Miguel Hidalgo 1ra. Sección,Movimiento Organizado, Paraje Tecorral, Parres el Guarda, Pedregal de Chichiscaspatl,  Pedregal de las Aguilas, Pedregal De San Nicolas 1ra Sección, Pedregal De San Nicolás 2da. Sección,Pedregal De San Nicolás 3ra. Sección, Pedregal de San Nicolas 4ta Secc., Prados Coapa 2da. Sección, Primavera, Pueblo Quieto, Rinconada las Hadas, Romulo Sanchez Mireles, San Andres Totoltepec, San Lorenzo Huipulco, San Pedro Martir,  San Miguel Topilejo, San Miguel Ajusco, Santo Tomas Ajusco,San Miguel Xicalco, San Pedro Apostol, Santa Ursula Xitla,  Tlalpan Centro, Tlalcoligia, Torres de Padierna, U. H. Cuemanco I, U. H. Cuemanco II,U. H. Cuemanco III, U. H. Cuemanco IV,  U.H.Fuentes Brotantes, U. H. Narciso Mendoza Sm7, U.H. Zapote, Vergel de Coyoacan, Villa Coapa, Villa Lazaro Cardenas,Viveros de Coactetlan,  Volcanes.\nSí mismo se realizaron trabajos de limpieza de 416 Fosas Sépticas. "]
[]
[]
[]
[]
[]
[]
[]
[]
[]
[]
[]
[]
[]
[]
[]
[]
[]
[]
[null,"221 274 K016-Se autorizaron recursos para el Presupuesto Participativo capítulo 2000 DG:65, el cual no pertenece a la Dirección General de Obras y Desarrollo Urbano."]
[null,"223 202 K014- Se adicionan recursos del capitulo 2000 en las partidas:  Materiales para construcción, Herramientas menores, los cuales se requirieon ya que los recursos de origen fueron insuficientes para seguir llevando los trabajos de Mantenimiento y Rehabilitación de Drenaje, Agua Potable y Desazolve en este fondo se llevará la meta ejecutada ya que cuenta con 4 fondos los cuales son FISCALES; PARTICIPACIONES FEDERALES 15O310, PARTICIPACIONES FEDERALES 15O410 y FORTAMUN."]

{"sheet":"AP_RF PART.FED 15O510","index":12,"n_rows":60,"n_cols":27,"rows_kept":60,"cut":false,"hidden":false,"merged":[[49,1,49,11],[1,1,1,11],[2,1,2,11],[4,1,4,4],[4,5,4,11],[5,1,5,4],[5,5,5,11],[7,1,7,4],[7,5,7,11],[9,1,9,11],[10,1,10,7],[10,8,10,11],[58,1,58,11],[59,0,59,11],[50,1,50,11],[51,1,51,11],[52,1,52,11],[53,1,53,11],[54,1,54,11],[57,1,57,11]]}
[]
[null,"AP-RF  AVANCE PRESUPUESTAL DE RECURSOS DE ORIGEN FEDERAL"]
[null,"FONDO, CONVENIO, SUBSIDIO O PARTICIPACIÓN: (1)"]
[]
[null,"Unidad Responsable de Gasto:",null,null,null,"DIRECCIÓN GENERAL DE OBRAS Y DESARROLLO URBANO"]
[null,"Período:",null,null,null,"Enero-Diciembre 2021"]
[]
[null,"FONDO",null,null,null,"NO ETIQUETADO RECURSOS FEDERALES-PARTICIPACIONES A ENTIDADES FEDERATIVAS Y MUNICIPIOS- FONDO DE FISCALIZACIÓN Y RECAUDACIÓN-2022-ORIGINAL DE LA URG (15O510)"]
[]
[null,"R      E      S      U      L      T      A      D      O      S"]
[null,"PRESUPUESTO\n(Pesos con dos decimales)",null,null,null,null,null,null,"AVANCE\n%"]
[null,"APROBADO\n","MODIFICADO\n","PROGRAMADO\n","SALDO DEL \nCOMPROMISO","DEVENGADO\n","EJERCIDO\n","PAGADO\n","(DEVENGADO / APROBADO)*100\n","(DEVENGADO / MODIFICADO)*100\n","(EJERCIDO / APROBADO)*100\n","(EJERCIDO / MODIFICADO)*100\n"]
[null,43468008,25608420.300000001,25608420.300000001,25608420.300000001,25608420.300000001,24903925.760000002,24903925.760000002,0,{"$f":"IFERROR(($F13/$B13)*100,\"\")","v":58.913259379173766},{"$f":"IFERROR(($G13/$B13)*100,\"\")","v":57.292539745552638},{"$f":"IFERROR(($G13/$C13)*100,\"\")","v":97.248973065316335}]
[]
[null,null,null,null,null,null,null,null,{"$f":"IFERROR((#REF!/#REF!)*100,\"\")","v":""},{"$f":"IFERROR((#REF!/#REF!)*100,\"\")","v":""},{"$f":"IFERROR((#REF!/#REF!)*100,\"\")","v":""},{"$f":"IFERROR((#REF!/#REF!)*100,\"\")","v":""}]
[null,null,null,null,null,null,null,null,{"$f":"IFERROR((#REF!/#REF!)*100,\"\")","v":""},{"$f":"IFERROR((#REF!/#REF!)*100,\"\")","v":""},{"$f":"IFERROR((#REF!/#REF!)*100,\"\")","v":""},{"$f":"IFERROR((#REF!/#REF!)*100,\"\")","v":""}]
[null,{"$f":"IFERROR(VLOOKUP($C17,#REF!,3,FALSE),\"\")","v":""},null,null,null,null,{"$f":"IFERROR(F17/C17,\"\")","v":""},{"$f":"IFERROR((F17/D17*100),\"\")","v":""},{"$f":"IFERROR((#REF!/#REF!)*100,\"\")","v":""},{"$f":"IFERROR((#REF!/#REF!)*100,\"\")","v":""},{"$f":"IFERROR((#REF!/#REF!)*100,\"\")","v":""},{"$f":"IFERROR((#REF!/#REF!)*100,\"\")","v":""}]
[null,{"$f":"IFERROR(VLOOKUP($C18,#REF!,3,FALSE),\"\")","v":""},null,null,null,null,"","",{"$f":"IFERROR((#REF!/#REF!)*100,\"\")","v":""},{"$f":"IFERROR((#REF!/#REF!)*100,\"\")","v":""},{"$f":"IFERROR((#REF!/#REF!)*100,\"\")","v":""},{"$f":"IFERROR((#REF!/#REF!)*100,\"\")","v":""}]
[null,{"$f":"IFERROR(VLOOKUP($C19,#REF!,3,FALSE),\"\")","v":""},null,null,null,null,"","",{"$f":"IFERROR((#REF!/#REF!)*100,\"\")","v":""},{"$f":"IFERROR((#REF!/#REF!)*100,\"\")","v":""},{"$f":"IFERROR((#REF!/#REF!)*100,\"\")","v":""},{"$f":"IFERROR((#REF!/#REF!)*100,\"\")","v":""}]
[null,{"$f":"IFERROR(VLOOKUP($C20,#REF!,3,FALSE),\"\")","v":""},null,null,null,null,"","",{"$f":"IFERROR((#REF!/#REF!)*100,\"\")","v":""},{"$f":"IFERROR((#REF!/#REF!)*100,\"\")","v":""},{"$f":"IFERROR((#REF!/#REF!)*100,\"\")","v":""},{"$f":"IFERROR((#REF!/#REF!)*100,\"\")","v":""}]
[null,{"$f":"IFERROR(VLOOKUP($C21,#REF!,3,FALSE),\"\")","v":""},null,null,null,null,"","",{"$f":"IFERROR((#REF!/#REF!)*100,\"\")","v":""},{"$f":"IFERROR((#REF!/#REF!)*100,\"\")","v":""},{"$f":"IFERROR((#REF!/#REF!)*100,\"\")","v":""},{"$f":"IFERROR((#REF!/#REF!)*100,\"\")","v":""}]
[null,{"$f":"IFERROR(VLOOKUP($C22,#REF!,3,FALSE),\"\")","v":""},null,null,null,null,"","",{"$f":"IFERROR((#REF!/#REF!)*100,\"\")","v":""},{"$f":"IFERROR((#REF!/#REF!)*100,\"\")","v":""},{"$f":"IFERROR((#REF!/#REF!)*100,\"\")","v":""},{"$f":"IFERROR((#REF!/#REF!)*100,\"\")","v":""}]
[null,{"$f":"IFERROR(VLOOKUP($C23,#REF!,3,FALSE),\"\")","v":""},null,null,null,null,"","",{"$f":"IFERROR((#REF!/#REF!)*100,\"\")","v":""},{"$f":"IFERROR((#REF!/#REF!)*100,\"\")","v":""},{"$f":"IFERROR((#REF!/#REF!)*100,\"\")","v":""},{"$f":"IFERROR((#REF!/#REF!)*100,\"\")","v":""}]
[null,{"$f":"IFERROR(VLOOKUP($C24,#REF!,3,FALSE),\"\")","v":""},null,null,null,null,"","",{"$f":"IFERROR((#REF!/#REF!)*100,\"\")","v":""},{"$f":"IFERROR((#REF!/#REF!)*100,\"\")","v":""},{"$f":"IFERROR((#REF!/#REF!)*100,\"\")","v":""},{"$f":"IFERROR((#REF!/#REF!)*100,\"\")","v":""}]
[null,{"$f":"IFERROR(VLOOKUP($C25,#REF!,3,FALSE),\"\")","v":""},null,null,null,null,"","",{"$f":"IFERROR((#REF!/#REF!)*100,\"\")","v":""},{"$f":"IFERROR((#REF!/#REF!)*100,\"\")","v":""},{"$f":"IFERROR((#REF!/#REF!)*100,\"\")","v":""},{"$f":"IFERROR((#REF!/#REF!)*100,\"\")","v":""}]
[null,{"$f":"IFERROR(VLOOKUP($C26,#REF!,3,FALSE),\"\")","v":""},null,null,null,null,"","",{"$f":"IFERROR((#REF!/#REF!)*100,\"\")","v":""},{"$f":"IFERROR((#REF!/#REF!)*100,\"\")","v":""},{"$f":"IFERROR((#REF!/#REF!)*100,\"\")","v":""},{"$f":"IFERROR((#REF!/#REF!)*100,\"\")","v":""}]
[null,{"$f":"IFERROR(VLOOKUP($C27,#REF!,3,FALSE),\"\")","v":""},null,null,null,null,"","",{"$f":"IFERROR((#REF!/#REF!)*100,\"\")","v":""},{"$f":"IFERROR((#REF!/#REF!)*100,\"\")","v":""},{"$f":"IFERROR((#REF!/#REF!)*100,\"\")","v":""},{"$f":"IFERROR((#REF!/#REF!)*100,\"\")","v":""}]
[null,{"$f":"IFERROR(VLOOKUP($C28,#REF!,3,FALSE),\"\")","v":""},null,null,null,null,"","",{"$f":"IFERROR((#REF!/#REF!)*100,\"\")","v":""},{"$f":"IFERROR((#REF!/#REF!)*100,\"\")","v":""},{"$f":"IFERROR((#REF!/#REF!)*100,\"\")","v":""},{"$f":"IFERROR((#REF!/#REF!)*100,\"\")","v":""}]
[null,{"$f":"IFERROR(VLOOKUP($C29,#REF!,3,FALSE),\"\")","v":""},null,null,null,null,"","",{"$f":"IFERROR((#REF!/#REF!)*100,\"\")","v":""},{"$f":"IFERROR((#REF!/#REF!)*100,\"\")","v":""},{"$f":"IFERROR((#REF!/#REF!)*100,\"\")","v":""},{"$f":"IFERROR((#REF!/#REF!)*100,\"\")","v":""}]
[null,{"$f":"IFERROR(VLOOKUP($C30,#REF!,3,FALSE),\"\")","v":""},null,null,null,null,"","",{"$f":"IFERROR((#REF!/#REF!)*100,\"\")","v":""},{"$f":"IFERROR((#REF!/#REF!)*100,\"\")","v":""},{"$f":"IFERROR((#REF!/#REF!)*100,\"\")","v":""},{"$f":"IFERROR((#REF!/#REF!)*100,\"\")","v":""}]
[null,{"$f":"IFERROR(VLOOKUP($C31,#REF!,3,FALSE),\"\")","v":""},null,null,null,null,"","",{"$f":"IFERROR((#REF!/#REF!)*100,\"\")","v":""},{"$f":"IFERROR((#REF!/#REF!)*100,\"\")","v":""},{"$f":"IFERROR((#REF!/#REF!)*100,\"\")","v":""},{"$f":"IFERROR((#REF!/#REF!)*100,\"\")","v":""}]
[null,{"$f":"IFERROR(VLOOKUP($C32,#REF!,3,FALSE),\"\")","v":""},null,null,null,null,"","",{"$f":"IFERROR((#REF!/#REF!)*100,\"\")","v":""},{"$f":"IFERROR((#REF!/#REF!)*100,\"\")","v":""},{"$f":"IFERROR((#REF!/#REF!)*100,\"\")","v":""},{"$f":"IFERROR((#REF!/#REF!)*100,\"\")","v":""}]
[null,{"$f":"IFERROR(VLOOKUP($C33,#REF!,3,FALSE),\"\")","v":""},null,null,null,null,"","",{"$f":"IFERROR((#REF!/#REF!)*100,\"\")","v":""},{"$f":"IFERROR((#REF!/#REF!)*100,\"\")","v":""},{"$f":"IFERROR((#REF!/#REF!)*100,\"\")","v":""},{"$f":"IFERROR((#REF!/#REF!)*100,\"\")","v":""}]
[null,{"$f":"IFERROR(VLOOKUP($C34,#REF!,3,FALSE),\"\")","v":""},null,null,null,null,"","",{"$f":"IFERROR((#REF!/#REF!)*100,\"\")","v":""},{"$f":"IFERROR((#REF!/#REF!)*100,\"\")","v":""},{"$f":"IFERROR((#REF!/#REF!)*100,\"\")","v":""},{"$f":"IFERROR((#REF!/#REF!)*100,\"\")","v":""}]
[null,{"$f":"IFERROR(VLOOKUP($C35,#REF!,3,FALSE),\"\")","v":""},null,null,null,null,"","",{"$f":"IFERROR((#REF!/#REF!)*100,\"\")","v":""},{"$f":"IFERROR((#REF!/#REF!)*100,\"\")","v":""},{"$f":"IFERROR((#REF!/#REF!)*100,\"\")","v":""},{"$f":"IFERROR((#REF!/#REF!)*100,\"\")","v":""}]
[null,{"$f":"IFERROR(VLOOKUP($C36,#REF!,3,FALSE),\"\")","v":""},null,null,null,null,"","",{"$f":"IFERROR((#REF!/#REF!)*100,\"\")","v":""},{"$f":"IFERROR((#REF!/#REF!)*100,\"\")","v":""},{"$f":"IFERROR((#REF!/#REF!)*100,\"\")","v":""},{"$f":"IFERROR((#REF!/#REF!)*100,\"\")","v":""}]
[null,{"$f":"IFERROR(VLOOKUP($C37,#REF!,3,FALSE),\"\")","v":""},null,null,null,null,"","",{"$f":"IFERROR((#REF!/#REF!)*100,\"\")","v":""},{"$f":"IFERROR((#REF!/#REF!)*100,\"\")","v":""},{"$f":"IFERROR((#REF!/#REF!)*100,\"\")","v":""},{"$f":"IFERROR((#REF!/#REF!)*100,\"\")","v":""}]
[null,{"$f":"IFERROR(VLOOKUP($C38,#REF!,3,FALSE),\"\")","v":""},null,null,null,null,"","",{"$f":"IFERROR((#REF!/#REF!)*100,\"\")","v":""},{"$f":"IFERROR((#REF!/#REF!)*100,\"\")","v":""},{"$f":"IFERROR((#REF!/#REF!)*100,\"\")","v":""},{"$f":"IFERROR((#REF!/#REF!)*100,\"\")","v":""}]
[null,{"$f":"IFERROR(VLOOKUP($C39,#REF!,3,FALSE),\"\")","v":""},null,null,null,null,"","",{"$f":"IFERROR((#REF!/#REF!)*100,\"\")","v":""},{"$f":"IFERROR((#REF!/#REF!)*100,\"\")","v":""},{"$f":"IFERROR((#REF!/#REF!)*100,\"\")","v":""},{"$f":"IFERROR((#REF!/#REF!)*100,\"\")","v":""}]
[null,{"$f":"IFERROR(VLOOKUP($C40,#REF!,3,FALSE),\"\")","v":""},null,null,null,null,"","",{"$f":"IFERROR((#REF!/#REF!)*100,\"\")","v":""},{"$f":"IFERROR((#REF!/#REF!)*100,\"\")","v":""},{"$f":"IFERROR((#REF!/#REF!)*100,\"\")","v":""},{"$f":"IFERROR((#REF!/#REF!)*100,\"\")","v":""}]
[null,{"$f":"IFERROR(VLOOKUP($C41,#REF!,3,FALSE),\"\")","v":""},null,null,null,null,"","",{"$f":"IFERROR((#REF!/#REF!)*100,\"\")","v":""},{"$f":"IFERROR((#REF!/#REF!)*100,\"\")","v":""},{"$f":"IFERROR((#REF!/#REF!)*100,\"\")","v":""},{"$f":"IFERROR((#REF!/#REF!)*100,\"\")","v":""}]
[null,{"$f":"IFERROR(VLOOKUP($C42,#REF!,3,FALSE),\"\")","v":""},null,null,null,null,"","",{"$f":"IFERROR((#REF!/#REF!)*100,\"\")","v":""},{"$f":"IFERROR((#REF!/#REF!)*100,\"\")","v":""},{"$f":"IFERROR((#REF!/#REF!)*100,\"\")","v":""},{"$f":"IFERROR((#REF!/#REF!)*100,\"\")","v":""}]
[null,{"$f":"IFERROR(VLOOKUP($C43,#REF!,3,FALSE),\"\")","v":""},null,null,null,null,"","",{"$f":"IFERROR((#REF!/#REF!)*100,\"\")","v":""},{"$f":"IFERROR((#REF!/#REF!)*100,\"\")","v":""},{"$f":"IFERROR((#REF!/#REF!)*100,\"\")","v":""},{"$f":"IFERROR((#REF!/#REF!)*100,\"\")","v":""}]
[null,{"$f":"IFERROR(VLOOKUP($C44,#REF!,3,FALSE),\"\")","v":""},null,null,null,null,"","",{"$f":"IFERROR((#REF!/#REF!)*100,\"\")","v":""},{"$f":"IFERROR((#REF!/#REF!)*100,\"\")","v":""},{"$f":"IFERROR((#REF!/#REF!)*100,\"\")","v":""},{"$f":"IFERROR((#REF!/#REF!)*100,\"\")","v":""}]
[null,{"$f":"IFERROR(VLOOKUP($C45,#REF!,3,FALSE),\"\")","v":""},null,null,null,null,"","",{"$f":"IFERROR((#REF!/#REF!)*100,\"\")","v":""},{"$f":"IFERROR((#REF!/#REF!)*100,\"\")","v":""},{"$f":"IFERROR((#REF!/#REF!)*100,\"\")","v":""},{"$f":"IFERROR((#REF!/#REF!)*100,\"\")","v":""}]
[null,{"$f":"IFERROR(VLOOKUP($C46,#REF!,3,FALSE),\"\")","v":""},null,null,null,null,"","",{"$f":"IFERROR((#REF!/#REF!)*100,\"\")","v":""},{"$f":"IFERROR((#REF!/#REF!)*100,\"\")","v":""},{"$f":"IFERROR((#REF!/#REF!)*100,\"\")","v":""},{"$f":"IFERROR((#REF!/#REF!)*100,\"\")","v":""}]
[null,{"$f":"IFERROR(VLOOKUP($C47,#REF!,3,FALSE),\"\")","v":""},null,null,null,null,"","",{"$f":"IFERROR((#REF!/#REF!)*100,\"\")","v":""},{"$f":"IFERROR((#REF!/#REF!)*100,\"\")","v":""},{"$f":"IFERROR((#REF!/#REF!)*100,\"\")","v":""},{"$f":"IFERROR((#REF!/#REF!)*100,\"\")","v":""}]
[]
[]
[null,"PRINCIPALES ACCIONES REALIZADAS CON RECURSOS DE ORIGEN FEDERAL: "]
[null,"221 274 K016 Rehabilitación y Mantenimiento de Infraestructura Pública; Al periodo a través de la Obra por Contrato se realizaron 33 inmuebles para los trabajos referentes al proyecto denominado: Mantener y Rehabilitar los Planteles Educativos del Nivel Básico en:  Jardines de Niños: 1.-Fidencio Soria Barajas, lote 326, mz 3, Fortín y Farol U.H. Narciso Mendoza SP.M. 3, Col. Villa Coapa, Trabajos realizados: Impermeabilización, aplicación de pintura, 2.-Salvador M. Lima, Avenida  Acoxpa andador 68 mz. 6, Unidad Habitacional Narciso Mendoza SPM. 6, Col. Villa Coapa,Trabajos realizados: Impermeabilización, aplicación de pintura, 3.-Cámara Junior, San Juan Bosco No.1, Col. San Lorenzo Huipulco, 4.-Xochicalpilli, Av. Altillos s/n, Unidad Habitacional Narciso Mendoza Supermanzana 1,Trabajos realizados: Impermeabilización, aplicación de pintura, 5.-Chimalcoyotl,Cristobal Colón no. 12, Colonia Chimalcoyotl,Trabajos realizados: Impermeabilización, aplicación de pintura, 6.-Miguel Hidalgo, Avenida las Torres y Jesús Lecuona, Col. Miguel Hidalgo 2a Sección, Trabajos realizados:Sustitución  de ciclopista, aplicación de pintura, impermeabilizante, mantenimiento a sanitarios,7.-Alberto Lenz Sr.,Calzada Zaragoza s/n.Colonia Miguel Hidalgo 1a Sección,Trabajos realizados: impermeabilización, aplicación de pintura, 8.-Tonalli, Tepozan 114, lt.5, Col. Pedregal de San Nicolás 1a seccion, Trabajos realizados: firmes de conreto, sustitución de luminarias,trabajos de herrería, 9.-Miauhatzintli, Club Deportivo Universidad s/n,Fracc. Villa Lázaro Cárdenas,Trabajos realizados: sustitución de firmes de concreto, cambio de luminarias, aplicación de pintura,10.-Miguel Angel Buonarroti, Tenorios No. 222, Unidad Habitacional Tenorios INFONAVIT 1, Col. Ex Hacienda Coapa, Trabajos realizados: Aplicación de pintura, sustitución de firmes de concreto, sustitución de mamparas y luminarias, 11.-Rotarios de Tlalpan, 4° poniente s/n, Colonia Isidro Fabela,Trabajos realizados: impermeabilización y aplicación de pintura, 12.-República de Argentina, Morelos No. 4, Colonia Centro de Tlalpan,Trabajos realizados:Construcción de esacaleras de emergencia, impermeabilización,13.-Tlalli, Unidad Habitacional Fuentes Brotantes,Trabajos realizados: Cambio de cancelería y Luminarias.\nPrimarias: 14.-Estado de San Luis Potosí, Acueducto y San Juan Bosco, Col. San Lorenzo Huipulco, Trabajos realizados: Sustitución de firme de concreto,15.-Arabia Saudita, Avenida Silios No 34 super mza. 1, Unidad Habitacional Narciso Mendoza Supermanzana 1, Trabajos realizados: Impermeabilización, aplicación de pintura, 16.-Martina Islas, Enseñanza No. 3, Pueblo San Pedro Mártir, Trabajos realizados: sustitución de cancelería, 17.-Patria y Libertad, atrás del bloque I, Unidad Habitacional Fuentes Brotantes, Trabajos realizados:aplicación de pintura, sustitución de luminarias, 18.-Amanda Palafox, Monte Elbruz No. 15, Col. Los Volcanes,Trabajos realizados:Impermeabilización, aplicación de pintura, 19.-Isaac Ochoterena, Cristobal Colón No. 24, Col. Chimalcoyotl,Trabajos realizados:Impermeabilización, aplicación de pintura interior y exterior, 20.-Manuel Gallardo Zamora, Lacandones esq. Huastecos no. 6, Col. Pedregal de las Aguilas, Trabajos realizados:Impermeabilización, aplicación de pintura, 21.-Estado de Querétaro, Avenida Santa Úrsula no. 22, Colonia Santa Úrsula Xitla,Trabajos realizados: Impermeabilización,sustitución de luminarias, cambio de puertas, cambio de loseta,aplicación de pintura, 22.-Alfredo V.Bonfil, Alfredo V. Bonfil no. 151, mza. 10, Colonia. Miguel Hidalgo 3a Sección, Trabajos realizados: camnio de luminarias y pisos de loseta, 23.-Teófilo Álvarez Borboa, Escuela No. 127, Colonia Ex Hacienda de San Juan de Dios,Trabajos realizados: cambio de malla ciclónica, lámparas y tanque de gas, aplicación de pintura, 24.-Dra. María del Carmen Millán, Tenorios no. 222, Unidad Habitacional Tenorios INFONAVIT 1,Trabajos realziados: aplicación de pintura,impermeabilizante y cambio de luminarias, 25.-Héroes de Chapultepec, Otomies y Tepehuanos, Col. Tlalcoligia, Tconstrucción de techumbres y firme de concreto, 26.-Ignacio Rodríguez Galván, Magisterio Nacional y Morelos No. 118, Colonia Centro de Tlalpan,Trabajos realizados: Aplicación de pintura e impermeabilización, 27.-Felipe Ángeles, John F. Kennedy No. 1,  Col. Isidro Fabela, trabajos realizados: aplicación de pintura y cambio de impermeabilizante y luminarias, 28.-Niño Artillero, Hidalgo y Magisterio No. 80,Colonia Centro de Tlalpan,Trabajos realizados:impermeabilizante, aplicación de pintura, sustitución de luminarias y firme de concreto, mantenimiento a equipo hidroneumático. \nSecundarias: 29.-No.181, Kantunil y Tixmehuac, Colonia Pedregal de San Nicolas 4a Sección, Trabajos realizados: impermeabilización y aplicación de pintura, 30.-Técnica No.19, Ruiseñor s/n. y Yucantepec, Col. Rincón del Mirador II, Trabajos realizados: sustitución de cancelería,cambio de lámparas, aplicación de pintura e impermeabilización, 31.-No. 230, Ing. Jesús Gómez González, Unidad Habitacional Jardines Villa Coapa, Trabajos realizados: cambio de multitecho, impermeabilizanterehabilitación de núcleos sanitarios, 32.-No. 276,Tarasco frenta a Chontales, Col.a Tlalcoligía, Trabajos realizados: Impermeabilización y cambio de luminarias. \nCentro de Atención Múltiples: 33.-CAM 15, San Buenaventura No. 86, Colonia Belizario Dominguez, Trabajos realizados: Sustitución de cancelería, construcción de techumbre."]
[null,"Se relizaron los trabajos en el proyecto denominado: Mantenimiento y Rehabilitación a Mercados con 4 inmuebles el cuenta con 4 fondos, mismos que serán reflejados su meta realizada:\n1.-Mercado Flores San Fernando, ubicado en Calzada de Tlalpan y avenida San Fernando, Colonia Barrio de Niño Jesús, Trabajos realizados: instalación eléctrica interna, módulos, instalación eléctrica exterior, 2.-Mercado Fuentes Brotantes, ubicado en Interior del Parque Nacional Fuentes Brotantes, colonia Fuentes Brotantes, Trabajos realizados: instalación eléctrica, sistema de drenaje, ampliación de baños, áreas verdes y juegos, 3.-Mercado Villa Coapa, ubicado en Avenida canal de Miramontes s/n entre avenida Acoxpa y Caporal, colonia Villa Coapa, Trabajos realizados: sustitución de luminaria led, alimentadores a locales, alimentador a hidroneumático, alumbrado exterior, alimentadores en baja tensión CCTV y telefonía, extracción de aire, 4.-Mercado Plaza Mexicana del Sur, ubicado en Avenida Acoxpa, entre Calzada de Tlalpan y Viaducto Tlalpan, Col. San Lorenzo Huipulco, Trabajos realizados: instalación eléctrica\nLOS RECURSOS DE ESTE FONDO REFIEREN A LOS TRABAJOS DE SUPERVISIÓN\n\n"]
[]
[]
[null,null,null,null,null,null,null,null,null,null,null,null,null,null,null,null,null,null,null,null,null,null,null,null,null,null,{"$f":"33/40*100","v":82.5}]
[]
[]
[null,"221 049 E124-Se autorizaron recursos que refieren al Capítulo 2000 partida 2161 la cual es controlada por la Dirección General de Administración."]
[null,"221 274 K016-Al perido se reporta una meta ejecutada del 82 %, en el proyecto denominado: Mantener y Rehabilitar los Planteles Educativos del Nivel Básico, la meta de dicho proyecto no se cumplió en su totalidad, debido a que contaba con recursos del FAIS, por lo que se habían considerado atender 7 inmuebles los cuales eran: 1.-Carlos Pellicer Cámara,Col. Lomas de Padierna, 2.-Elvira Jímenez Villa Fuerte, Col. Lomas de Padierna, 3.-Sebastián Lerdo de Tejada, Col. Miguel Hidalgo 4a Sección, 4.- No.93, U.H. Emilio Portes Gil, 5.-No. 112, Col. Vistas del Pedregal, 6.-Técnica No. 119, Col.Miguel Hidalgo 4a Sección, 7.-No.281, Col. Cuchilla de Padierna, sin embargo debido a que el FAIS tiene como objetivo fundamental el financiamiento de obras y acciones sociales básicas que beneficien directamente a sectores de población en condiciones de rezago social y pobreza extrema, los recursos fueron reorientados a la apertura de diferentes proyectos denominados: Rehabilitación del Sistema de Alumbrado Público, Rehabilitación de banquetas, Rehabilitacion de superficie de rodamiento (Repavimentación), Rehabilitación del Sistema de Alcantarillado Pluvial.\nPor otro lado referente al py denominado: Mantenimiento y Rehabilitación a Mercados en este fondo cuenta con recursos ejercidos los cuales refieren al pago se trabajos de Supervisión de Obra, así mismo se informa que dicho proyecto cuenta con 4 fondos financieros los cuales son: Participaciones Federales 15O510 y 15OB10,  Fiscales y FAFEF.\nEl proyecto denominado: Construcción y/o Adecuación de Infraestructura Cultural, se cancela sus recursos se reorientan al Capítulo 2000 a las partidas: 2461 Material eléctrico y electrónico, 2471 Artículos metálicos para la construcción, 2481 Materiales complementarios, 2491 Otros materiales y artículos de construcción y reparación, 2541 Materiales, accesorios y suministro médico, 2561 Fibras sintéticas, hules, plásticos y derivados, 2911 Herramientas menores, por un importe de $6,119,000.00 y al capítulo 3000 partida. 3391 Servicios profesionales, científicos, técnicos integrales y otros,  por un importe de $164,540.00"]
["221 274 K016- En este programa presupuestario se aperturó el proyecto denominado  Mantenimiento y Rehabilitación a Mercados con 4 inmuebles realizados,mismos que cuentan con tres Fuentes de Financiamiento:No etiquetado recursos fiscales-fiscales-fiscales-2021-original de la urg (Fiscales), Etiquetado Recursos Federales-Aportaciones Federales para Entidades Federativas y Municipios-Fondo de Aportaciones para el Fortalecimiento de las Entidades Federativas (FAFEF)-2021-Original de la URG, No Etiquetado Recursos Federales-Participaciones a Entidades Federativas y Municipios- Participaciones en el Impuesto Sobre Automóviles Nuevos-2021-Original de la URG, en dodnde se verán rfelejada la meta ejecutada., en dodnde se verán rfelejada la meta ejecutada."]

{"sheet":"AP_RF PART.FED 15O610","index":13,"n_rows":59,"n_cols":12,"rows_kept":59,"cut":false,"hidden":false,"merged":[[1,1,1,11],[2,1,2,11],[4,1,4,4],[4,5,4,11],[5,1,5,4],[5,5,5,11],[50,1,54,11],[57,1,57,12],[58,1,58,12],[7,1,7,4],[7,5,7,11],[9,1,9,11],[10,1,10,7],[10,8,10,11],[49,1,49,11]]}
[]
[null,"AP-RF  AVANCE PRESUPUESTAL DE RECURSOS DE ORIGEN FEDERAL"]
[null,"FONDO, CONVENIO, SUBSIDIO O PARTICIPACIÓN: (1)"]
[]
[null,"Unidad Responsable de Gasto:",null,null,null,"DIRECCIÓN GENERAL DE OBRAS Y DESARROLLO URBANO"]
[null,"Período:",null,null,null,"Enero-Diciembre 2021"]
[]
[null,"FONDO",null,null,null,"NO ETIQUETADO RECURSOS FEDERALES-PARTICIPACIONES A ENTIDADES FEDERATIVAS Y MUNICIPIOS-PARTICIPACIONES A LA VENTA FINAL DE GASOLINA Y DIESEL-2022-ORIGINAL DE LA URG  (15O610)"]
[]
[null,"R      E      S      U      L      T      A      D      O      S"]
[null,"PRESUPUESTO\n(Pesos con dos decimales)",null,null,null,null,null,null,"AVANCE\n%"]
[null,"APROBADO\n","MODIFICADO\n","PROGRAMADO\n","SALDO DEL \nCOMPROMISO","DEVENGADO\n","EJERCIDO\n","PAGADO\n","(DEVENGADO / APROBADO)*100\n","(DEVENGADO / MODIFICADO)*100\n","(EJERCIDO / APROBADO)*100\n","(EJERCIDO / MODIFICADO)*100\n"]
[null,5675778,5675778,3385735.01,0,0,0,0,0,{"$f":"IFERROR(($F13/$B13)*100,\"\")","v":0},{"$f":"IFERROR(($G13/$B13)*100,\"\")","v":0},{"$f":"IFERROR(($G13/$C13)*100,\"\")","v":0}]
[]
[null,null,null,null,null,null,null,null,{"$f":"IFERROR((#REF!/#REF!)*100,\"\")","v":""},{"$f":"IFERROR((#REF!/#REF!)*100,\"\")","v":""},{"$f":"IFERROR((#REF!/#REF!)*100,\"\")","v":""},{"$f":"IFERROR((#REF!/#REF!)*100,\"\")","v":""}]
[null,null,null,null,null,null,null,null,{"$f":"IFERROR((#REF!/#REF!)*100,\"\")","v":""},{"$f":"IFERROR((#REF!/#REF!)*100,\"\")","v":""},{"$f":"IFERROR((#REF!/#REF!)*100,\"\")","v":""},{"$f":"IFERROR((#REF!/#REF!)*100,\"\")","v":""}]
[null,{"$f":"IFERROR(VLOOKUP($C17,#REF!,3,FALSE),\"\")","v":""},null,null,null,null,{"$f":"IFERROR(F17/C17,\"\")","v":""},{"$f":"IFERROR((F17/D17*100),\"\")","v":""},{"$f":"IFERROR((#REF!/#REF!)*100,\"\")","v":""},{"$f":"IFERROR((#REF!/#REF!)*100,\"\")","v":""},{"$f":"IFERROR((#REF!/#REF!)*100,\"\")","v":""},{"$f":"IFERROR((#REF!/#REF!)*100,\"\")","v":""}]
[null,{"$f":"IFERROR(VLOOKUP($C18,#REF!,3,FALSE),\"\")","v":""},null,null,null,null,"","",{"$f":"IFERROR((#REF!/#REF!)*100,\"\")","v":""},{"$f":"IFERROR((#REF!/#REF!)*100,\"\")","v":""},{"$f":"IFERROR((#REF!/#REF!)*100,\"\")","v":""},{"$f":"IFERROR((#REF!/#REF!)*100,\"\")","v":""}]
[null,{"$f":"IFERROR(VLOOKUP($C19,#REF!,3,FALSE),\"\")","v":""},null,null,null,null,"","",{"$f":"IFERROR((#REF!/#REF!)*100,\"\")","v":""},{"$f":"IFERROR((#REF!/#REF!)*100,\"\")","v":""},{"$f":"IFERROR((#REF!/#REF!)*100,\"\")","v":""},{"$f":"IFERROR((#REF!/#REF!)*100,\"\")","v":""}]
[null,{"$f":"IFERROR(VLOOKUP($C20,#REF!,3,FALSE),\"\")","v":""},null,null,null,null,"","",{"$f":"IFERROR((#REF!/#REF!)*100,\"\")","v":""},{"$f":"IFERROR((#REF!/#REF!)*100,\"\")","v":""},{"$f":"IFERROR((#REF!/#REF!)*100,\"\")","v":""},{"$f":"IFERROR((#REF!/#REF!)*100,\"\")","v":""}]
[null,{"$f":"IFERROR(VLOOKUP($C21,#REF!,3,FALSE),\"\")","v":""},null,null,null,null,"","",{"$f":"IFERROR((#REF!/#REF!)*100,\"\")","v":""},{"$f":"IFERROR((#REF!/#REF!)*100,\"\")","v":""},{"$f":"IFERROR((#REF!/#REF!)*100,\"\")","v":""},{"$f":"IFERROR((#REF!/#REF!)*100,\"\")","v":""}]
[null,{"$f":"IFERROR(VLOOKUP($C22,#REF!,3,FALSE),\"\")","v":""},null,null,null,null,"","",{"$f":"IFERROR((#REF!/#REF!)*100,\"\")","v":""},{"$f":"IFERROR((#REF!/#REF!)*100,\"\")","v":""},{"$f":"IFERROR((#REF!/#REF!)*100,\"\")","v":""},{"$f":"IFERROR((#REF!/#REF!)*100,\"\")","v":""}]
[null,{"$f":"IFERROR(VLOOKUP($C23,#REF!,3,FALSE),\"\")","v":""},null,null,null,null,"","",{"$f":"IFERROR((#REF!/#REF!)*100,\"\")","v":""},{"$f":"IFERROR((#REF!/#REF!)*100,\"\")","v":""},{"$f":"IFERROR((#REF!/#REF!)*100,\"\")","v":""},{"$f":"IFERROR((#REF!/#REF!)*100,\"\")","v":""}]
[null,{"$f":"IFERROR(VLOOKUP($C24,#REF!,3,FALSE),\"\")","v":""},null,null,null,null,"","",{"$f":"IFERROR((#REF!/#REF!)*100,\"\")","v":""},{"$f":"IFERROR((#REF!/#REF!)*100,\"\")","v":""},{"$f":"IFERROR((#REF!/#REF!)*100,\"\")","v":""},{"$f":"IFERROR((#REF!/#REF!)*100,\"\")","v":""}]
[null,{"$f":"IFERROR(VLOOKUP($C25,#REF!,3,FALSE),\"\")","v":""},null,null,null,null,"","",{"$f":"IFERROR((#REF!/#REF!)*100,\"\")","v":""},{"$f":"IFERROR((#REF!/#REF!)*100,\"\")","v":""},{"$f":"IFERROR((#REF!/#REF!)*100,\"\")","v":""},{"$f":"IFERROR((#REF!/#REF!)*100,\"\")","v":""}]
[null,{"$f":"IFERROR(VLOOKUP($C26,#REF!,3,FALSE),\"\")","v":""},null,null,null,null,"","",{"$f":"IFERROR((#REF!/#REF!)*100,\"\")","v":""},{"$f":"IFERROR((#REF!/#REF!)*100,\"\")","v":""},{"$f":"IFERROR((#REF!/#REF!)*100,\"\")","v":""},{"$f":"IFERROR((#REF!/#REF!)*100,\"\")","v":""}]
[null,{"$f":"IFERROR(VLOOKUP($C27,#REF!,3,FALSE),\"\")","v":""},null,null,null,null,"","",{"$f":"IFERROR((#REF!/#REF!)*100,\"\")","v":""},{"$f":"IFERROR((#REF!/#REF!)*100,\"\")","v":""},{"$f":"IFERROR((#REF!/#REF!)*100,\"\")","v":""},{"$f":"IFERROR((#REF!/#REF!)*100,\"\")","v":""}]
[null,{"$f":"IFERROR(VLOOKUP($C28,#REF!,3,FALSE),\"\")","v":""},null,null,null,null,"","",{"$f":"IFERROR((#REF!/#REF!)*100,\"\")","v":""},{"$f":"IFERROR((#REF!/#REF!)*100,\"\")","v":""},{"$f":"IFERROR((#REF!/#REF!)*100,\"\")","v":""},{"$f":"IFERROR((#REF!/#REF!)*100,\"\")","v":""}]
[null,{"$f":"IFERROR(VLOOKUP($C29,#REF!,3,FALSE),\"\")","v":""},null,null,null,null,"","",{"$f":"IFERROR((#REF!/#REF!)*100,\"\")","v":""},{"$f":"IFERROR((#REF!/#REF!)*100,\"\")","v":""},{"$f":"IFERROR((#REF!/#REF!)*100,\"\")","v":""},{"$f":"IFERROR((#REF!/#REF!)*100,\"\")","v":""}]
[null,{"$f":"IFERROR(VLOOKUP($C30,#REF!,3,FALSE),\"\")","v":""},null,null,null,null,"","",{"$f":"IFERROR((#REF!/#REF!)*100,\"\")","v":""},{"$f":"IFERROR((#REF!/#REF!)*100,\"\")","v":""},{"$f":"IFERROR((#REF!/#REF!)*100,\"\")","v":""},{"$f":"IFERROR((#REF!/#REF!)*100,\"\")","v":""}]
[null,{"$f":"IFERROR(VLOOKUP($C31,#REF!,3,FALSE),\"\")","v":""},null,null,null,null,"","",{"$f":"IFERROR((#REF!/#REF!)*100,\"\")","v":""},{"$f":"IFERROR((#REF!/#REF!)*100,\"\")","v":""},{"$f":"IFERROR((#REF!/#REF!)*100,\"\")","v":""},{"$f":"IFERROR((#REF!/#REF!)*100,\"\")","v":""}]
[null,{"$f":"IFERROR(VLOOKUP($C32,#REF!,3,FALSE),\"\")","v":""},null,null,null,null,"","",{"$f":"IFERROR((#REF!/#REF!)*100,\"\")","v":""},{"$f":"IFERROR((#REF!/#REF!)*100,\"\")","v":""},{"$f":"IFERROR((#REF!/#REF!)*100,\"\")","v":""},{"$f":"IFERROR((#REF!/#REF!)*100,\"\")","v":""}]
[null,{"$f":"IFERROR(VLOOKUP($C33,#REF!,3,FALSE),\"\")","v":""},null,null,null,null,"","",{"$f":"IFERROR((#REF!/#REF!)*100,\"\")","v":""},{"$f":"IFERROR((#REF!/#REF!)*100,\"\")","v":""},{"$f":"IFERROR((#REF!/#REF!)*100,\"\")","v":""},{"$f":"IFERROR((#REF!/#REF!)*100,\"\")","v":""}]
[null,{"$f":"IFERROR(VLOOKUP($C34,#REF!,3,FALSE),\"\")","v":""},null,null,null,null,"","",{"$f":"IFERROR((#REF!/#REF!)*100,\"\")","v":""},{"$f":"IFERROR((#REF!/#REF!)*100,\"\")","v":""},{"$f":"IFERROR((#REF!/#REF!)*100,\"\")","v":""},{"$f":"IFERROR((#REF!/#REF!)*100,\"\")","v":""}]
[null,{"$f":"IFERROR(VLOOKUP($C35,#REF!,3,FALSE),\"\")","v":""},null,null,null,null,"","",{"$f":"IFERROR((#REF!/#REF!)*100,\"\")","v":""},{"$f":"IFERROR((#REF!/#REF!)*100,\"\")","v":""},{"$f":"IFERROR((#REF!/#REF!)*100,\"\")","v":""},{"$f":"IFERROR((#REF!/#REF!)*100,\"\")","v":""}]
[null,{"$f":"IFERROR(VLOOKUP($C36,#REF!,3,FALSE),\"\")","v":""},null,null,null,null,"","",{"$f":"IFERROR((#REF!/#REF!)*100,\"\")","v":""},{"$f":"IFERROR((#REF!/#REF!)*100,\"\")","v":""},{"$f":"IFERROR((#REF!/#REF!)*100,\"\")","v":""},{"$f":"IFERROR((#REF!/#REF!)*100,\"\")","v":""}]
[null,{"$f":"IFERROR(VLOOKUP($C37,#REF!,3,FALSE),\"\")","v":""},null,null,null,null,"","",{"$f":"IFERROR((#REF!/#REF!)*100,\"\")","v":""},{"$f":"IFERROR((#REF!/#REF!)*100,\"\")","v":""},{"$f":"IFERROR((#REF!/#REF!)*100,\"\")","v":""},{"$f":"IFERROR((#REF!/#REF!)*100,\"\")","v":""}]
[null,{"$f":"IFERROR(VLOOKUP($C38,#REF!,3,FALSE),\"\")","v":""},null,null,null,null,"","",{"$f":"IFERROR((#REF!/#REF!)*100,\"\")","v":""},{"$f":"IFERROR((#REF!/#REF!)*100,\"\")","v":""},{"$f":"IFERROR((#REF!/#REF!)*100,\"\")","v":""},{"$f":"IFERROR((#REF!/#REF!)*100,\"\")","v":""}]
[null,{"$f":"IFERROR(VLOOKUP($C39,#REF!,3,FALSE),\"\")","v":""},null,null,null,null,"","",{"$f":"IFERROR((#REF!/#REF!)*100,\"\")","v":""},{"$f":"IFERROR((#REF!/#REF!)*100,\"\")","v":""},{"$f":"IFERROR((#REF!/#REF!)*100,\"\")","v":""},{"$f":"IFERROR((#REF!/#REF!)*100,\"\")","v":""}]
[null,{"$f":"IFERROR(VLOOKUP($C40,#REF!,3,FALSE),\"\")","v":""},null,null,null,null,"","",{"$f":"IFERROR((#REF!/#REF!)*100,\"\")","v":""},{"$f":"IFERROR((#REF!/#REF!)*100,\"\")","v":""},{"$f":"IFERROR((#REF!/#REF!)*100,\"\")","v":""},{"$f":"IFERROR((#REF!/#REF!)*100,\"\")","v":""}]
[null,{"$f":"IFERROR(VLOOKUP($C41,#REF!,3,FALSE),\"\")","v":""},null,null,null,null,"","",{"$f":"IFERROR((#REF!/#REF!)*100,\"\")","v":""},{"$f":"IFERROR((#REF!/#REF!)*100,\"\")","v":""},{"$f":"IFERROR((#REF!/#REF!)*100,\"\")","v":""},{"$f":"IFERROR((#REF!/#REF!)*100,\"\")","v":""}]
[null,{"$f":"IFERROR(VLOOKUP($C42,#REF!,3,FALSE),\"\")","v":""},null,null,null,null,"","",{"$f":"IFERROR((#REF!/#REF!)*100,\"\")","v":""},{"$f":"IFERROR((#REF!/#REF!)*100,\"\")","v":""},{"$f":"IFERROR((#REF!/#REF!)*100,\"\")","v":""},{"$f":"IFERROR((#REF!/#REF!)*100,\"\")","v":""}]
[null,{"$f":"IFERROR(VLOOKUP($C43,#REF!,3,FALSE),\"\")","v":""},null,null,null,null,"","",{"$f":"IFERROR((#REF!/#REF!)*100,\"\")","v":""},{"$f":"IFERROR((#REF!/#REF!)*100,\"\")","v":""},{"$f":"IFERROR((#REF!/#REF!)*100,\"\")","v":""},{"$f":"IFERROR((#REF!/#REF!)*100,\"\")","v":""}]
[null,{"$f":"IFERROR(VLOOKUP($C44,#REF!,3,FALSE),\"\")","v":""},null,null,null,null,"","",{"$f":"IFERROR((#REF!/#REF!)*100,\"\")","v":""},{"$f":"IFERROR((#REF!/#REF!)*100,\"\")","v":""},{"$f":"IFERROR((#REF!/#REF!)*100,\"\")","v":""},{"$f":"IFERROR((#REF!/#REF!)*100,\"\")","v":""}]
[null,{"$f":"IFERROR(VLOOKUP($C45,#REF!,3,FALSE),\"\")","v":""},null,null,null,null,"","",{"$f":"IFERROR((#REF!/#REF!)*100,\"\")","v":""},{"$f":"IFERROR((#REF!/#REF!)*100,\"\")","v":""},{"$f":"IFERROR((#REF!/#REF!)*100,\"\")","v":""},{"$f":"IFERROR((#REF!/#REF!)*100,\"\")","v":""}]
[null,{"$f":"IFERROR(VLOOKUP($C46,#REF!,3,FALSE),\"\")","v":""},null,null,null,null,"","",{"$f":"IFERROR((#REF!/#REF!)*100,\"\")","v":""},{"$f":"IFERROR((#REF!/#REF!)*100,\"\")","v":""},{"$f":"IFERROR((#REF!/#REF!)*100,\"\")","v":""},{"$f":"IFERROR((#REF!/#REF!)*100,\"\")","v":""}]
[null,{"$f":"IFERROR(VLOOKUP($C47,#REF!,3,FALSE),\"\")","v":""},null,null,null,null,"","",{"$f":"IFERROR((#REF!/#REF!)*100,\"\")","v":""},{"$f":"IFERROR((#REF!/#REF!)*100,\"\")","v":""},{"$f":"IFERROR((#REF!/#REF!)*100,\"\")","v":""},{"$f":"IFERROR((#REF!/#REF!)*100,\"\")","v":""}]
[]
[]
[null,"PRINCIPALES ACCIONES REALIZADAS CON RECURSOS DE ORIGEN FEDERAL: "]
[null,"Al periodo no hay acciones realizadas"]
[]
[]
[]
[]
[]
[]
[null," 124 004 P002- Al periodo se autorizan recursos de para los trabajos de repartición de agua potable (PIPAS), los cuales son complemento a la meta que se lleva a cabo en el Fondo FORTAMUN, donde se reporta la meta realizada y en este fondo quedan recursos complementarios a la meta."]
[null,"221 049 E124- Al periodo se tienen recursos autorizados en la partida: Materiales de Limpieza la cual es una partida centralizada y es controlada pr la Dirección General de Administración."]

{"sheet":"AP_RF PART.FED 15OB10 ","index":14,"n_rows":61,"n_cols":12,"rows_kept":61,"cut":false,"hidden":false,"merged":[[1,1,1,11],[2,1,2,11],[4,1,4,4],[4,5,4,11],[5,1,5,4],[5,5,5,11],[57,0,57,10],[7,1,7,4],[7,5,7,11],[9,1,9,11],[10,1,10,7],[10,8,10,11],[49,1,49,11],[50,1,50,11],[51,1,51,11],[52,1,52,11],[53,1,53,11],[56,0,56,10]]}
[]
[null,"AP-RF  AVANCE PRESUPUESTAL DE RECURSOS DE ORIGEN FEDERAL"]
[null,"FONDO, CONVENIO, SUBSIDIO O PARTICIPACIÓN: (1)"]
[]
[null,"Unidad Responsable de Gasto:",null,null,null,"DIRECCIÓN GENERAL DE OBRAS Y DESARROLLO URBANO"]
[null,"Período:",null,null,null,"Enero-Diciembre 2021"]
[]
[null,"FONDO",null,null,null,"NO ETIQUETADO RECURSOS FEDERALES-PARTICIPACIONES A ENTIDADES FEDERATIVAS Y MUNICIPIOS- PARTICIPACIONES EN EL IMPUESTO SOBRE AUTOMÓVILES NUEVOS-2022-ORIGINAL DE LA URG (15OB10)"]
[]
[null,"R      E      S      U      L      T      A      D      O      S"]
[null,"PRESUPUESTO\n(Pesos con dos decimales)",null,null,null,null,null,null,"AVANCE\n%"]
[null,"APROBADO\n","MODIFICADO\n","PROGRAMADO\n","SALDO DEL \nCOMPROMISO","DEVENGADO\n","EJERCIDO\n","PAGADO\n","(DEVENGADO / APROBADO)*100\n","(DEVENGADO / MODIFICADO)*100\n","(EJERCIDO / APROBADO)*100\n","(EJERCIDO / MODIFICADO)*100\n"]
[null,14064219,14064219,868234.74,868234.74,868234.74,868234.74,868234.74,0,{"$f":"IFERROR(($F13/$B13)*100,\"\")","v":6.1733590752533072},{"$f":"IFERROR(($G13/$B13)*100,\"\")","v":6.1733590752533072},{"$f":"IFERROR(($G13/$C13)*100,\"\")","v":6.1733590752533072}]
[]
[null,null,null,null,null,null,null,null,{"$f":"IFERROR((#REF!/#REF!)*100,\"\")","v":""},{"$f":"IFERROR((#REF!/#REF!)*100,\"\")","v":""},{"$f":"IFERROR((#REF!/#REF!)*100,\"\")","v":""},{"$f":"IFERROR((#REF!/#REF!)*100,\"\")","v":""}]
[null,null,null,null,null,null,null,null,{"$f":"IFERROR((#REF!/#REF!)*100,\"\")","v":""},{"$f":"IFERROR((#REF!/#REF!)*100,\"\")","v":""},{"$f":"IFERROR((#REF!/#REF!)*100,\"\")","v":""},{"$f":"IFERROR((#REF!/#REF!)*100,\"\")","v":""}]
[null,{"$f":"IFERROR(VLOOKUP($C17,#REF!,3,FALSE),\"\")","v":""},null,null,null,null,{"$f":"IFERROR(F17/C17,\"\")","v":""},{"$f":"IFERROR((F17/D17*100),\"\")","v":""},{"$f":"IFERROR((#REF!/#REF!)*100,\"\")","v":""},{"$f":"IFERROR((#REF!/#REF!)*100,\"\")","v":""},{"$f":"IFERROR((#REF!/#REF!)*100,\"\")","v":""},{"$f":"IFERROR((#REF!/#REF!)*100,\"\")","v":""}]
[null,{"$f":"IFERROR(VLOOKUP($C18,#REF!,3,FALSE),\"\")","v":""},null,null,null,null,"","",{"$f":"IFERROR((#REF!/#REF!)*100,\"\")","v":""},{"$f":"IFERROR((#REF!/#REF!)*100,\"\")","v":""},{"$f":"IFERROR((#REF!/#REF!)*100,\"\")","v":""},{"$f":"IFERROR((#REF!/#REF!)*100,\"\")","v":""}]
[null,{"$f":"IFERROR(VLOOKUP($C19,#REF!,3,FALSE),\"\")","v":""},null,null,null,null,"","",{"$f":"IFERROR((#REF!/#REF!)*100,\"\")","v":""},{"$f":"IFERROR((#REF!/#REF!)*100,\"\")","v":""},{"$f":"IFERROR((#REF!/#REF!)*100,\"\")","v":""},{"$f":"IFERROR((#REF!/#REF!)*100,\"\")","v":""}]
[null,{"$f":"IFERROR(VLOOKUP($C20,#REF!,3,FALSE),\"\")","v":""},null,null,null,null,"","",{"$f":"IFERROR((#REF!/#REF!)*100,\"\")","v":""},{"$f":"IFERROR((#REF!/#REF!)*100,\"\")","v":""},{"$f":"IFERROR((#REF!/#REF!)*100,\"\")","v":""},{"$f":"IFERROR((#REF!/#REF!)*100,\"\")","v":""}]
[null,{"$f":"IFERROR(VLOOKUP($C21,#REF!,3,FALSE),\"\")","v":""},null,null,null,null,"","",{"$f":"IFERROR((#REF!/#REF!)*100,\"\")","v":""},{"$f":"IFERROR((#REF!/#REF!)*100,\"\")","v":""},{"$f":"IFERROR((#REF!/#REF!)*100,\"\")","v":""},{"$f":"IFERROR((#REF!/#REF!)*100,\"\")","v":""}]
[null,{"$f":"IFERROR(VLOOKUP($C22,#REF!,3,FALSE),\"\")","v":""},null,null,null,null,"","",{"$f":"IFERROR((#REF!/#REF!)*100,\"\")","v":""},{"$f":"IFERROR((#REF!/#REF!)*100,\"\")","v":""},{"$f":"IFERROR((#REF!/#REF!)*100,\"\")","v":""},{"$f":"IFERROR((#REF!/#REF!)*100,\"\")","v":""}]
[null,{"$f":"IFERROR(VLOOKUP($C23,#REF!,3,FALSE),\"\")","v":""},null,null,null,null,"","",{"$f":"IFERROR((#REF!/#REF!)*100,\"\")","v":""},{"$f":"IFERROR((#REF!/#REF!)*100,\"\")","v":""},{"$f":"IFERROR((#REF!/#REF!)*100,\"\")","v":""},{"$f":"IFERROR((#REF!/#REF!)*100,\"\")","v":""}]
[null,{"$f":"IFERROR(VLOOKUP($C24,#REF!,3,FALSE),\"\")","v":""},null,null,null,null,"","",{"$f":"IFERROR((#REF!/#REF!)*100,\"\")","v":""},{"$f":"IFERROR((#REF!/#REF!)*100,\"\")","v":""},{"$f":"IFERROR((#REF!/#REF!)*100,\"\")","v":""},{"$f":"IFERROR((#REF!/#REF!)*100,\"\")","v":""}]
[null,{"$f":"IFERROR(VLOOKUP($C25,#REF!,3,FALSE),\"\")","v":""},null,null,null,null,"","",{"$f":"IFERROR((#REF!/#REF!)*100,\"\")","v":""},{"$f":"IFERROR((#REF!/#REF!)*100,\"\")","v":""},{"$f":"IFERROR((#REF!/#REF!)*100,\"\")","v":""},{"$f":"IFERROR((#REF!/#REF!)*100,\"\")","v":""}]
[null,{"$f":"IFERROR(VLOOKUP($C26,#REF!,3,FALSE),\"\")","v":""},null,null,null,null,"","",{"$f":"IFERROR((#REF!/#REF!)*100,\"\")","v":""},{"$f":"IFERROR((#REF!/#REF!)*100,\"\")","v":""},{"$f":"IFERROR((#REF!/#REF!)*100,\"\")","v":""},{"$f":"IFERROR((#REF!/#REF!)*100,\"\")","v":""}]
[null,{"$f":"IFERROR(VLOOKUP($C27,#REF!,3,FALSE),\"\")","v":""},null,null,null,null,"","",{"$f":"IFERROR((#REF!/#REF!)*100,\"\")","v":""},{"$f":"IFERROR((#REF!/#REF!)*100,\"\")","v":""},{"$f":"IFERROR((#REF!/#REF!)*100,\"\")","v":""},{"$f":"IFERROR((#REF!/#REF!)*100,\"\")","v":""}]
[null,{"$f":"IFERROR(VLOOKUP($C28,#REF!,3,FALSE),\"\")","v":""},null,null,null,null,"","",{"$f":"IFERROR((#REF!/#REF!)*100,\"\")","v":""},{"$f":"IFERROR((#REF!/#REF!)*100,\"\")","v":""},{"$f":"IFERROR((#REF!/#REF!)*100,\"\")","v":""},{"$f":"IFERROR((#REF!/#REF!)*100,\"\")","v":""}]
[null,{"$f":"IFERROR(VLOOKUP($C29,#REF!,3,FALSE),\"\")","v":""},null,null,null,null,"","",{"$f":"IFERROR((#REF!/#REF!)*100,\"\")","v":""},{"$f":"IFERROR((#REF!/#REF!)*100,\"\")","v":""},{"$f":"IFERROR((#REF!/#REF!)*100,\"\")","v":""},{"$f":"IFERROR((#REF!/#REF!)*100,\"\")","v":""}]
[null,{"$f":"IFERROR(VLOOKUP($C30,#REF!,3,FALSE),\"\")","v":""},null,null,null,null,"","",{"$f":"IFERROR((#REF!/#REF!)*100,\"\")","v":""},{"$f":"IFERROR((#REF!/#REF!)*100,\"\")","v":""},{"$f":"IFERROR((#REF!/#REF!)*100,\"\")","v":""},{"$f":"IFERROR((#REF!/#REF!)*100,\"\")","v":""}]
[null,{"$f":"IFERROR(VLOOKUP($C31,#REF!,3,FALSE),\"\")","v":""},null,null,null,null,"","",{"$f":"IFERROR((#REF!/#REF!)*100,\"\")","v":""},{"$f":"IFERROR((#REF!/#REF!)*100,\"\")","v":""},{"$f":"IFERROR((#REF!/#REF!)*100,\"\")","v":""},{"$f":"IFERROR((#REF!/#REF!)*100,\"\")","v":""}]
[null,{"$f":"IFERROR(VLOOKUP($C32,#REF!,3,FALSE),\"\")","v":""},null,null,null,null,"","",{"$f":"IFERROR((#REF!/#REF!)*100,\"\")","v":""},{"$f":"IFERROR((#REF!/#REF!)*100,\"\")","v":""},{"$f":"IFERROR((#REF!/#REF!)*100,\"\")","v":""},{"$f":"IFERROR((#REF!/#REF!)*100,\"\")","v":""}]
[null,{"$f":"IFERROR(VLOOKUP($C33,#REF!,3,FALSE),\"\")","v":""},null,null,null,null,"","",{"$f":"IFERROR((#REF!/#REF!)*100,\"\")","v":""},{"$f":"IFERROR((#REF!/#REF!)*100,\"\")","v":""},{"$f":"IFERROR((#REF!/#REF!)*100,\"\")","v":""},{"$f":"IFERROR((#REF!/#REF!)*100,\"\")","v":""}]
[null,{"$f":"IFERROR(VLOOKUP($C34,#REF!,3,FALSE),\"\")","v":""},null,null,null,null,"","",{"$f":"IFERROR((#REF!/#REF!)*100,\"\")","v":""},{"$f":"IFERROR((#REF!/#REF!)*100,\"\")","v":""},{"$f":"IFERROR((#REF!/#REF!)*100,\"\")","v":""},{"$f":"IFERROR((#REF!/#REF!)*100,\"\")","v":""}]
[null,{"$f":"IFERROR(VLOOKUP($C35,#REF!,3,FALSE),\"\")","v":""},null,null,null,null,"","",{"$f":"IFERROR((#REF!/#REF!)*100,\"\")","v":""},{"$f":"IFERROR((#REF!/#REF!)*100,\"\")","v":""},{"$f":"IFERROR((#REF!/#REF!)*100,\"\")","v":""},{"$f":"IFERROR((#REF!/#REF!)*100,\"\")","v":""}]
[null,{"$f":"IFERROR(VLOOKUP($C36,#REF!,3,FALSE),\"\")","v":""},null,null,null,null,"","",{"$f":"IFERROR((#REF!/#REF!)*100,\"\")","v":""},{"$f":"IFERROR((#REF!/#REF!)*100,\"\")","v":""},{"$f":"IFERROR((#REF!/#REF!)*100,\"\")","v":""},{"$f":"IFERROR((#REF!/#REF!)*100,\"\")","v":""}]
[null,{"$f":"IFERROR(VLOOKUP($C37,#REF!,3,FALSE),\"\")","v":""},null,null,null,null,"","",{"$f":"IFERROR((#REF!/#REF!)*100,\"\")","v":""},{"$f":"IFERROR((#REF!/#REF!)*100,\"\")","v":""},{"$f":"IFERROR((#REF!/#REF!)*100,\"\")","v":""},{"$f":"IFERROR((#REF!/#REF!)*100,\"\")","v":""}]
[null,{"$f":"IFERROR(VLOOKUP($C38,#REF!,3,FALSE),\"\")","v":""},null,null,null,null,"","",{"$f":"IFERROR((#REF!/#REF!)*100,\"\")","v":""},{"$f":"IFERROR((#REF!/#REF!)*100,\"\")","v":""},{"$f":"IFERROR((#REF!/#REF!)*100,\"\")","v":""},{"$f":"IFERROR((#REF!/#REF!)*100,\"\")","v":""}]
[null,{"$f":"IFERROR(VLOOKUP($C39,#REF!,3,FALSE),\"\")","v":""},null,null,null,null,"","",{"$f":"IFERROR((#REF!/#REF!)*100,\"\")","v":""},{"$f":"IFERROR((#REF!/#REF!)*100,\"\")","v":""},{"$f":"IFERROR((#REF!/#REF!)*100,\"\")","v":""},{"$f":"IFERROR((#REF!/#REF!)*100,\"\")","v":""}]
[null,{"$f":"IFERROR(VLOOKUP($C40,#REF!,3,FALSE),\"\")","v":""},null,null,null,null,"","",{"$f":"IFERROR((#REF!/#REF!)*100,\"\")","v":""},{"$f":"IFERROR((#REF!/#REF!)*100,\"\")","v":""},{"$f":"IFERROR((#REF!/#REF!)*100,\"\")","v":""},{"$f":"IFERROR((#REF!/#REF!)*100,\"\")","v":""}]
[null,{"$f":"IFERROR(VLOOKUP($C41,#REF!,3,FALSE),\"\")","v":""},null,null,null,null,"","",{"$f":"IFERROR((#REF!/#REF!)*100,\"\")","v":""},{"$f":"IFERROR((#REF!/#REF!)*100,\"\")","v":""},{"$f":"IFERROR((#REF!/#REF!)*100,\"\")","v":""},{"$f":"IFERROR((#REF!/#REF!)*100,\"\")","v":""}]
[null,{"$f":"IFERROR(VLOOKUP($C42,#REF!,3,FALSE),\"\")","v":""},null,null,null,null,"","",{"$f":"IFERROR((#REF!/#REF!)*100,\"\")","v":""},{"$f":"IFERROR((#REF!/#REF!)*100,\"\")","v":""},{"$f":"IFERROR((#REF!/#REF!)*100,\"\")","v":""},{"$f":"IFERROR((#REF!/#REF!)*100,\"\")","v":""}]
[null,{"$f":"IFERROR(VLOOKUP($C43,#REF!,3,FALSE),\"\")","v":""},null,null,null,null,"","",{"$f":"IFERROR((#REF!/#REF!)*100,\"\")","v":""},{"$f":"IFERROR((#REF!/#REF!)*100,\"\")","v":""},{"$f":"IFERROR((#REF!/#REF!)*100,\"\")","v":""},{"$f":"IFERROR((#REF!/#REF!)*100,\"\")","v":""}]
[null,{"$f":"IFERROR(VLOOKUP($C44,#REF!,3,FALSE),\"\")","v":""},null,null,null,null,"","",{"$f":"IFERROR((#REF!/#REF!)*100,\"\")","v":""},{"$f":"IFERROR((#REF!/#REF!)*100,\"\")","v":""},{"$f":"IFERROR((#REF!/#REF!)*100,\"\")","v":""},{"$f":"IFERROR((#REF!/#REF!)*100,\"\")","v":""}]
[null,{"$f":"IFERROR(VLOOKUP($C45,#REF!,3,FALSE),\"\")","v":""},null,null,null,null,"","",{"$f":"IFERROR((#REF!/#REF!)*100,\"\")","v":""},{"$f":"IFERROR((#REF!/#REF!)*100,\"\")","v":""},{"$f":"IFERROR((#REF!/#REF!)*100,\"\")","v":""},{"$f":"IFERROR((#REF!/#REF!)*100,\"\")","v":""}]
[null,{"$f":"IFERROR(VLOOKUP($C46,#REF!,3,FALSE),\"\")","v":""},null,null,null,null,"","",{"$f":"IFERROR((#REF!/#REF!)*100,\"\")","v":""},{"$f":"IFERROR((#REF!/#REF!)*100,\"\")","v":""},{"$f":"IFERROR((#REF!/#REF!)*100,\"\")","v":""},{"$f":"IFERROR((#REF!/#REF!)*100,\"\")","v":""}]
[null,{"$f":"IFERROR(VLOOKUP($C47,#REF!,3,FALSE),\"\")","v":""},null,null,null,null,"","",{"$f":"IFERROR((#REF!/#REF!)*100,\"\")","v":""},{"$f":"IFERROR((#REF!/#REF!)*100,\"\")","v":""},{"$f":"IFERROR((#REF!/#REF!)*100,\"\")","v":""},{"$f":"IFERROR((#REF!/#REF!)*100,\"\")","v":""}]
[]
[]
[null,"PRINCIPALES ACCIONES REALIZADAS CON RECURSOS DE ORIGEN FEDERAL: "]
[null,"221 274 K016- Rehabilitación y Mantenimiento de Infraestructura Pública; A través de la Obra por contrato se realizó 1 inmueble con el proyecto denominado: Mantenimiento, Conservación y Rehabilitación a Centros de Desarrollo Social  en : 1.-Centro de Servicios de Atención Ciudadana, ubicado adentro del  Deportivo Vivanco ubicado en Calle Moneda 64, Tlalpan Centro I. Trabajos realizados: trabajos preliminares, albañileria, acabados, impermeabilización.\n\n\n\n\n\n\n\n"]
[null,"Se realizó 2 inmubles en el proyecto denominado:  Mantenimiento, Conservación y Rehabilitación a Edificios Públicos en: 1.- Panteón de San Agustin Pueblo San Andrés Totoltepec, ubicado en Km 23.5 Carretera Federal a Cuernavaca, Pueblo San Andrés Totoltepec, Trabajos realizados: Trabajos generales, albañilería y acabados en general, 2.-2da. Etapa al Campamento Limantitla, Col.Tlalpan Centro,\nTrabajos realizados:trazo y nivelación, albañilería, estructura de concreto reforzado, instalaciones eléctricas, instalaciones hidráulicas, instalaciones sanitarias, acabados, cancelerías                                                 \n\n"]
[null,"Se tienen recursos ejercidos referentes a 3  proyectos ejecutivos los cuales no crean meta ya que son servicios de obras y están denominados: 1.-Realizar 7 Proyectos Ejecutivos para la elaboración de la Construcción de los Proyectos de Obra para los siguientes frentes : Proyecto Ejecutivo de la Casa del adulto Mayor y construcción de Biblioteca en el Pueblo de San Miguel Ajusco, 2.Proyecto ejecutivo para la Construcción de Módulos Sanitarios en la colonia Santísima Trinidad, 3.-Proyecto Ejecutivo para la construcción del Centro de Artes y Oficios de la colonia Pedregal de San Nicolás 3ra. Sección, 4.-Proyecto Ejecutivo para la Construcción del Centro Comunitario en el Pueblo Santo Tomás Ajusco, 5.-Proyecto Ejecutivo para la construcción del 2do piso de la subdelegación del Pueblo Santo Tomás Ajusco, 6.-Proyecto Ejecutivo para la construcción del Centro de Artes y Oficios de la colonia Tecorral, 7.-Proyecto Ejecutivo para la construcción del Centro de Desarrollo Integral Comunitario en la colonia Cultura Maya.\nLos  proyectos consisten en la elaboración de: estudio mecánica de suelos,proyecto arquitectónico,proyecto estructural con aval de DRO, proyecto de instalaciones eléctricas con aval de corresponsal,proyecto de instalaciones hidráulicas, sanitarias y pluviales con aval de corresponsal. Trabajos realizados: Proyecto arquitectónico, proyecto estructural con aval de DRO, proyecto de instalaciones eléctricas con aval de corresponsal\n2.-Elaboración de 4 Proyectos Ejecutivos para Obras de Rehabilitación y Mantenimiento en la imagen Urbana dentro del perímetro de la Alcaldía de Tlalpan:\nElaboración de los proyectos de obra para la rehabilitación y mantenimiento de las obras públicas en: 1- Arco de Identidad  en el Pueblo Magdalena Petlacalco, 2.- San Nicolás II,  3.- Comuneros de Santa Ursula y 4.-  Parque Morelos dentro del perímetro de la Alcaldía Tlalpan.Trabajos realziados: proyecto arquitectónico,proyecto estructural con aval de DRO,proyecto de instalaciones eléctricas con aval de corresponsal.\n3.-Realización de Proyectos Ejecutivos y Eléctricos para 6 Mercados: 1.-Proyecto Eléctrico para el Mercado Plaza Mexicana del Sur, 2.-Proyecto Eléctrico para el Mercado Flores San Fernando, 3.-Proyecto Ejecutivo para la Construcción del Mercado Topilejo Pueblo San Miguel Topilejo, 4.-Proyecto Ejecutivo para la Construcción del Mercado Concentración 10 de Mayo  5.-Proyecto Eléctrico para el Mercado Villa Coapa, 6.- Proyecto Eléctrico para el Mercado Fuentes Brotantes.\nLos  Proyectos Eléctricos consisten en: Desarrollo Eléctrico (Diagrama unifilar, Cuadros de carga, Distribución de circuitos, Análisis Sistema de alumbrado, Sistema de tierras, Cálculo de circuitos alimentadores (conductores, caídas de tensión, canalizaciones, conductor de puesta a tierra, protecciones), Cálculo de circuitos derivados (conductores, caídas de tensión, canalizaciones, conductor de puesta a tierra, protecciones), Firma de los planos que integran el proyecto eléctrico por un ingeniero electricista con cédula profesional, revisión y firma de planos por unidad verificadora de instalaciones eléctricas. (UVIE).\nLos Proyectos Ejecutivos consisten en: elaboración de Levantamiento Topográfico, Levantamiento Arquitectónico, Estudios de Mécanica de Suelos, Estudio de mecánica de suelos geofisicos-geoelectricos , Proyecto Arquitectónico (Planta de conjunto, Planos de plantas arquitectónicas, Planos de elevaciones arquitectónicas o alzados, Plano de cortes arquitectónicos o secciones, Planos de detalles arquitectónicos, Calculo Estructural con firma de DRO, Proyecto Eléctrico, Cálculo de circuitos alimentadores, Cálculo de circuitos derivados, Firma de los planos que integran el proyecto eléctrico por un ingeniero electricista con cédula profesional, revisión y firma de planos por unidad verificadora de instalaciones eléctricas. (UVIE), Proyecto de Instalaciones Hidráulicas y Proyecto de Instalación Sanitaria.\n"]
[null,"311 148 E150 Programa Integral de Movilidad Inteligente; A través de la Obra por Contrato se relizaron los trabajos en el proyecto denominado: Mantenimiento y Rehabilitación a Mercados con 4 inmuebles\n1.-Mercado Flores San Fernando, ubicado en Calzada de Tlalpan y avenida San Fernando, Colonia Barrio de Niño Jesús, Trabajos realizados: instalación eléctrica interna, módulos, instalación eléctrica exterior, 2.-Mercado Fuentes Brotantes, ubicado en Interior del Parque Nacional Fuentes Brotantes, colonia Fuentes Brotantes, Trabajos realizados: instalación eléctrica, sistema de drenaje, ampliación de baños, áreas verdes y juegos, 3.-Mercado Villa Coapa, ubicado en Avenida canal de Miramontes s/n entre avenida Acoxpa y Caporal, colonia Villa Coapa, Trabajos realizados: sustitución de luminaria led, alimentadores a locales, alimentador a hidroneumático, alumbrado exterior, alimentadores en baja tensión CCTV y telefonía, extracción de aire, 4.-Mercado Plaza Mexicana del Sur, ubicado en Avenida Acoxpa, entre Calzada de Tlalpan y Viaducto Tlalpan, Col. San Lorenzo Huipulco, Trabajos realizados: instalación eléctrica\n\n"]
[]
[]
["221 274 K016- Al periodo en el proyecto denominado: Mantenimiento, Conservación y Rehabilitación a Edificios Públicos se cumplió con la meta programada y el cual cuenta con dos fondos 15OB10 y 15OC10\nPor otro lado se tienen recursos ejercidos referentes a los proyectos ejecutivos denominados Elaboración de Proyectos Ejecutivos para Obras de Rehabilitación y Mantenimiento en la imagen Urbana dentro del perímetro de la Alcaldía de Tlalpan y Realizar 6 Proyectos Ejecutivos para la elaboración de la Construcción de los Proyectos de Obra de Mercados Públicos, los cuales no crean meta ya que son considerados servicios de obra.\nSe apertura el proyecto denominado Pavimentación de todas las calles del Pueblo de San Andrés Totoltepec con clave 12-147, el cual refiere al Presupuesto Particicpativo DG: 65, el cual se verá al 100% para el Cierre de la Cuenta Pública del Ejercicio 2021, debido a que se contrato a finales del mes de noviembre.\n"]
["311 148 E150- Se aperturan  recursos del proyecto denominado: Mantenimiento y Rehabilitación a Mercados con recursos del Fondo Etiquetado PARIPASSSU, mismos que cuentan con tres Fuentes de Financiamiento:No etiquetado recursos fiscales-fiscales-fiscales-2021-original de la urg (Fiscales), Etiquetado Recursos Federales-Aportaciones Federales para Entidades Federativas y Municipios-Fondo de Aportaciones para el Fortalecimiento de las Entidades Federativas (FAFEF)-2021-Original de la URG, No Etiquetado Recursos Federales-Participaciones a Entidades Federativas y Municipios- Participaciones en el Impuesto Sobre Automóviles Nuevos-2021-Original de la URG, en dodnde se verán rfelejada la meta ejecutada., en dodnde se verán rfelejada la meta ejecutada."]
[]
[]
[null,"ETIQUETADO RECURSOS FEDERALES-APORTACIONES FEDERALES PARA ENTIDADES FEDERATIVAS Y MUNICIPIOS-FONDO DE APORTACIONES PARA EL FORTALECIMIENTO DE LAS ENTIDADES FEDERATIVAS (FAFEF)-2021-ORIGINAL DE LA URG"]

{"sheet":"AP_RF PART.FED 15OC10","index":15,"n_rows":61,"n_cols":26,"rows_kept":61,"cut":false,"hidden":false,"merged":[[49,1,49,11],[1,1,1,11],[2,1,2,11],[4,1,4,4],[4,5,4,11],[5,1,5,4],[5,5,5,11],[7,1,7,4],[7,5,7,11],[9,1,9,11],[10,1,10,7],[10,8,10,11],[55,1,55,11],[59,1,59,12],[60,1,60,11],[58,1,58,11],[50,1,50,11],[51,1,51,11],[52,1,52,11],[53,1,53,11],[54,1,54,11]]}
[]
[null,"AP-RF  AVANCE PRESUPUESTAL DE RECURSOS DE ORIGEN FEDERAL"]
[null,"FONDO, CONVENIO, SUBSIDIO O PARTICIPACIÓN: (1)"]
[]
[null,"Unidad Responsable de Gasto:",null,null,null,"DIRECCIÓN GENERAL DE OBRAS Y DESARROLLO URBANO"]
[null,"Período:",null,null,null,"Enero-Diciembre 2021"]
[]
[null,"FONDO",null,null,null,"NO ETIQUETADO RECURSOS FEDERALES-PARTICIPACIONES A ENTIDADES FEDERATIVAS Y MUNICIPIOS-FONDO DE COMPENSACIÓN DEL IMPUESTO DE AUTOMÓVILES NUEVOS (ISAN) -2022-ORIGINAL DE LA URG (15OC10)"]
[]
[null,"R      E      S      U      L      T      A      D      O      S"]
[null,"PRESUPUESTO\n(Pesos con dos decimales)",null,null,null,null,null,null,"AVANCE\n%"]
[null,"APROBADO\n","MODIFICADO\n","PROGRAMADO\n","SALDO DEL \nCOMPROMISO","DEVENGADO\n","EJERCIDO\n","PAGADO\n","(DEVENGADO / APROBADO)*100\n","(DEVENGADO / MODIFICADO)*100\n","(EJERCIDO / APROBADO)*100\n","(EJERCIDO / MODIFICADO)*100\n"]
[null,6862127,6862127,4087340.58,4087340.58,4087340.58,4087340.58,4087340.58,0,{"$f":"IFERROR(($F13/$B13)*100,\"\")","v":59.563755960797579},{"$f":"IFERROR(($G13/$B13)*100,\"\")","v":59.563755960797579},{"$f":"IFERROR(($G13/$C13)*100,\"\")","v":59.563755960797579}]
[]
[null,null,null,null,null,null,null,null,{"$f":"IFERROR((#REF!/#REF!)*100,\"\")","v":""},{"$f":"IFERROR((#REF!/#REF!)*100,\"\")","v":""},{"$f":"IFERROR((#REF!/#REF!)*100,\"\")","v":""},{"$f":"IFERROR((#REF!/#REF!)*100,\"\")","v":""}]
[null,null,null,null,null,null,null,null,{"$f":"IFERROR((#REF!/#REF!)*100,\"\")","v":""},{"$f":"IFERROR((#REF!/#REF!)*100,\"\")","v":""},{"$f":"IFERROR((#REF!/#REF!)*100,\"\")","v":""},{"$f":"IFERROR((#REF!/#REF!)*100,\"\")","v":""}]
[null,{"$f":"IFERROR(VLOOKUP($C17,#REF!,3,FALSE),\"\")","v":""},null,null,null,null,{"$f":"IFERROR(F17/C17,\"\")","v":""},{"$f":"IFERROR((F17/D17*100),\"\")","v":""},{"$f":"IFERROR((#REF!/#REF!)*100,\"\")","v":""},{"$f":"IFERROR((#REF!/#REF!)*100,\"\")","v":""},{"$f":"IFERROR((#REF!/#REF!)*100,\"\")","v":""},{"$f":"IFERROR((#REF!/#REF!)*100,\"\")","v":""}]
[null,{"$f":"IFERROR(VLOOKUP($C18,#REF!,3,FALSE),\"\")","v":""},null,null,null,null,"","",{"$f":"IFERROR((#REF!/#REF!)*100,\"\")","v":""},{"$f":"IFERROR((#REF!/#REF!)*100,\"\")","v":""},{"$f":"IFERROR((#REF!/#REF!)*100,\"\")","v":""},{"$f":"IFERROR((#REF!/#REF!)*100,\"\")","v":""}]
[null,{"$f":"IFERROR(VLOOKUP($C19,#REF!,3,FALSE),\"\")","v":""},null,null,null,null,"","",{"$f":"IFERROR((#REF!/#REF!)*100,\"\")","v":""},{"$f":"IFERROR((#REF!/#REF!)*100,\"\")","v":""},{"$f":"IFERROR((#REF!/#REF!)*100,\"\")","v":""},{"$f":"IFERROR((#REF!/#REF!)*100,\"\")","v":""}]
[null,{"$f":"IFERROR(VLOOKUP($C20,#REF!,3,FALSE),\"\")","v":""},null,null,null,null,"","",{"$f":"IFERROR((#REF!/#REF!)*100,\"\")","v":""},{"$f":"IFERROR((#REF!/#REF!)*100,\"\")","v":""},{"$f":"IFERROR((#REF!/#REF!)*100,\"\")","v":""},{"$f":"IFERROR((#REF!/#REF!)*100,\"\")","v":""}]
[null,{"$f":"IFERROR(VLOOKUP($C21,#REF!,3,FALSE),\"\")","v":""},null,null,null,null,"","",{"$f":"IFERROR((#REF!/#REF!)*100,\"\")","v":""},{"$f":"IFERROR((#REF!/#REF!)*100,\"\")","v":""},{"$f":"IFERROR((#REF!/#REF!)*100,\"\")","v":""},{"$f":"IFERROR((#REF!/#REF!)*100,\"\")","v":""}]
[null,{"$f":"IFERROR(VLOOKUP($C22,#REF!,3,FALSE),\"\")","v":""},null,null,null,null,"","",{"$f":"IFERROR((#REF!/#REF!)*100,\"\")","v":""},{"$f":"IFERROR((#REF!/#REF!)*100,\"\")","v":""},{"$f":"IFERROR((#REF!/#REF!)*100,\"\")","v":""},{"$f":"IFERROR((#REF!/#REF!)*100,\"\")","v":""}]
[null,{"$f":"IFERROR(VLOOKUP($C23,#REF!,3,FALSE),\"\")","v":""},null,null,null,null,"","",{"$f":"IFERROR((#REF!/#REF!)*100,\"\")","v":""},{"$f":"IFERROR((#REF!/#REF!)*100,\"\")","v":""},{"$f":"IFERROR((#REF!/#REF!)*100,\"\")","v":""},{"$f":"IFERROR((#REF!/#REF!)*100,\"\")","v":""}]
[null,{"$f":"IFERROR(VLOOKUP($C24,#REF!,3,FALSE),\"\")","v":""},null,null,null,null,"","",{"$f":"IFERROR((#REF!/#REF!)*100,\"\")","v":""},{"$f":"IFERROR((#REF!/#REF!)*100,\"\")","v":""},{"$f":"IFERROR((#REF!/#REF!)*100,\"\")","v":""},{"$f":"IFERROR((#REF!/#REF!)*100,\"\")","v":""}]
[null,{"$f":"IFERROR(VLOOKUP($C25,#REF!,3,FALSE),\"\")","v":""},null,null,null,null,"","",{"$f":"IFERROR((#REF!/#REF!)*100,\"\")","v":""},{"$f":"IFERROR((#REF!/#REF!)*100,\"\")","v":""},{"$f":"IFERROR((#REF!/#REF!)*100,\"\")","v":""},{"$f":"IFERROR((#REF!/#REF!)*100,\"\")","v":""}]
[null,{"$f":"IFERROR(VLOOKUP($C26,#REF!,3,FALSE),\"\")","v":""},null,null,null,null,"","",{"$f":"IFERROR((#REF!/#REF!)*100,\"\")","v":""},{"$f":"IFERROR((#REF!/#REF!)*100,\"\")","v":""},{"$f":"IFERROR((#REF!/#REF!)*100,\"\")","v":""},{"$f":"IFERROR((#REF!/#REF!)*100,\"\")","v":""}]
[null,{"$f":"IFERROR(VLOOKUP($C27,#REF!,3,FALSE),\"\")","v":""},null,null,null,null,"","",{"$f":"IFERROR((#REF!/#REF!)*100,\"\")","v":""},{"$f":"IFERROR((#REF!/#REF!)*100,\"\")","v":""},{"$f":"IFERROR((#REF!/#REF!)*100,\"\")","v":""},{"$f":"IFERROR((#REF!/#REF!)*100,\"\")","v":""}]
[null,{"$f":"IFERROR(VLOOKUP($C28,#REF!,3,FALSE),\"\")","v":""},null,null,null,null,"","",{"$f":"IFERROR((#REF!/#REF!)*100,\"\")","v":""},{"$f":"IFERROR((#REF!/#REF!)*100,\"\")","v":""},{"$f":"IFERROR((#REF!/#REF!)*100,\"\")","v":""},{"$f":"IFERROR((#REF!/#REF!)*100,\"\")","v":""}]
[null,{"$f":"IFERROR(VLOOKUP($C29,#REF!,3,FALSE),\"\")","v":""},null,null,null,null,"","",{"$f":"IFERROR((#REF!/#REF!)*100,\"\")","v":""},{"$f":"IFERROR((#REF!/#REF!)*100,\"\")","v":""},{"$f":"IFERROR((#REF!/#REF!)*100,\"\")","v":""},{"$f":"IFERROR((#REF!/#REF!)*100,\"\")","v":""}]
[null,{"$f":"IFERROR(VLOOKUP($C30,#REF!,3,FALSE),\"\")","v":""},null,null,null,null,"","",{"$f":"IFERROR((#REF!/#REF!)*100,\"\")","v":""},{"$f":"IFERROR((#REF!/#REF!)*100,\"\")","v":""},{"$f":"IFERROR((#REF!/#REF!)*100,\"\")","v":""},{"$f":"IFERROR((#REF!/#REF!)*100,\"\")","v":""}]
[null,{"$f":"IFERROR(VLOOKUP($C31,#REF!,3,FALSE),\"\")","v":""},null,null,null,null,"","",{"$f":"IFERROR((#REF!/#REF!)*100,\"\")","v":""},{"$f":"IFERROR((#REF!/#REF!)*100,\"\")","v":""},{"$f":"IFERROR((#REF!/#REF!)*100,\"\")","v":""},{"$f":"IFERROR((#REF!/#REF!)*100,\"\")","v":""}]
[null,{"$f":"IFERROR(VLOOKUP($C32,#REF!,3,FALSE),\"\")","v":""},null,null,null,null,"","",{"$f":"IFERROR((#REF!/#REF!)*100,\"\")","v":""},{"$f":"IFERROR((#REF!/#REF!)*100,\"\")","v":""},{"$f":"IFERROR((#REF!/#REF!)*100,\"\")","v":""},{"$f":"IFERROR((#REF!/#REF!)*100,\"\")","v":""}]
[null,{"$f":"IFERROR(VLOOKUP($C33,#REF!,3,FALSE),\"\")","v":""},null,null,null,null,"","",{"$f":"IFERROR((#REF!/#REF!)*100,\"\")","v":""},{"$f":"IFERROR((#REF!/#REF!)*100,\"\")","v":""},{"$f":"IFERROR((#REF!/#REF!)*100,\"\")","v":""},{"$f":"IFERROR((#REF!/#REF!)*100,\"\")","v":""}]
[null,{"$f":"IFERROR(VLOOKUP($C34,#REF!,3,FALSE),\"\")","v":""},null,null,null,null,"","",{"$f":"IFERROR((#REF!/#REF!)*100,\"\")","v":""},{"$f":"IFERROR((#REF!/#REF!)*100,\"\")","v":""},{"$f":"IFERROR((#REF!/#REF!)*100,\"\")","v":""},{"$f":"IFERROR((#REF!/#REF!)*100,\"\")","v":""}]
[null,{"$f":"IFERROR(VLOOKUP($C35,#REF!,3,FALSE),\"\")","v":""},null,null,null,null,"","",{"$f":"IFERROR((#REF!/#REF!)*100,\"\")","v":""},{"$f":"IFERROR((#REF!/#REF!)*100,\"\")","v":""},{"$f":"IFERROR((#REF!/#REF!)*100,\"\")","v":""},{"$f":"IFERROR((#REF!/#REF!)*100,\"\")","v":""}]
[null,{"$f":"IFERROR(VLOOKUP($C36,#REF!,3,FALSE),\"\")","v":""},null,null,null,null,"","",{"$f":"IFERROR((#REF!/#REF!)*100,\"\")","v":""},{"$f":"IFERROR((#REF!/#REF!)*100,\"\")","v":""},{"$f":"IFERROR((#REF!/#REF!)*100,\"\")","v":""},{"$f":"IFERROR((#REF!/#REF!)*100,\"\")","v":""}]
[null,{"$f":"IFERROR(VLOOKUP($C37,#REF!,3,FALSE),\"\")","v":""},null,null,null,null,"","",{"$f":"IFERROR((#REF!/#REF!)*100,\"\")","v":""},{"$f":"IFERROR((#REF!/#REF!)*100,\"\")","v":""},{"$f":"IFERROR((#REF!/#REF!)*100,\"\")","v":""},{"$f":"IFERROR((#REF!/#REF!)*100,\"\")","v":""}]
[null,{"$f":"IFERROR(VLOOKUP($C38,#REF!,3,FALSE),\"\")","v":""},null,null,null,null,"","",{"$f":"IFERROR((#REF!/#REF!)*100,\"\")","v":""},{"$f":"IFERROR((#REF!/#REF!)*100,\"\")","v":""},{"$f":"IFERROR((#REF!/#REF!)*100,\"\")","v":""},{"$f":"IFERROR((#REF!/#REF!)*100,\"\")","v":""}]
[null,{"$f":"IFERROR(VLOOKUP($C39,#REF!,3,FALSE),\"\")","v":""},null,null,null,null,"","",{"$f":"IFERROR((#REF!/#REF!)*100,\"\")","v":""},{"$f":"IFERROR((#REF!/#REF!)*100,\"\")","v":""},{"$f":"IFERROR((#REF!/#REF!)*100,\"\")","v":""},{"$f":"IFERROR((#REF!/#REF!)*100,\"\")","v":""}]
[null,{"$f":"IFERROR(VLOOKUP($C40,#REF!,3,FALSE),\"\")","v":""},null,null,null,null,"","",{"$f":"IFERROR((#REF!/#REF!)*100,\"\")","v":""},{"$f":"IFERROR((#REF!/#REF!)*100,\"\")","v":""},{"$f":"IFERROR((#REF!/#REF!)*100,\"\")","v":""},{"$f":"IFERROR((#REF!/#REF!)*100,\"\")","v":""}]
[null,{"$f":"IFERROR(VLOOKUP($C41,#REF!,3,FALSE),\"\")","v":""},null,null,null,null,"","",{"$f":"IFERROR((#REF!/#REF!)*100,\"\")","v":""},{"$f":"IFERROR((#REF!/#REF!)*100,\"\")","v":""},{"$f":"IFERROR((#REF!/#REF!)*100,\"\")","v":""},{"$f":"IFERROR((#REF!/#REF!)*100,\"\")","v":""}]
[null,{"$f":"IFERROR(VLOOKUP($C42,#REF!,3,FALSE),\"\")","v":""},null,null,null,null,"","",{"$f":"IFERROR((#REF!/#REF!)*100,\"\")","v":""},{"$f":"IFERROR((#REF!/#REF!)*100,\"\")","v":""},{"$f":"IFERROR((#REF!/#REF!)*100,\"\")","v":""},{"$f":"IFERROR((#REF!/#REF!)*100,\"\")","v":""}]
[null,{"$f":"IFERROR(VLOOKUP($C43,#REF!,3,FALSE),\"\")","v":""},null,null,null,null,"","",{"$f":"IFERROR((#REF!/#REF!)*100,\"\")","v":""},{"$f":"IFERROR((#REF!/#REF!)*100,\"\")","v":""},{"$f":"IFERROR((#REF!/#REF!)*100,\"\")","v":""},{"$f":"IFERROR((#REF!/#REF!)*100,\"\")","v":""}]
[null,{"$f":"IFERROR(VLOOKUP($C44,#REF!,3,FALSE),\"\")","v":""},null,null,null,null,"","",{"$f":"IFERROR((#REF!/#REF!)*100,\"\")","v":""},{"$f":"IFERROR((#REF!/#REF!)*100,\"\")","v":""},{"$f":"IFERROR((#REF!/#REF!)*100,\"\")","v":""},{"$f":"IFERROR((#REF!/#REF!)*100,\"\")","v":""}]
[null,{"$f":"IFERROR(VLOOKUP($C45,#REF!,3,FALSE),\"\")","v":""},null,null,null,null,"","",{"$f":"IFERROR((#REF!/#REF!)*100,\"\")","v":""},{"$f":"IFERROR((#REF!/#REF!)*100,\"\")","v":""},{"$f":"IFERROR((#REF!/#REF!)*100,\"\")","v":""},{"$f":"IFERROR((#REF!/#REF!)*100,\"\")","v":""}]
[null,{"$f":"IFERROR(VLOOKUP($C46,#REF!,3,FALSE),\"\")","v":""},null,null,null,null,"","",{"$f":"IFERROR((#REF!/#REF!)*100,\"\")","v":""},{"$f":"IFERROR((#REF!/#REF!)*100,\"\")","v":""},{"$f":"IFERROR((#REF!/#REF!)*100,\"\")","v":""},{"$f":"IFERROR((#REF!/#REF!)*100,\"\")","v":""}]
[null,{"$f":"IFERROR(VLOOKUP($C47,#REF!,3,FALSE),\"\")","v":""},null,null,null,null,"","",{"$f":"IFERROR((#REF!/#REF!)*100,\"\")","v":""},{"$f":"IFERROR((#REF!/#REF!)*100,\"\")","v":""},{"$f":"IFERROR((#REF!/#REF!)*100,\"\")","v":""},{"$f":"IFERROR((#REF!/#REF!)*100,\"\")","v":""}]
[]
[]
[null,"PRINCIPALES ACCIONES REALIZADAS CON RECURSOS DE ORIGEN FEDERAL: "]
[null,"221 274 K016- Rehabilitación y Mantenimiento de Infraestructura Pública; A través de la Obra por Administración se realizaron 76 inmuebles para llevar a cabo la  Rehabilitación y Mantenimiento  de Infraestructura Pública con los siguientes trabajos:\nSe realizaron 30  inmuebles para el  Mantenimiento a Escuelas del Nivel Básico en : JARDIN DE NIÑOS: 1.- Jardín de niños  \"Xochiconetl\". Ubicación:  Avenida 7 s/n, MZ 1127 LT 146, entre Avenida 3 y Artes Flamencos, Colonia Miguel Hidalgo 3a. sección Trabajos Realizados: herrería ; 2.- Jardín de Niños \"Coronel Felipe Santiago Xicotencatl\".  Ubicación Diamantinos no. 176-1 esquina Segundo Retorno de Pergoleros, Pueblo de San Andrés Totoltepec, Trabajos Realizados: albañilería  y colocación de losetas; 3.- Jardín de Niños \"Cuauhtémoc\". Ubicación: Reforma entre 5 de Mayo y 16 de Septiembre, Pueblo de San Andrés Totoltepec. Trabajos Realizados: Reparación y mantenimiento en instalaciones hidrosanitarias y de bombeo;  4.- Jardín de Niños \"Parres\". Ubicación:  Avenida Juárez esquina Carretera Federal a Cuernavaca, Pueblo de Parres El Guarda. Trabajos Realizados: herreria, trabajos de reparación y mantenimiento en redes de drenaje y desazolve;  5.- Jardín de Niños \"Topilli\". Ubicación: Santa Cruz no. 33 esquina Progreso, Pueblo de San Miguel Topilejo. Trabajos Realizados: Mantenimiento y reparación  en azoteas y marquesinas, trabajos de desazolve, reparación de instalaciones eléctricas;  6.- Jardín de Niños \"Magdalena Contreras Millán\". Ubicación: Enseñanza s/n entre Laurel y Cinco de Mayo, Pueblo de San Pedro Mártir. Trabajos Realizados: Reparación y mantenimiento en instalaciones de bombeo, cisternas y tinacos;  7.-Jardín de Niños \"Taviche\". Ubicación:  Avenida Hidalgo s/n entre Matamoros e Hidalgo, Pueblo de San Miguel Ajusco. Trabajos Realizados: Albañilería resanado de plafón y marquesina, aplicación de pintura en muros, plafones, marquesinas, castillos, trabes y zahuán.   ESCUELAS PRIMARIAS:  8.- Escuela Primaria \"Profa. Emma Godoy\".  Ubicación:  Chanab no. 10, entre Contoy y Chapultenango, Colonia Cuchilla de Padierna, Trabajos Realizados:  Aplicación de impermeabilizante a tres edificios,  9.- Escuela Primaria \"Prof. Hermilo Zavalza del Valle. Ubicación: Yobain no. 659 esquina Bolonche, Colonia Cultura Maya, Trabajos Realizados:  Mantenimiento y reparación en sistemas de bombeo y cisternas. 10.- Escuela Primaria \"Efrén Núñez Mata\". Ubicación:  Querétaro no. 45 entre Leona Vicario y Guadalajara, Colonia Miguel Hidalgo 2a. sección, Trabajos Realizados: Reparación y mantenimiento en instalaciones eléctricas e hidrosanitarias  11.- Escuela Primaria \"Everardo Cruz Salmerón\". Ubicación: Cerro Tetenco no. 1 esquina La Troje, Colonia María Esther Zuno, Trabajos Realizados:  Reparación y mantenimiento de instalaciones hidrosanitarias y de bombeo12.- Escuela Primaria \"José Azueta\". Ubicación:  Parque Nacional Fuentes Brotantes no. 36 entre Fuentes Brotantes e Insurgentes Sur, Colonia Fuentes Brotantes, Trabajos Realizados:  balizamiento en patios, canchas, pasillos y perímetros exterior e interior (1567.10 ML.)  13.- Escuela Primaria \"Tiburcio Montiel\". Ubicación: Cinco de Mayo no. 55 entre Juárez y Reforma, Pueblo de San Andrés Totoltepec.Trabajos Realizados:  Reparación y mantenimiento en instalaciones eléctricas e hidrosanitarias  14.-Escuela Primaria \"Antonio Sánchez Molina\".  Ubicación:  Chicoasen s/n entre Chemax y Sinanche, Colonia Pedregal de San Nicolás 1a. sección.Trabajos Realizados: Acabados y albañilería, instalación de malla ciclónica, 15.- Escuela Primaria \"Eliseo Bandala Fernández\". Ubicación Sinanché no. 10 entre Kantunil y Maní, Colonia Pedregal de San Nicolás 1a. sección.Trabajos Realizados: Reparación y mantenimiento en cisternas, tinacos y baños. 16.- Escuela Primaria \"Martín de la Cruz\". Ubicación:  Avenida La Carreta no. 72 entre Prol. Div. del Norte y Canal de Miramontes, Unidad Habitacional Narciso Mendoza S.M. Trabajos Realizados:  Reparación y mantenimiento en cisternas y tinacos,  17.- Escuela Primaria \"Primero de Mayo\"  Ubicación: Fuentes no. 16 esquina Avenida San Fernando, colonia Centro de Tlalpan. Trabajos Realizados:  reparación y mantenimiento en cisternas y tinacos. 18.- Escuela Primaria \"Prof. Abel Ortega Flores\". Ubicación  5 de Mayo esquina Cuauhtémoc, pueblo de San Pedro Mártir. Trabajos Realizados: Reparación y mantenimiento en instalaciones eléctricas, hidrosanitarias y de bombeo. 19.- Escuela Primaria \"Ucrania\". Ubicación  Avenida Acoxpa Andador 62 esquina Av. La Troje, unidad habitacional Narciso Mendoza S.M. 6. Trabajos Realizados: Reparación y mantenimiento en instalaciones hidrosanitarias, cisternas y tinacos,  20.- Escuela Primaria \"Domingo Martínez Paredes\". Ubicación: Hopelchen no. 642 entre Tepakan y Peto, Colonia Cultura Maya. Trabajos Realizados: reparación y mantenimiento en equipos de bombeo, trabajos de herrería; 21.- Escuela Primaria \"Estado de Nayarit\". Ubicación: Valle de Los Ángeles no. 22 esquina Juárez, pueblo de Parres El Guarda. Trabajos Realizados: reparación y mantenimiento en tinacos, cisternas y sistema de bombeo; 22.- Escuela Primaria \"Fuerzas Armadas de México\". Ubicación: Reforma Agraria no. 1 esquina Circuito Pergoleros, unidad habitacional Issfam San Pedro Mártir. Trabajos Realizados: Aplicación de pintura en muros (53.30 M2.), en puerta de 1.87 x 0.87 y en 2 ventanas de 1.75 x 0.87, aplicación de impermeabilizante (22.60 M2.); 23.- Escuela Primaria \"Mauritania\". Ubicación:  Av. Santa Cruz no. 6 entre Tetenco y Progreso, Pueblo de San Miguel Topilejo. Trabajos Realizados: Reparación y mantenimiento en instalaciones hidrosanitarias de cisternas y tinacos; 24.- Escuela Primaria \"Salvador Trejo Escobedo\". Ubicación: Guerrero no. 23 entre Morelos y Zaragoza, Pueblo de San Miguel Topilejo. Trabajos Realizados: Mantenimiento y reparación  instalaciones hidrosanitrias,  25.-Escuela Primaria \"Cuicuilco\". Ubicación: Callejón de El Zapote s/n entre Av. San Fernando y Piedra Filosofal, colonia Isidro Fabela. Trabajos Realizados: Mantenimiento y reparación  instalaciones de bombeo, cisternas y tinacos,  26.-Escuela Primaria \"Legión Americana\". Ubicación: Avenida México Ajusco no. 25 entre Av. del Trabajo y Av. de Las Cruces, Pueblo de La Magdalena Petlacalco. Trabajos Realizados: Reparación y mantenimiento en equipos de bombeo, cisternas y tinacos.   ESCUELAS SECUNDARIAS:  27.- Escuela Secundaria Técnica No. 54 \"Jaime Torres Bodet\". Ubicación: Diligencias s/n esquina Violeta, pueblo de San Pedro Mártir, Trabajos Realizados: Reparación y mantenimiento en instalaciones hidrosanitarias y eléctricas.  28.- Escuela Secundaria no. 120. Ubicación: Miguel Hidalgo s/n esquina 20 de Noviembre Pueblo Parres. Trabajos Realizados: Reparación y mantenimiento en equipos de bombeo, trabajos de herrería en cisternas, 29.-Escuela Secundaria Técnica No. 40 \"Virgilio Camacho Paniagua\". Ubicación: El riego s/n esquina Arbolillo, Fraccionamiento Residencial Coapa. Trabajos Realizados: Reparación y mantenimiento en equipos de bombeo, cisternas y tinacos. CENTRO DE ATENCIÓN MÚLTIPLE (CAM)  30.- Centro de Atención Múltiple (CAM)  no. 64. Ubicación: Yobain MZ 26 LT s/n entre Bochil y Labna, colonia Popular Santa Teresa.  Trabajos Realizados: Reparación y mantenimiento en instalaciones hidrosanitarias y de bombeo. Adicionalmente se realizaron trabajos en la Secudaria No. 276 \"Juventino Rosas\". Ubicación:  Tarascos s/n entre Chontales y Tepehuanos, Colonia Tlalcoligia, Trabajos Realizados:  reparación y mantenimiento en instalaciones eléctricas, cambio de 26 lámparas y 11 balastras. ",null,null,null,null,null,null,null,null,null,null,null,null,null,null,null,null,null,null,null,null,null,null,null,{"$f":"16+2+12+2+2","v":34}]
[null,"Se realizaron 8 inmuebles para el  Mantenimiento a Bibliotecas en: 1.- Biblioteca Pública \"Belvedere\", Ubicación: Yobain MZ 26 s/n esquina Peloponeso, colonia Belvedere. Trabajos Realizados:  cerrajería y herrería en puerta principal y ventanas del inmueble. 2.- Biblioteca Central, Ubicación: Ignacio Allende no. 144, entre Juárez y Maderos, colonia Tlalpan Centro. Trabajos Realizados: de reparación y mantenimiento en instalaciones hidrosanitarias, 3.- Biblioteca Pública \"Iztapapalotl\". Ubicación: Lirios s/n esquina Azucenas, colonia Rincón del Mirador II. Trabajos Realizados: albañilería y aplicación de pintura en muros (161.50 M2.) y en herrería (50 ML.) a dos manos, 4.- Biblioteca Pública \"La Tortuga Xolalpa\". Ubicación: Avenida Fuente Buena s/n esquina Fuente de Tepepan, colonia Fuentes de Tepepan. Trabajos Realizados: Aplicación de impermeabilizante en techo y en vigilancia , aplicación de pintura en plafones y muros de caseta,  5.- Biblioteca Pública \"Lomas de Cuilotepec\". Ubicación: Cda. del Roble esquina Troya, colonia Lomas de Cuilotepec.Trabajos Realizados: reparación y mantenimiento en instalaciones eléctricas, trabajos de herrería, 6.- Biblioteca Pública \"Valentín Gómez Farías\". Ubicación: Mixtecos esquina Otomíes, colonia Pedregal de las Águilas. Trabajos Realizados: de reparación y mantenimiento en instalaciones eléctricas e hidrosanitarias, trabajos de cerrajería y herrería,  7.- Biblioteca Pública \"Jaime Torres Bodet\". Ubicación: Av. Hidalgo s/n esquina 16 de Septiembre, pueblo de Parres El Guarda. Realizado: Trabajos Realizados: reparación y mantenimiento en instalaciones eléctricas, cambio de bomba de 1 HP, reparación y mantenimiento,  8.-Biblioteca Pública \"Dr. Roberto L. Mantilla Molina\". Ubicación: Izamal s/n esquina Tekal, colonia Héroes de Padierna.Trabajos Realizados: albañilería aplicación de cemento en muros de concreto y en muros de tabla-roca, aplicación de pintura en muro y en franja .                    \n"]
[null,"Se realizaron 28 inmuebles para realizar el Mantenimiento a Edificios Públicos en: 1.- Oficina de Relaciones Laborales, Ubicación: Congreso no. 50 esquina San Marcos, colonia Tlalpan Centro. Trabajos Realizados: herrería, aplicación de vaportite y membrana,  aplicación de sellador en losa y en láminas, aplicación de pintura en oficinas, aplicación de pintura en herrería (2 ventanas y 1 puerta,pintura en plafones y muros,y en ventanas, trabajos de electricidad en tanque elevado. 2.-  Oficinas de Seguridad Pública de la Alcaldía (deportivo Vivanco), Ubicación: Moneda s/n esquina Av. Insurgentes Sur, colonia Tlalpan Centro, Trabajos Realizado: Instalación de bomba de 1.5 HP, cambio de presostato, trabajos de reparación y mantenimiento en instalación eléctrica, instalación de 4 WC completos con accesorios, trabajos de herrería y plomería, instalación de tinaco, instalación de 6 lavabos con llaves, colocación de mamparas y puertas en baños. 3.- Oficinas locales de la Guardia Nacional \"Parres\".Ubicación:  Av. Morelos esquina Miguel Hidalgo (cerca Kiosko), pueblo de Parres El Guarda, Trabajos Realizados: reparación y mantenimiento en instalación hidrosanitaria y obras de desazolve, aplicación de pintura en muros,  castillos, plafones y trabes , instalación de motobomba, colocación de 4 gabinetes en dormitorio damas, 4.-Dirección de Regularización Territorial. Ubicación: Matamoros s/n entre Jojutla y Tezoquipa, colonia Tlalpan Centro. Trabajos realizados: Aplicación de pintura en 77 círculos de 18 cm. en patio de ventanillas; cambio de 4 lavabos con accesorios; cambio de apagador y trabajos de plomería y desazolve, 5.- Dirección General de Obras y Desarrollo Urbano. Ubicación: Avenida San Fernando no. 84 esquina Madero, Colonia Tlalpan Centro. Trabajos realizados: Trabajos de reparación y mantenimiento en instalaciones eléctricas e hidrosanitarias, trabajos de desazolve y albañilería (colocación y aplicación de pintura de muros de tabla-roca).6.- Unidad Departamental de Agua Potable Ubicación: Congreso no. 296 frente a panteón \"20 de Noviembre\", Colonia Tlalpan Centro. Trabajos realizados:  Instalación de techumbre, trabajos de reparación y mantenimiento en instalaciones hidrosanitarias y eléctricas, trabajos de cerrajería y herrería.     7.- Campamento Villa Coapa. Ubicación: Canal de Miramontes no. 3755 esquina Cárcamo Unidad Habitacional Narciso Mendoza S.M. 2 Trabajos Realizado  Aplicación de pintura en puertas, portón, cortinas, plafones, muros, columnas y través de campamento (536.47 M2.); aplicación de pintura en oficinas administrativas (180 M2.), 8.- Dirección General del Medio Ambiente y Desarrollo Sustentable. Ubicación: Juárez 68 entre Moneda y Allende, colonia Tlalpan Centro. Trabajos  Realizados:  reparación y mantenimiento en instalaciones eléctricas, 9.-  Jefatura de Fomento a la Equidad de Género. Ubicación: Ajusco no. 96 esquina Coscomate colonia Toriello Guerra.Trabajos Realizados: de reparación y mantenimiento en instalaciones hidrosanitarias,  10.- Casa del Adulto Mayor.  Ubicación: Cárcamo s/n esquina Canal de Miramontes, Unidad Habitacional Narciso Mendoza S.M. 2. Trabajos Realizados: reparación y mantenimientos en redes de agua potable y sistema de tinacos, aplicación de impermeabilizante en azotea dos manos (385 M2.), trabajos de carpintería y trabajos de reparación y mantenimiento en instalaciones eléctricas,11.- Juzgado Cívico TLP 4. Ubicación: Lateral Periférico Sur esquina Canal Nacional, Fraccionamiento Magisterial Coapa.Trabajos Realizados: de reparación y mantenimiento en instalaciones eléctricas e hidrosanitarias, cambio de lavabo, de mingitorio, lámparas (12) y sóquets (8),  12.- Oficinas Locales de la guardia Nacional Villa Olímpica.  Ubicación: Avenida Insurgentes Sur esquina Periférico Sur, unidad habitacional Villa Olímpica, Trabajo Realizado: reparación y mantenimiento en instalaciones hidrosanitarias y eléctricas,  13.- Subdelegación de Chimalcoyotl. Ubicación: Cristóbal Colón no. 6, colonia Chimalcoyotl. Trabajos Realizados  reparación y mantenimiento en instalaciones hidrosanitarias y reparación de techumbre (42 M2.),reparación y mantenimiento en instalación eléctrica, 14.- Oficina de Los Derechos Humanos.  Ubicación: Moneda s/n esquina Insurgentes Sur, colonia Centro de Tlalpan. Trabajos Realizados: reparación y mantenimientos en instalaciones hidrosanitarias, trabajos de herrería (elaboración de reja y protecciones). 15.- Oficinas de Desarrollo Social y Deportes de la Alcaldía. Ubicación: Avenida Insurgentes Sur s/n casi esquina Periférico Sur, unidad habitacional Villa Olímpica. Trabajos Realizados: reparación y mantenimiento en instalaciones eléctricas, 16.- Subdelegación de Parres El Guarda. Ubicación: 16 de Septiembre no. 26 esquina Hidalgo, pueblo de Parres El Guarda.Trabajos Realizados reparación y mantenimiento en instalaciones eléctricas, aplicación de pintura en muros (60 M2.), aplicación de pintura en herrería (6 ventanas de 1.80x1.50, 1.50x1, 1.20x1, 1.80x1.50, 1.20x1, 1.80x1.50), 17.- Campamento de Desazolve C-2. Ubicación: San Francisco s/n esquina Viaducto Tlalpan, colonia San Lorenzo Huipulco. Trabajos Realizados: reparación y mantenimiento en instalaciones eléctricas.  18.- Centro Acuático \"Parque Morelos\". Ubicación: Lázaro Cárdenas no. 230 entre Jesús Lecuona y Toribio Alcaraz colonia Miguel Hidalgo 2a. sección.   Trabajos Realizados: reparación y mantenimiento en instalaciones eléctricas y trabajos de albañilería, 19.- Oficina de Fomento Económico. Ubicación: Circuito Camino fuentes Brotantes, colonia Fuentes Brotantes. Trabajos Realizados:  reparación y mantenimiento en instalaciones hidrosanitarias (baños ecológicos y normales), 20.- Oficinas Parque Juana de Asbaje. Ubicación: Moneda s/n entre Madero y Juárez, colonia Tlalpan Centro. Trabajos Realizados:  herrería, colocación de  tabla-rocas de 2.44 x 1.22, aplicación de pintura en muros, reparación y mantenimiento en instalación hidrosanitaria, mantenimiento instalación eléctrica, 21.- Dirección de Educación y Salud. Ubicación: Coscomate no. 90 esquina Puente de Piedra, Colonia Toriello Guerra. Trabajos Realizados: Reparación y mantenimientos en instalaciones hidrosanitarias y de bombeo, 22.- Edificio de la Alcaldía. Ubicación: Plaza de La Constitución no. 1 entre Moneda y Victoria, Colonia Tlalpan Centro. Trabajos Realizados: Albañilería (construcción de mesas y repisas con tabla-roca), reparación y mantenimiento en instalaciones eléctricas e hidrosanitarias, plomería en oficina de concejales, 23.- Juzgado 35 del Registro Civil. Ubicación: Tekal s/n esquina Izamal, Colonia Héroes de Padierna. Trabajos Realizados: Reparación y mantenimiento en instalaciones eléctricas,24.- Subdelegación de San Andrés. Ubicación: Reforma no. 22 esquina 16 de Septiembre, Pueblo de San Andrés Totoltepec. Trabajos Realizados: Reparación y mantenimiento en sistema de bombeo, 25.-Campamento de Imagen Urbana. Ubicación: Allende s/n esquina Callejón Carrasco, Colonia Centro de Tlalpan. Trabajos Realizados: Reparación y mantenimientos en instalaciones hidrosanitarias y de drenaje, colocación de tubería para drenaje , trabajos de albañilería aplanado de muro y colocacion de piso: 1.15 M2, 26.-Oficina de Enlace Brigada de Acción Inmediata Zona II. Ubicación: Canal de Miramontes s/n cerca Glorieta Vaqueritos, Unidad Habitacional Narciso Mendoza S.M. 2. Trabajos Realizados: Reparación y mantenimiento en instalaciones eléctricas, 27.-Oficinas Deportivo San Pedro Mártir. Ubicación: Dalia entre Mirasol y Mirador, Pueblo de San Pedro Mártir. Trabajos Realizados: Reparación y mantenimiento en azoteas, colocacion de vaportite y aplicación de impermeabilizante ,  28.-Oficinas Deportivo Parres el Guarda. Ubicación: Guerrero s/n esquina Benito Juárez, Pueblo de Parres El Guarda. Trabajos Realizados: Reparación y mantenimiento instalaciones eléctricas, hidrosanitarias, y de bombeo, trabajos de herrería y cerrajería (colocación de protección en ventana y cambio de chapa), colocación de tanque elevado de 850 litros y colocación de puerta en acceso principal.                                           \n"]
[null,"Se realizaron 8 inmuebles para realizar el Mantenimiento de Desarrollo Social: 1.- Centro de Aprendizaje Virtual \"Padierna\".Ubicación: Yobain s/n esquina Tekal, colonia Héroes de Padierna,  Trabajos Realizados: Reparación y mantenimiento de instalaciones eléctricas e hidrosanitarias.  2.- Centro de Aprendizaje Virtual \"Acanceh\". Ubicación: Acanceh esquina Izamal, Colonia Lomas de Padierna. Trabajos realizados: reparación y mantenimiento de instalaciones de bombeo y tinacos, lavado de cisternas y tinacos, 3.- Centro de Aprendizaje Virtual \"Parres el Guarda\". Ubicacion: Avenida Hidlago s/n esquina 16 de Septiembre, pueblo de Parres El Guarda. Trabajos Realizados:  mantenimiento y reparación en instalaciones eléctricas, 4.- Centro de Aprendizaje Virtual \"Santo Tomás Ajusco\". Ubicación: José María Morelos s/n, interior Subdelegación Auxiliar, pueblo de Santo Tomás Ajusco. Trabajos Realizados:   reparación y mantenimiento en instalaciones eléctricas, 5.- Centro de Aprendizaje Virtual \"Magdalena Petlacalco\". Ubicacion: Avenida México-Ajusco s/n esquina calle Del Trabajo, pueblo de La Magdalena Petlacalco. Trabajos Realizados: mantenimiento y reparación en instalaciones eléctricas, 6.- Centro de Desarrollo Comunitario Integral \"Miguel Hidalgo\". Ubicación: Alfredo V. Bonfil MZ 36 LT 224, colonia Miguel Hidalgo 3a. sección. Trabajos Realizados:   reparación y mantenimiento en instalaciones eléctricas, 7.- Centro de Desarrollo Comunitario Integral \"Parque Los Pinos\". Ubicación: Av. Tetiz esquina Homún, colonia Pedregal de San Nicolás 3a. sección.Trabajos Realizados: Reparación y mantenimiento en instalaciones eléctricas,  8.-Centro de Aprendizaje Virtual \"Parque Morelos\". Ubicación: Izamal s/n esquina Tekal, colonia Héroes de Padierna. Trabajos Realizados: Albañilería colocación de muros de tabla-roca y colocación de cemento en muros, aplicación de pintura en muros en franjas de 0.30 X 6.00 y en 10 letras de 38X28X7 cm.    \n"]
[null,"Se realizaron 2 inmuebles para realizar el  Mantenimiento a Mercados en: 1.- Mercado público \"San Andrés\" Trabajos Realizados: reparación y mantenimiento en instalaciones hidrosanitarias y eléctricas, trabajos de herrería. Ubicación: 16 de Septiembre esquina Reforma, pueblo de San Andrés Totoltepec. 2.-Mercado público \"Villa Coapa\". Ubicación: Calzada Acoxpa esquina Av. de Las Torres, Fraccionamiento Villa Lázaro Cárdenas. Trabajos realizados: Trabajos de balizamiento en estacionamiento (45 cajones,  265 ML.)  "]
[]
[]
[]
[null,"221 274 K016-A través de la Obra por Administración se adicionan recusros debido a que los de origen se  autorizaron en la partida de mezcla Asfáltica  la cual refiere para trabajos de vialidades, por lo cual se tuvieron que reducir recursos del capitulo 6000 y adicionar en este fondo con capitulo 2000 para realizar los trabajos de Mantenimiento a diferentes tipos de edificios públicos,  los cuales se desaglozan en este formato;   con  las siguientes partidas: Productos no metálicos, Artículos metálicos, Materiales complementarios, fibras y hules, herramientas menores y Refacciones y accesorios, en beneficio de la población tlalpense.\nCabe hacer mención que los trabajos de administración eneste fondo cuenta con mas fuentes d efinanciamiento, FISCALES, FORTAMUN 25P110 Y ADIONALES 25P114, FISCALES DG: 65, PART FEDERALES: 15O210,15O510,15OC10,15OZ0.\n\nPor otro lado  el proyecto denominado Mantenimiento, Conservación y Rehabilitación a Edificios Públicos por capítulo 6000,  el cual cuenta con 2 fuentes de financiamiento NO ETIQUETADO RECURSOS FEDERALES-PARTICIPACIONES A ENTIDADES FEDERATIVAS Y MUNICIPIOS- PARTICIPACIONES EN EL IMPUESTO SOBRE AUTOMÓVILES NUEVOS-2021-ORIGINAL DE LA URG y su meta se verá relizada con 2 inmuebles en el Fondo antes mencionado y en 15OC10 son  recursos de complemento a la meta."]
[null,"221 024K015- Se autorizaron recursos del capítulo 2000  partida 2481 Material como tapices, pisos, persianas, plantas y demas accesorios la cual es controlada por la Dirección General de Administración."]
[null,"221 049 E124-Se autorizaron recursos que refieren al Capítulo 2000 partida 2541 Material, accesorios y suministro médico y 2721 Prendas de seguridad y protección personal, las cuales son controladas por la Dirección General de Administración"]

{"sheet":"AP_RF PART.FED 15OZ04","index":16,"n_rows":58,"n_cols":12,"rows_kept":58,"cut":false,"hidden":false,"merged":[[1,1,1,11],[2,1,2,11],[4,1,4,4],[4,5,4,11],[5,1,5,4],[5,5,5,11],[50,1,54,11],[57,1,57,12],[58,1,58,12],[7,1,7,4],[7,5,7,11],[9,1,9,11],[10,1,10,7],[10,8,10,11],[49,1,49,11]]}
[]
[null,"AP-RF  AVANCE PRESUPUESTAL DE RECURSOS DE ORIGEN FEDERAL"]
[null,"FONDO, CONVENIO, SUBSIDIO O PARTICIPACIÓN: (1)"]
[]
[null,"Unidad Responsable de Gasto:",null,null,null,"DIRECCIÓN GENERAL DE OBRAS Y DESARROLLO URBANO"]
[null,"Período:",null,null,null,"Enero-Diciembre 2021"]
[]
[null,"FONDO",null,null,null,"PARTICIPACIONES A ENTIDADES FEDERATIVAS Y MUNICIPIOS (15OZ04)"]
[]
[null,"R      E      S      U      L      T      A      D      O      S"]
[null,"PRESUPUESTO\n(Pesos con dos decimales)",null,null,null,null,null,null,"AVANCE\n%"]
[null,"APROBADO\n","MODIFICADO\n","PROGRAMADO\n","SALDO DEL \nCOMPROMISO","DEVENGADO\n","EJERCIDO\n","PAGADO\n","(DEVENGADO / APROBADO)*100\n","(DEVENGADO / MODIFICADO)*100\n","(EJERCIDO / APROBADO)*100\n","(EJERCIDO / MODIFICADO)*100\n"]
[null,0,{"$f":"127000+350000","v":477000},{"$f":"127000+350000","v":477000},{"$f":"127000+350000","v":477000},{"$f":"127000+350000","v":477000},{"$f":"126900.98+349835.37","v":476736.35},{"$f":"126900.98+349835.37","v":476736.35},0,{"$f":"IFERROR(($F13/$B13)*100,\"\")","v":""},{"$f":"IFERROR(($G13/$B13)*100,\"\")","v":""},{"$f":"IFERROR(($G13/$C13)*100,\"\")","v":99.944727463312361}]
[]
[null,null,null,null,null,null,null,null,{"$f":"IFERROR((#REF!/#REF!)*100,\"\")","v":""},{"$f":"IFERROR((#REF!/#REF!)*100,\"\")","v":""},{"$f":"IFERROR((#REF!/#REF!)*100,\"\")","v":""},{"$f":"IFERROR((#REF!/#REF!)*100,\"\")","v":""}]
[null,null,null,null,null,null,null,null,{"$f":"IFERROR((#REF!/#REF!)*100,\"\")","v":""},{"$f":"IFERROR((#REF!/#REF!)*100,\"\")","v":""},{"$f":"IFERROR((#REF!/#REF!)*100,\"\")","v":""},{"$f":"IFERROR((#REF!/#REF!)*100,\"\")","v":""}]
[null,{"$f":"IFERROR(VLOOKUP($C17,#REF!,3,FALSE),\"\")","v":""},null,null,null,null,{"$f":"IFERROR(F17/C17,\"\")","v":""},{"$f":"IFERROR((F17/D17*100),\"\")","v":""},{"$f":"IFERROR((#REF!/#REF!)*100,\"\")","v":""},{"$f":"IFERROR((#REF!/#REF!)*100,\"\")","v":""},{"$f":"IFERROR((#REF!/#REF!)*100,\"\")","v":""},{"$f":"IFERROR((#REF!/#REF!)*100,\"\")","v":""}]
[null,{"$f":"IFERROR(VLOOKUP($C18,#REF!,3,FALSE),\"\")","v":""},null,null,null,null,"","",{"$f":"IFERROR((#REF!/#REF!)*100,\"\")","v":""},{"$f":"IFERROR((#REF!/#REF!)*100,\"\")","v":""},{"$f":"IFERROR((#REF!/#REF!)*100,\"\")","v":""},{"$f":"IFERROR((#REF!/#REF!)*100,\"\")","v":""}]
[null,{"$f":"IFERROR(VLOOKUP($C19,#REF!,3,FALSE),\"\")","v":""},null,null,null,null,"","",{"$f":"IFERROR((#REF!/#REF!)*100,\"\")","v":""},{"$f":"IFERROR((#REF!/#REF!)*100,\"\")","v":""},{"$f":"IFERROR((#REF!/#REF!)*100,\"\")","v":""},{"$f":"IFERROR((#REF!/#REF!)*100,\"\")","v":""}]
[null,{"$f":"IFERROR(VLOOKUP($C20,#REF!,3,FALSE),\"\")","v":""},null,null,null,null,"","",{"$f":"IFERROR((#REF!/#REF!)*100,\"\")","v":""},{"$f":"IFERROR((#REF!/#REF!)*100,\"\")","v":""},{"$f":"IFERROR((#REF!/#REF!)*100,\"\")","v":""},{"$f":"IFERROR((#REF!/#REF!)*100,\"\")","v":""}]
[null,{"$f":"IFERROR(VLOOKUP($C21,#REF!,3,FALSE),\"\")","v":""},null,null,null,null,"","",{"$f":"IFERROR((#REF!/#REF!)*100,\"\")","v":""},{"$f":"IFERROR((#REF!/#REF!)*100,\"\")","v":""},{"$f":"IFERROR((#REF!/#REF!)*100,\"\")","v":""},{"$f":"IFERROR((#REF!/#REF!)*100,\"\")","v":""}]
[null,{"$f":"IFERROR(VLOOKUP($C22,#REF!,3,FALSE),\"\")","v":""},null,null,null,null,"","",{"$f":"IFERROR((#REF!/#REF!)*100,\"\")","v":""},{"$f":"IFERROR((#REF!/#REF!)*100,\"\")","v":""},{"$f":"IFERROR((#REF!/#REF!)*100,\"\")","v":""},{"$f":"IFERROR((#REF!/#REF!)*100,\"\")","v":""}]
[null,{"$f":"IFERROR(VLOOKUP($C23,#REF!,3,FALSE),\"\")","v":""},null,null,null,null,"","",{"$f":"IFERROR((#REF!/#REF!)*100,\"\")","v":""},{"$f":"IFERROR((#REF!/#REF!)*100,\"\")","v":""},{"$f":"IFERROR((#REF!/#REF!)*100,\"\")","v":""},{"$f":"IFERROR((#REF!/#REF!)*100,\"\")","v":""}]
[null,{"$f":"IFERROR(VLOOKUP($C24,#REF!,3,FALSE),\"\")","v":""},null,null,null,null,"","",{"$f":"IFERROR((#REF!/#REF!)*100,\"\")","v":""},{"$f":"IFERROR((#REF!/#REF!)*100,\"\")","v":""},{"$f":"IFERROR((#REF!/#REF!)*100,\"\")","v":""},{"$f":"IFERROR((#REF!/#REF!)*100,\"\")","v":""}]
[null,{"$f":"IFERROR(VLOOKUP($C25,#REF!,3,FALSE),\"\")","v":""},null,null,null,null,"","",{"$f":"IFERROR((#REF!/#REF!)*100,\"\")","v":""},{"$f":"IFERROR((#REF!/#REF!)*100,\"\")","v":""},{"$f":"IFERROR((#REF!/#REF!)*100,\"\")","v":""},{"$f":"IFERROR((#REF!/#REF!)*100,\"\")","v":""}]
[null,{"$f":"IFERROR(VLOOKUP($C26,#REF!,3,FALSE),\"\")","v":""},null,null,null,null,"","",{"$f":"IFERROR((#REF!/#REF!)*100,\"\")","v":""},{"$f":"IFERROR((#REF!/#REF!)*100,\"\")","v":""},{"$f":"IFERROR((#REF!/#REF!)*100,\"\")","v":""},{"$f":"IFERROR((#REF!/#REF!)*100,\"\")","v":""}]
[null,{"$f":"IFERROR(VLOOKUP($C27,#REF!,3,FALSE),\"\")","v":""},null,null,null,null,"","",{"$f":"IFERROR((#REF!/#REF!)*100,\"\")","v":""},{"$f":"IFERROR((#REF!/#REF!)*100,\"\")","v":""},{"$f":"IFERROR((#REF!/#REF!)*100,\"\")","v":""},{"$f":"IFERROR((#REF!/#REF!)*100,\"\")","v":""}]
[null,{"$f":"IFERROR(VLOOKUP($C28,#REF!,3,FALSE),\"\")","v":""},null,null,null,null,"","",{"$f":"IFERROR((#REF!/#REF!)*100,\"\")","v":""},{"$f":"IFERROR((#REF!/#REF!)*100,\"\")","v":""},{"$f":"IFERROR((#REF!/#REF!)*100,\"\")","v":""},{"$f":"IFERROR((#REF!/#REF!)*100,\"\")","v":""}]
[null,{"$f":"IFERROR(VLOOKUP($C29,#REF!,3,FALSE),\"\")","v":""},null,null,null,null,"","",{"$f":"IFERROR((#REF!/#REF!)*100,\"\")","v":""},{"$f":"IFERROR((#REF!/#REF!)*100,\"\")","v":""},{"$f":"IFERROR((#REF!/#REF!)*100,\"\")","v":""},{"$f":"IFERROR((#REF!/#REF!)*100,\"\")","v":""}]
[null,{"$f":"IFERROR(VLOOKUP($C30,#REF!,3,FALSE),\"\")","v":""},null,null,null,null,"","",{"$f":"IFERROR((#REF!/#REF!)*100,\"\")","v":""},{"$f":"IFERROR((#REF!/#REF!)*100,\"\")","v":""},{"$f":"IFERROR((#REF!/#REF!)*100,\"\")","v":""},{"$f":"IFERROR((#REF!/#REF!)*100,\"\")","v":""}]
[null,{"$f":"IFERROR(VLOOKUP($C31,#REF!,3,FALSE),\"\")","v":""},null,null,null,null,"","",{"$f":"IFERROR((#REF!/#REF!)*100,\"\")","v":""},{"$f":"IFERROR((#REF!/#REF!)*100,\"\")","v":""},{"$f":"IFERROR((#REF!/#REF!)*100,\"\")","v":""},{"$f":"IFERROR((#REF!/#REF!)*100,\"\")","v":""}]
[null,{"$f":"IFERROR(VLOOKUP($C32,#REF!,3,FALSE),\"\")","v":""},null,null,null,null,"","",{"$f":"IFERROR((#REF!/#REF!)*100,\"\")","v":""},{"$f":"IFERROR((#REF!/#REF!)*100,\"\")","v":""},{"$f":"IFERROR((#REF!/#REF!)*100,\"\")","v":""},{"$f":"IFERROR((#REF!/#REF!)*100,\"\")","v":""}]
[null,{"$f":"IFERROR(VLOOKUP($C33,#REF!,3,FALSE),\"\")","v":""},null,null,null,null,"","",{"$f":"IFERROR((#REF!/#REF!)*100,\"\")","v":""},{"$f":"IFERROR((#REF!/#REF!)*100,\"\")","v":""},{"$f":"IFERROR((#REF!/#REF!)*100,\"\")","v":""},{"$f":"IFERROR((#REF!/#REF!)*100,\"\")","v":""}]
[null,{"$f":"IFERROR(VLOOKUP($C34,#REF!,3,FALSE),\"\")","v":""},null,null,null,null,"","",{"$f":"IFERROR((#REF!/#REF!)*100,\"\")","v":""},{"$f":"IFERROR((#REF!/#REF!)*100,\"\")","v":""},{"$f":"IFERROR((#REF!/#REF!)*100,\"\")","v":""},{"$f":"IFERROR((#REF!/#REF!)*100,\"\")","v":""}]
[null,{"$f":"IFERROR(VLOOKUP($C35,#REF!,3,FALSE),\"\")","v":""},null,null,null,null,"","",{"$f":"IFERROR((#REF!/#REF!)*100,\"\")","v":""},{"$f":"IFERROR((#REF!/#REF!)*100,\"\")","v":""},{"$f":"IFERROR((#REF!/#REF!)*100,\"\")","v":""},{"$f":"IFERROR((#REF!/#REF!)*100,\"\")","v":""}]
[null,{"$f":"IFERROR(VLOOKUP($C36,#REF!,3,FALSE),\"\")","v":""},null,null,null,null,"","",{"$f":"IFERROR((#REF!/#REF!)*100,\"\")","v":""},{"$f":"IFERROR((#REF!/#REF!)*100,\"\")","v":""},{"$f":"IFERROR((#REF!/#REF!)*100,\"\")","v":""},{"$f":"IFERROR((#REF!/#REF!)*100,\"\")","v":""}]
[null,{"$f":"IFERROR(VLOOKUP($C37,#REF!,3,FALSE),\"\")","v":""},null,null,null,null,"","",{"$f":"IFERROR((#REF!/#REF!)*100,\"\")","v":""},{"$f":"IFERROR((#REF!/#REF!)*100,\"\")","v":""},{"$f":"IFERROR((#REF!/#REF!)*100,\"\")","v":""},{"$f":"IFERROR((#REF!/#REF!)*100,\"\")","v":""}]
[null,{"$f":"IFERROR(VLOOKUP($C38,#REF!,3,FALSE),\"\")","v":""},null,null,null,null,"","",{"$f":"IFERROR((#REF!/#REF!)*100,\"\")","v":""},{"$f":"IFERROR((#REF!/#REF!)*100,\"\")","v":""},{"$f":"IFERROR((#REF!/#REF!)*100,\"\")","v":""},{"$f":"IFERROR((#REF!/#REF!)*100,\"\")","v":""}]
[null,{"$f":"IFERROR(VLOOKUP($C39,#REF!,3,FALSE),\"\")","v":""},null,null,null,null,"","",{"$f":"IFERROR((#REF!/#REF!)*100,\"\")","v":""},{"$f":"IFERROR((#REF!/#REF!)*100,\"\")","v":""},{"$f":"IFERROR((#REF!/#REF!)*100,\"\")","v":""},{"$f":"IFERROR((#REF!/#REF!)*100,\"\")","v":""}]
[null,{"$f":"IFERROR(VLOOKUP($C40,#REF!,3,FALSE),\"\")","v":""},null,null,null,null,"","",{"$f":"IFERROR((#REF!/#REF!)*100,\"\")","v":""},{"$f":"IFERROR((#REF!/#REF!)*100,\"\")","v":""},{"$f":"IFERROR((#REF!/#REF!)*100,\"\")","v":""},{"$f":"IFERROR((#REF!/#REF!)*100,\"\")","v":""}]
[null,{"$f":"IFERROR(VLOOKUP($C41,#REF!,3,FALSE),\"\")","v":""},null,null,null,null,"","",{"$f":"IFERROR((#REF!/#REF!)*100,\"\")","v":""},{"$f":"IFERROR((#REF!/#REF!)*100,\"\")","v":""},{"$f":"IFERROR((#REF!/#REF!)*100,\"\")","v":""},{"$f":"IFERROR((#REF!/#REF!)*100,\"\")","v":""}]
[null,{"$f":"IFERROR(VLOOKUP($C42,#REF!,3,FALSE),\"\")","v":""},null,null,null,null,"","",{"$f":"IFERROR((#REF!/#REF!)*100,\"\")","v":""},{"$f":"IFERROR((#REF!/#REF!)*100,\"\")","v":""},{"$f":"IFERROR((#REF!/#REF!)*100,\"\")","v":""},{"$f":"IFERROR((#REF!/#REF!)*100,\"\")","v":""}]
[null,{"$f":"IFERROR(VLOOKUP($C43,#REF!,3,FALSE),\"\")","v":""},null,null,null,null,"","",{"$f":"IFERROR((#REF!/#REF!)*100,\"\")","v":""},{"$f":"IFERROR((#REF!/#REF!)*100,\"\")","v":""},{"$f":"IFERROR((#REF!/#REF!)*100,\"\")","v":""},{"$f":"IFERROR((#REF!/#REF!)*100,\"\")","v":""}]
[null,{"$f":"IFERROR(VLOOKUP($C44,#REF!,3,FALSE),\"\")","v":""},null,null,null,null,"","",{"$f":"IFERROR((#REF!/#REF!)*100,\"\")","v":""},{"$f":"IFERROR((#REF!/#REF!)*100,\"\")","v":""},{"$f":"IFERROR((#REF!/#REF!)*100,\"\")","v":""},{"$f":"IFERROR((#REF!/#REF!)*100,\"\")","v":""}]
[null,{"$f":"IFERROR(VLOOKUP($C45,#REF!,3,FALSE),\"\")","v":""},null,null,null,null,"","",{"$f":"IFERROR((#REF!/#REF!)*100,\"\")","v":""},{"$f":"IFERROR((#REF!/#REF!)*100,\"\")","v":""},{"$f":"IFERROR((#REF!/#REF!)*100,\"\")","v":""},{"$f":"IFERROR((#REF!/#REF!)*100,\"\")","v":""}]
[null,{"$f":"IFERROR(VLOOKUP($C46,#REF!,3,FALSE),\"\")","v":""},null,null,null,null,"","",{"$f":"IFERROR((#REF!/#REF!)*100,\"\")","v":""},{"$f":"IFERROR((#REF!/#REF!)*100,\"\")","v":""},{"$f":"IFERROR((#REF!/#REF!)*100,\"\")","v":""},{"$f":"IFERROR((#REF!/#REF!)*100,\"\")","v":""}]
[null,{"$f":"IFERROR(VLOOKUP($C47,#REF!,3,FALSE),\"\")","v":""},null,null,null,null,"","",{"$f":"IFERROR((#REF!/#REF!)*100,\"\")","v":""},{"$f":"IFERROR((#REF!/#REF!)*100,\"\")","v":""},{"$f":"IFERROR((#REF!/#REF!)*100,\"\")","v":""},{"$f":"IFERROR((#REF!/#REF!)*100,\"\")","v":""}]
[]
[]
[null,"PRINCIPALES ACCIONES REALIZADAS CON RECURSOS DE ORIGEN FEDERAL: "]
[null,"Al periodo no hay acciones realizadas"]
[]
[]
[]
[]
[]
[]
[null,"221 274 K016-A través de la Obra por Administración se adicionan  recusros del capítulo 2000,  debido a que los de origen fueron insuficientes para realizar los trabajos  de Matnimiento a diferentes tipos de inmuebles Públicos, las partidas autorizadas son: Refacciones y Accesorios, Arena y grava,la meta ejecutada se verá reflejada en el fondo NO ETIQUETADO RECURSOS FEDERALES-PARTICIPACIONES A ENTIDADES FEDERATIVAS Y MUNICIPIOS-FONDO DE COMPENSACIÓN DEL IMPUESTO DE AUTOMÓVILES NUEVOS (ISAN) -2022-ORIGINAL DE LA URG (15OC10), ya que estos recursos son complemento para la ejecución de la meta ejecutada."]

{"sheet":"PPI","index":17,"n_rows":194,"n_cols":12,"rows_kept":194,"cut":false,"hidden":false,"merged":[[1,1,1,11],[6,1,7,1],[6,2,7,2],[6,3,7,3],[6,11,7,11],[3,1,3,2],[3,3,3,11],[4,1,4,2],[4,3,4,11],[6,4,6,10],[21,1,22,1],[21,2,22,2],[21,3,22,3],[21,4,22,4],[21,5,22,5],[21,11,22,11],[21,6,22,6],[21,7,22,7],[21,8,22,8],[21,9,22,9],[21,10,22,10]]}
[]
[null,"PPI PROGRAMAS Y PROYECTOS DE INVERSIÓN"]
[]
[null,"Unidad Responsable de Gasto: ",null,{"$f":"Caratula!A13","v":0}]
[null,"Período:",null,{"$f":"Caratula!I17","v":" "}]
[]
[null,"CLAVE\nPROYECTO DE INVERSIÓN\n","DENOMINACIÓN DEL PROYECTO DE INVERSIÓN","AVANCE \n%","PRESUPUESTO\n(Pesos con dos decimales)",null,null,null,null,null,null,"DESCRIPCION DE ACCIONES REALIZADAS"]
[null,null,null,null,"APROBADO","MODIFICADO","EJERCIDO","SALDO DEL\nCOMPROMISO","DEVENGADO","PAGADO","EJERCIDO + COMPROMETIDO"]
[null,"O21NR0058","Obras en el Marco del Presupuesto Participativo EJERCICIO 2020",0,90024788,1409194.49,1409194.49,0,0,0,0]
[null,"O21NR0076","Obras en el Marco del Presupuesto Participativo EJERCICIO 2021",0,87710757,0,0,0,0,0,0]
[null,"O21NR0079","Construcción y Rehabilitación de Resumideros",0.83,24992990,17933401.539999999,17933401.539999999,17933401.449999999,17111498.350000001,17111498.350000001,17111498.350000001,"Con 10 piezas en el proyecto denominado Construcción y Rehabilitación de Resumideros, con trabajos para la construcción de Resumideros en las siguientes colonias: 1.- Cultura Maya, 2.-Pueblo San Andrés Totoltepec, 4.-Pedregal de San Nicolas 2a. Sección, 5.- Pedregal de San Nicolás 3a sección, 7.-Torres de Padierna, 9.-Miguel Hidalgo 3ra. Sección,11.- Héroes de Padierna, 12.- Lomas de Padierna,13.-Pedregal de San Nicolas 1a. Sección, \nTrabajos terminados en cada uno de los frentes: Trazo y nivelación,corte y/o demolición de la carpeta asfáltica,excavación de la zanja hasta la profundidad que se encuentre la grieta, proteccion de las paredes de la zanja, extraccion del agua de la zanja, construcción de  coladeras(todos los tipos), bocas de tormenta, construcción de muros de mampostería,suministro y colocación de acero de refuerzo, cimbra para losa tapa de concreto armado, colado de concreto, relleno de las zanjas con material de banco, compactación de terreno, reconstrucción de pavimento, decimbrado de losa tapa, acarreos, limpieza de rejillas y estructuras que contengan azolve, retiro de material del sitio y limpieza final.\nSe dejaron de atender las colonias: 3.- Pueblo San Miguel Topilejo, \n6.-Pedregal Santa Úrsula Xitla, 8.-Pedregal de San Nicolás 4a sección, \n10.- Lomas Hidalgo, \n14.-Popular Santa Teresa,15.- Miguel Hidalgo 4a. Seccion, 16.- Miguel Hidalgo 2a. Seccion, debido a que los recursos se reorientaron a los capítulos: 2000, 3000 Y 4000 y así poder cubrir con las necesidades prioritarias de la Alcaldía; razón por la cual no se pudieron completar la meta programada "]
[null,"O21NR0090","Mantenimiento, Conservación y Rehabilitación en Vialidades Secundarias.",1,46295700,13308786.890000001,13308786.890000001,13308786.890000001,12131837.91,12131837.91,12131837.91,"Se realizaron 20,785.39 m2 ) en el proyecto denominado: Mantenimiento, Conservación y Rehabilitación en Vialidades Secundarias en las siguientes colonias: \n1.-San Andrés Totoltepec, 2.-Héroes de Padierna, 3.-Miguel Hidalgo\nTrabajos realizados en cada uno de los frentes: trazo y nivelación, fresado, brocales, barrido de la base para aplicar el riego de liga, carpeta de mezcla asfáltica, etc."]
[null,"O21NR0094","Construcción y Ampliación de Infraestructura de Agua Potable",1,315230,315077.03999999998,315077.03999999998,315077.03999999998,315077.03999999998,315077.03999999998,315077.03999999998,"Se realizaron 78.20 metros lineales en el proyecto denominado Construcción y Ampliación de Infraestructura de Agua Potable en el: 1.-Pueblo de San Pedro Mártir\nTrabajos realizados: instalación de tuberia de P.A.D.  y tomas domiciliarias"]
[null,"O21NR0102","Conservación y Rehabilitación de Banquetas ",1,2278928,2191965.8199999998,2191965.8199999998,2191965.81,1107253.9099999999,1107253.9099999999,1107253.9099999999,"Se realizaron 1,398.92 metros cuadrados en el proyecto denominado: Conservación y Rehabilitación de Banquetas en las siguientes colonias:\n1.-Isidro Fabela, 2.-Miguel Hidalgo.\nTrabajos realizados:Trazo y nivelación,  Extracción manual de tocón,  Demolición por medios manuales de guarniciones y banquetas de concreto simple, preparación, conformación y compactación de subrasante para banquetas, Suministro y colocación de tepetate de 10 cm de espesor, Banqueta de 10 cm de espesor de concreto hidráulico. Acabado con volteador en las aristas de banquetas, Guarnición de concreto hidráulico, renivelación de rejillas de registro."]
[null,"O21NR0113","Construcción en Vialidades Secundarias.\nPROYECTO CANCELADO",0,3411407,0,0,0,0,0,0,"Cancelación del presente proyecto por un importe de $3,411,407.00, por instrucciones de la Dirección de Recursos Financieros y Presupuestales, los recursos se reorientan al Capítulo 2000 a las partidas: 2411 (Mezcla asfáltica) y 2511 (Productos químicos básicos)"]
[null,"O21NR0123","Construcción y Ampliación de Banquetas",0,635876,0,0,0,0,0,0,"Cancelación del presente proyecto por un importe de $ 635,876.00, por instrucciones de la Dirección de Recursos Financieros y Presupuestales, los recursos se reorientan al Capítulo 2000 a las partidas: 2411 (Mezcla asfáltica) "]
[null,"O21NR0133","Colocación de luminarias ",1,1685384,1352285.83,1352285.83,1352285.81,467824.86,467824.86,467824.86,"Se relizó la colocación de luminarias 50 luminarias en el proyecto denominado: Colocación de luminariasen la colonia:\n1.-Pueblo San Miguel Ajusco\nTrabajos realziados: Trazo y nivelación; suministro y colocación de tubos y coples conduit; suministro e instalación de cable; conexiones y pruebas; instalación de lámparas; suministro e instalación de pruebas de luminarias completas; construcción de cimiento para poste; construcción de registro; suministro, instalación y pintura de postes; corte con sierra de pavimento, demolición, carga y acarreo producto de la demolición; excavación  y relleno; piso de concreto hidráulico"]
[null,"O21NR0143","Conservación y Rehabilitación de Espacios Públicos",0.75,20005525,5313444.45,5313444.45,5313444.42,1491976.64,1491976.64,1491976.64,"Conservación y Rehabilitación de 3 Espacios Públicos\n1.-Estabilización de talud en la colonia San Nicolás ll, con una superficie de 108.24 m3, 2.-Estabilización de talud en la colonia Cantera Puente de Piedra y Ampliación Isidro Fabela,con una superficie de 20.00 m3, 3.-Estabilización de talud en la colonia Comuneros de Santa Úrsula, con una superficie de 130.00 m3 \nTrabajos realizados en cada frente: Trazo y nivelación, excavación, cimbra, compacatación del terreno, filtros para drenes,trabajos con plantilla de concreto hidrahulico y trabajos de acero, así como el barrido y la limpieza del área.\nSe dejó de atender el frente : Construcción del Arco de Identidad del Pueblo Magdalena Petlacalco, por problemas de oposición vecinal."]
[null,"O21NR0152","Conservación y Rehabilitación de Espacios Deportivos\n",1,37132990,12799997.800000001,12799997.800000001,12799997.800000001,10845522.810000001,10845522.810000001,10845522.810000001,"Se relizaron 4 inmuebles en el proyecto denominado: Conservación y Rehabilitación de Espacios Deportivos en las siguientes ubicaciones: 1.-Deportivo CEFORMA, Col. Fuentes Brotantes, U.H. Fuentes Brotantes, Trabajos realizados: Rehabilitación de baños y exteriores, trabajos de iluminación interior y exterior, rehabilitación y cambio depisos, trabajos de herrería y para evitar acceso a palomas, aplicación de pintura en interiores y exteriores, 2.-Deportivo Parres el Guarda, Col. Parres el Guarda, Trabajos realizados: rehabilitación cancha de furbol soccer, , malla ciclónica e instalación eléctrica, 3.-Deportivo San Andrés Totoltepec, Pueblo San Andrés Totoltepec, Trabajos realizados: techumbre en alberca y panel solar, 4.-Deportivo Guayacanes, Col. Bosques del Pedregal, Trabajos realizados: Techumbre,estructura metálica,alumbrado publico,mantenimiento al area de juegos infantiles, aplicación de pintura,reconstrucción de muro."]
[null,"O21NR0161","Construcción y Adecuación de Espacios Deportivos",0,21291768,0,0,0,0,0,0,"Cancelación del presente proyecto se transfirieron a los capitulos 2000, 3000 y 4,000 del presupuesto participativo, con el fin de cumplir con prioridades de la Alcaldía de Tlalpan"]
[null,"O21NR0170","Construir y adecuar Planteles Educativos del Nivel Básico",1,26272990,26272990,26186164.699999999,26272989.940000001,6948168.8799999999,6948168.8799999999,6948168.8799999999,"Se han realizaron 15 inmuebles en el proyecto denominado: Construir y Adecuar Planteles Educativos del Nivel Básico en los siguientes planteles educativos: Jardín de Niños: 1.-Itzcalli, ubicada en calle Guadalajara s/n, Col. Miguel Hidalgo 1a sección, Trabajos realizados: construcción de techumbre, 2.-Kantuni, ubicada en calle lmani y Dzemul, S/N, Col. Pedregal de San Nicolás 4a Seccion, Trabajos realizados: construcción de techumbre, 3.-Año Internacional del Niño, ubicada en calle Hacienda San Nicolás Tolentino s/n, Col. Prado Coapa 3ra. Sección, Trabajos realizados: restructuración de pasillos, aplicación de pintura e impermeabilización, 4.-Año de la República Federal, ubicada en calle María Hernández Zarco y Roque Estrada, Col. Fraccionamiento Belisario Domínguez, Trabajos realizados: construcción de techumbre, 5.-Ana María Navarro Becerra, ubiada en calle Nahoas esquina Otomies S/N, Col. Tlalcoligía,Trabajos realziados: construcción de sanitarios e impermeabilización, 6.-Tzinti, ubicada en calle Cuauhtemoc S/N, Pueblo Quieto, Trabajos realizados: construcción de techumbre \nEscuelas Primarias: 7-Luis de la Brena, ubicada en calle Reforma No. 1, Pueblo San Miguel Xicalco, Trabajos realizados: reconstrucción de edificio de aulas, TIENE UN AVANCE FICISO DEL 50% CON UN CONVENIO DE AMPLIACIÓN DE TIEMPO, 8.-Lázaro Cárdenas, ubicada en Club Deportivo Universidad  No. 300, Col. Fraccionamiento Villa Lázaro Cárdenas, Trabajos realizados:construcción de techumbre, 9-Niger, ubicadad en Calle Torreón S/N, Manzana 7, Unidad Habitacional Narciso Mendoza Super Manzana 7, Trabajos realizados: construcción de techumbre, 10.-De Participáción Social No. 5, ubicada en Avenida San Fernando No. 12, Col. Centro de Tlalpan, Trabajos realizados: sustitución de cancelería y puertas, aplicación de pintura, construcción de consultorio médico,11.-Somalia, ubicada en Avenida el Fortín # 46  y Andador 9 No. 3, Unidad Habitacional Narciso Mendoza Supermanzana 3, Trabajos realizados: construcción de techumbre y aplicación de pintura, 12.-Vidal Alcocer, ubicada en Calle Magisterio Nacional No. 102, Col. Centro de Tlalpan, Río Pánuco, Col. Toriello Guerra,Trabajos realizados: construcción de techumbre 13.-Río Panuco, ubicada en calle Puente de Piedra No. 72, Col. Toriello Guerra, Trabajos realizados: construcción de techumbre.\nEscuelas Secundarias: 14.-Técnica No. 96, ubicada en calle Guadalupe Victoria s/n, Pueblo Santo Tomás Ajusco, Trabajos realziados: construcción de rampas y loseta.15.-No. 155, ubicada en Callejón Zapote No. 148, Col. Isidro Fabela,Trabajos realizados: construcción de techumbre, 16.-No. 173, ubicada en calle Querétaro s/n, Col. Miguel Hidalgo 1a sección, Trabajos realizados: construcción de bebederos y pisos de loseta."]
[null,"O21NR0177","Mantener y Rehabilitar los Planteles Educativos del Nivel Básico",0.82499999999999996,32812990,30987540.34,30987540.34,30987540.34,30987540.34,18422561.390000001,0,"Se realizaron 33 inmuebles para los trabajos referentes al proyecto denominado: Mantener y Rehabilitar los Planteles Educativos del Nivel Básico en:  Jardines de Niños: 1.-Fidencio Soria Barajas, lote 326, mz 3, Fortín y Farol U.H. Narciso Mendoza SP.M. 3, Col. Villa Coapa, Trabajos realizados: Impermeabilización, aplicación de pintura, 2.-Salvador M. Lima, Avenida  Acoxpa andador 68 mz. 6, Unidad Habitacional Narciso Mendoza SPM. 6, Col. Villa Coapa,Trabajos realizados: Impermeabilización, aplicación de pintura, 3.-Cámara Junior, San Juan Bosco No.1, Col. San Lorenzo Huipulco, 4.-Xochicalpilli, Av. Altillos s/n, Unidad Habitacional Narciso Mendoza Supermanzana 1,Trabajos realizados: Impermeabilización, aplicación de pintura, 5.-Chimalcoyotl,Cristobal Colón no. 12, Colonia Chimalcoyotl,Trabajos realizados: Impermeabilización, aplicación de pintura, 6.-Miguel Hidalgo, Avenida las Torres y Jesús Lecuona, Col. Miguel Hidalgo 2a Sección, Trabajos realizados:Sustitución  de ciclopista, aplicación de pintura, impermeabilizante, mantenimiento a sanitarios,7.-Alberto Lenz Sr.,Calzada Zaragoza s/n.Colonia Miguel Hidalgo 1a Sección,Trabajos realizados: impermeabilización, aplicación de pintura, 8.-Tonalli, Tepozan 114, lt.5, Col. Pedregal de San Nicolás 1a seccion, Trabajos realizados: firmes de conreto, sustitución de luminarias,trabajos de herrería, 9.-Miauhatzintli, Club Deportivo Universidad s/n,Fracc. Villa Lázaro Cárdenas,Trabajos realizados: sustitución de firmes de concreto, cambio de luminarias, aplicación de pintura,10.-Miguel Angel Buonarroti, Tenorios No. 222, Unidad Habitacional Tenorios INFONAVIT 1, Col. Ex Hacienda Coapa, Trabajos realizados: Aplicación de pintura, sustitución de firmes de concreto, sustitución de mamparas y luminarias, 11.-Rotarios de Tlalpan, 4° poniente s/n, Colonia Isidro Fabela,Trabajos realizados: impermeabilización y aplicación de pintura, 12.-República de Argentina, Morelos No. 4, Colonia Centro de Tlalpan,Trabajos realizados:Construcción de esacaleras de emergencia, impermeabilización,13.-Tlalli, Unidad Habitacional Fuentes Brotantes,Trabajos realizados: Cambio de cancelería y Luminarias.\nPrimarias: 14.-Estado de San Luis Potosí, Acueducto y San Juan Bosco, Col. San Lorenzo Huipulco, Trabajos realizados: Sustitución de firme de concreto,15.-Arabia Saudita, Avenida Silios No 34 super mza. 1, Unidad Habitacional Narciso Mendoza Supermanzana 1, Trabajos realizados: Impermeabilización, aplicación de pintura, 16.-Martina Islas, Enseñanza No. 3, Pueblo San Pedro Mártir, Trabajos realizados: sustitución de cancelería, 17.-Patria y Libertad, atrás del bloque I, Unidad Habitacional Fuentes Brotantes, Trabajos realizados:aplicación de pintura, sustitución de luminarias, 18.-Amanda Palafox, Monte Elbruz No. 15, Col. Los Volcanes,Trabajos realizados:Impermeabilización, aplicación de pintura, 19.-Isaac Ochoterena, Cristobal Colón No. 24, Col. Chimalcoyotl,Trabajos realizados:Impermeabilización, aplicación de pintura interior y exterior, 20.-Manuel Gallardo Zamora, Lacandones esq. Huastecos no. 6, Col. Pedregal de las Aguilas, Trabajos realizados:Impermeabilización, aplicación de pintura, 21.-Estado de Querétaro, Avenida Santa Úrsula no. 22, Colonia Santa Úrsula Xitla,Trabajos realizados: Impermeabilización,sustitución de luminarias, cambio de puertas, cambio de loseta,aplicación de pintura, 22.-Alfredo V.Bonfil, Alfredo V. Bonfil no. 151, mza. 10, Colonia. Miguel Hidalgo 3a Sección, Trabajos realizados: camnio de luminarias y pisos de loseta, 23.-Teófilo Álvarez Borboa, Escuela No. 127, Colonia Ex Hacienda de San Juan de Dios,Trabajos realizados: cambio de malla ciclónica, lámparas y tanque de gas, aplicación de pintura, 24.-Dra. María del Carmen Millán, Tenorios no. 222, Unidad Habitacional Tenorios INFONAVIT 1,Trabajos realziados: aplicación de pintura,impermeabilizante y cambio de luminarias, 25.-Héroes de Chapultepec, Otomies y Tepehuanos, Col. Tlalcoligia, Tconstrucción de techumbres y firme de concreto, 26.-Ignacio Rodríguez Galván, Magisterio Nacional y Morelos No. 118, Colonia Centro de Tlalpan,Trabajos realizados: Aplicación de pintura e impermeabilización, 27.-Felipe Ángeles, John F. Kennedy No. 1,  Col. Isidro Fabela, trabajos realizados: aplicación de pintura y cambio de impermeabilizante y luminarias, 28.-Niño Artillero, Hidalgo y Magisterio No. 80,Colonia Centro de Tlalpan,Trabajos realizados:impermeabilizante, aplicación de pintura, sustitución de luminarias y firme de concreto, mantenimiento a equipo hidroneumático. \nSecundarias: 29.-No.181, Kantunil y Tixmehuac, Colonia Pedregal de San Nicolas 4a Sección, Trabajos realizados: impermeabilización y aplicación de pintura, 30.-Técnica No.19, Ruiseñor s/n. y Yucantepec, Col. Rincón del Mirador II, Trabajos realizados: sustitución de cancelería,cambio de lámparas, aplicación de pintura e impermeabilización, 31.-No. 230, Ing. Jesús Gómez González, Unidad Habitacional Jardines Villa Coapa, Trabajos realizados: cambio de multitecho, impermeabilizanterehabilitación de núcleos sanitarios, 32.-No. 276,Tarasco frenta a Chontales, Col.a Tlalcoligía, Trabajos realizados: Impermeabilización y cambio de luminarias. \nCentro de Atención Múltiples: 33.-CAM 15, San Buenaventura No. 86, Colonia Belizario Dominguez, Trabajos realizados: Sustitución de cancelería, construcción de techumbre.\nse dejaron de atender \nno se cumplió en su totalidad, debido a que contaba con recursos del FAIS, por lo que se habían considerado atender 7 inmuebles los cuales eran: 1.-Carlos Pellicer Cámara,Col. Lomas de Padierna, 2.-Elvira Jímenez Villa Fuerte, Col. Lomas de Padierna, 3.-Sebastián Lerdo de Tejada, Col. Miguel Hidalgo 4a Sección, 4.- No.93, U.H. Emilio Portes Gil, 5.-No. 112, Col. Vistas del Pedregal, 6.-Técnica No. 119, Col.Miguel Hidalgo 4a Sección, 7.-No.281, Col. Cuchilla de Padierna, sin embargo debido a que el FAIS tiene como objetivo fundamental el financiamiento de obras y acciones sociales básicas que beneficien directamente a sectores de población en condiciones de rezago social y pobreza extrema, los recursos fueron reorientados a la apertura de diferentes proyectos denominados: Rehabilitación del Sistema de Alumbrado Público, Rehabilitación de banquetas, Rehabilitacion de superficie de rodamiento (Repavimentación), Rehabilitación del Sistema de Alcantarillado Pluvial."]
[]
[null,"O21NR0184","Construcción, Ampliación de Infraestructura Social",0.125,29385693,1462233.86,1462233.86,1462233.86,1429523.06,1429523.06,1429523.06,"Se realizó 1 inmueble en el proyecto denominado: Construcción, Ampliación de Infraestructura Social\n1.-Construcción de la 2da. etapa del Auditorio Comunal de la Magdalena Petlacalco, \nTrabajos realizados: albañilería,azotea,instalación sanitaria,instalacion hidráulica,instalación eléctrica,herrería, carpintería,acabados.\nSe dejaron de atender  7  frentes :  \n1.-Construcción de Centro comunitario en la colonia Paraje Tecorral,2.-Construcción de la Casa del Adulto Mayor en el Pueblo San Miguel Ajusco,3.-Centro Integral de Esparcimiento Lúdico y Orientación en la colonia Isidro Fabela, 4.-Conclución de techo de la cancha de usos múltiples en la colonia Diamante,5.-Proyección y Construcción del CAO de la colonia Pedregal de San Nicolás 3ra. Sección,6.-Ampliación del CEDIC Cultura Maya,7.-Centro Comunitario Santo Tomás Ajusco,  los recursos se reorientaron a los capitulo 2000, 3000 y 4000.\n"]
[null,"O21NR0210","Construcción y Ampliación de Edificios Públicos",0.5,3583376,2499307.52,2499307.52,2499307.52,0,0,0,"Se realizó lleva el avance Físico del 50% en el inmueble :\n1.-Construcción 2do Piso de la Subdelegación de Santo Tomás Ajusco\nTrabajos realziados: trazo y nivelación, preliminares, elementos de concreto reforzado, albañilerías, habilitado de cimbra y acero de refuerzo                                         \nSe dejan de atender los siguientes frentes: 1.-Ampliación de la Sede del Consejo Comunitario en Pueblo San Andrés Totoltepec,2.-Construcción a la 2a etapa del Campamento Limantitla,3.-Construcción de Arco de identidad Magdalena Petlacalco., los recursos se reorientaron a los capitulos 2000, 3000 y 4000\n"]
[null,"O21NR0211","Construcción y/o Adecuación de Infraestructura Cultural",0,6283540,0,0,0,0,0,0,"Cancelación del presente proyecto por un importe de $6,283,540.00, por instrucciones de la Dirección de Recursos Financieros y Presupuestales, los recursos se reorientan al Capítulo 2000 a las partidas: 2461 Material eléctrico y electrónico, 2471 Artículos metálicos para la construcción, 2481 Materiales complementarios, 2491 Otros materiales y artículos de construcción y reparación, 2541 Materiales, accesorios y suministro médico, 2561 Fibras sintéticas, hules, plásticos y derivados, 2911 Herramientas menores, por un importe de $6,119,000.00 y al capítulo 3000 partida. 3391 Servicios profesionales, científicos, técnicos integrales y otros,  por un importe de $164,540.00 y no como se mando en la versión anterior."]
[null,"O21NR0212"," Mantenimiento, Conservación y Rehabilitación a Centros de Desarrollo Social",1,341768,341768,341768,341768,341768,0,0,"Se realizó 1 inmueble con el proyecto denominado: Mantenimiento, Conservación y Rehabilitación a Centros de Desarrollo Social  en : 1.-Centro de Servicios de Atención Ciudadana, ubicado adentro del  Deportivo Vivanco ubicado en Calle Moneda 64, Tlalpan Centro I. Trabajos realizados: trabajos preliminares, albañileria, acabados, impermeabilización.\n"]
[null,"O21NR0213","Mantenimiento y Rehabilitación a Mercados",null,2992067,2992067,2992067,2987783.07,990839.82,990839.82,990839.82,"Se relizaron los trabajos en los siguientes frentes: \n1.-Mercado Flores San Fernando, ubicado en Calzada de Tlalpan y avenida San Fernando, Colonia Barrio de Niño Jesús, Trabajos realizados: instalación eléctrica interna, módulos, instalación eléctrica exterior, 2.-Mercado Fuentes Brotantes, ubicado en Interior del Parque Nacional Fuentes Brotantes, colonia Fuentes Brotantes, Trabajos realizados: instalación eléctrica, sistema de drenaje, ampliación de baños, áreas verdes y juegos, 3.-Mercado Villa Coapa, ubicado en Avenida canal de Miramontes s/n entre avenida Acoxpa y Caporal, colonia Villa Coapa, Trabajos realizados: sustitución de luminaria led, alimentadores a locales, alimentador a hidroneumático, alumbrado exterior, alimentadores en baja tensión CCTV y telefonía, extracción de aire, 4.-Mercado Plaza Mexicana del Sur, ubicado en Avenida Acoxpa, entre Calzada de Tlalpan y Viaducto Tlalpan, Col. San Lorenzo Huipulco, Trabajos realizados: instalación eléctrica\n\n"]
[null,"O21NR0214","Mantenimiento, Conservación y Rehabilitación a Edificios Públicos.",0,15381690,14949524.83,14949524.83,14949521.789999999,11120947.67,11120947.67,11120947.67,"Se realizó 2  inmubles en: 1.- Panteón de San Agustin Pueblo San Andrés Totoltepec, ubicado en Km 23.5 Carretera Federal a Cuernavaca, Pueblo San Andrés Totoltepec, Trabajos realizados: Trabajos generales, albañilería y acabados en general, 2.-2da. Etapa al Campamento Limantitla, Col.Tlalpan Centro,\nTrabajos realizados:trazo y nivelación, albañilería, estructura de concreto reforzado, instalaciones eléctricas, instalaciones hidráulicas, instalaciones sanitarias, acabados, cancelerías                                                 \n"]
[null,"O21NR0215","Rehabilitación a la Red de Agua Potable ",1,15381690,15381690,15381690,15381690,15381690,3111160.81,0,"Se realizaron 3,429.95 metros Rehabilitación a la Red de Agua Potable en las siguientes colonias: 1.-Tlalmille, 2.-Cruz del Farol, 3.-Los encinos, 4.-Torres de Padierna, 5.-Cultura Maya, 6.-Miguel Hidalgo 3ra. Sección, 7.-Héroes de Padierna, 8.-Miguel Hidalgo 2da Sección, 9.-San Andrés Totoltepec.\nTrabajos realizados: Trazo y nivelación, demoliciones, excavaciones, rellenos, cambio de tubería de polietileno de alta densidad de diferentes diámetros, construcción y/o sustitución de cajas de válvulas, trabajos de bacheo  y Reparación de fugas de diversos diámetros, en válvulas y tubería de diferentes materiales.\n"]
[null,"O21NR0227","Construcción, Rehabilitación y Proyecto Ejecutivo de Cárcamos para la Infraestructura del Sistema de Drenaje",1,21442684,3265334.26,3265334.26,3265334.26,0,0,0,"Los recursos ejercidos refieren al Proyecto Ejecutivo de Cárcamos para la Infraestructura del Sistema de Drenaje en las colonias: 1.-Cantera Puente de Piedra, 2.-Isidro Fabela, 3.- El Zapote, 4.-Ejidos de San Pedro Mártir\nTrabajos realizados:levantamientos físicos de necesidades en los 3 cárcamos para rehabilitar y la construcción de 1 cárcamo nuevo, realización de memoria descriptiva,memoria de cálculo deacuerdo con los requerimientos de cada cárcamo,planos ejecutivos."]
[null,"O21NR0228","Construcción y Ampliación de la Infraestructura del Sistema de Drenaje",0.91,8632990,5633831.6699999999,5633831.6699999999,5633830.6500000004,5633830.6200000001,5633830.6200000001,5633830.6200000001,"Se realizaron 0.678 kilómetros en el proyecto denominado: Construcción y Ampliación de la Infraestructura del Sistema de Drenaje\n1.-Pueblo San Andrés Totoltepec, 2.- Cultura Maya.\ntrabajos realziados: introducción de la Red de Drenaje, tendido de tubería,relleno y compactación, bacheo, retiro de material,producto de compactación.\nNo se cumplió con l ameta debido a que se cancelaron los siguientes frentes :1.-Miguel Hidalgo 4ta. sección, 2.-Manantial Peña Pobre, 3.- Pueblo Chimalcoyoc, debido a que los recursos se reorientaron a los capítulos: 2000, 3000 Y 4000\n"]
[null,"O21NR0235","Desazolve de la Red del Sistema de Drenaje",1,8072990,4901270.17,4901270.17,4901270.17,4900733.5999999996,4900733.5999999996,4900733.5999999996,"Se realizaron 4,571.07  metros  en las siguientes colonias: \n1.-Héroes de Padierna, 2.Cuchilla de Padierna, 3.-Torres de Padierna, 4.-Miguel Hidalgo 3a. Sección, 5.-Miguel Hidalgo 4a. Sección, 6.-Pedregal de San Nicolás 2a. Sección, 7.-Pedregal de San Nicolás 3a. Sección, 8.-Bosques del Pedregal, 9.-Cultura Maya, 10.-La Primavera, 11.-Popular Santa Teresa, 12.-Lomas de Padierna, 13.-Miguel Hidalgo 1a. Sección, 14.- Miguel Hidalgo 2a. Sección, 15.-Jardines del Ajusco\nTrabajos realizados: Limpieza del sistema de alcantarillado sanitario, pluvial o combinado, considerando todos sus elementos de captación como pueden ser albañales, bocas de tormenta, rejillas, coladeras, tuberías, pozos de visita, cajas rompedoras de presión,  canales encofrados  o canales a cielo abierto, resumideros, etc., en los cuales se llevara a cabo el retiro de todo el azolve generado por tierra y basura que fue arrastrada por las lluvias,  resumideros limpieza de la grieta natural por la cual el agua se filtra hasta los mantos acuíferos, y para la red secundaria se limpiaron  las tuberías y pozos de visita realizando el desazolve por medios mecánicos, con el uso de malacates y del Camión Vactor.\nSe dejaron de atender las siguientes colonias: 1.-Pedregal de San Nicolás 1a. Sección,2.-Pedregal de San Nicolás 4a. Sección,3.-Lomas Altas de Padierna,4.-Lomas Hidalgo,5.-San Pedro Martir,6.-Cruz del Farol,7.-Zacatón,8.-2 de Octubre,9.-San Andrés Totoltepec,10.-Pueblo de San Miguel Xicalco,11.-Pueblo San Miguel Topilejo,12.-La Lonja, 13.-Cantera Puente de Piedra, 14.-Pedregal de Santa Úrsula Xitla,15.-Talcoligía,16.-San Pedro Apostol, los recursos se reorientaron para atender presupuesto participativo de los capitulos 6000, 2000, 3000 y 4000\nSin embargo aún reduciendo los recursos se lograron optimizarlos y se superó la meta programada."]
[null,"O21NR0236","Rehabilitación de las Redes de Drenaje",0,13249550,0,0,0,0,0,0,"Cancelación del prsnte proyecto por un importe de $13,249,550.00, los recursos se transfieren a la partida 3252 (Arrendamiento de equipo de transporte destinado a servicios públicos y la operación de programas públicos), de este mismo programa presupuestario."]
[null,"O21NR.0560","Realizar 7 Proyectos Ejecutivos para la elaboración de la Construcción de los Proyectos de Obra",1,0,1159960.81,1159960.81,1159960.81,1159960.81,1159960.81,1159960.81,"Realizar 7 Proyectos Ejecutivos para la elaboración de la Construcción de los Proyectos de Obra para los siguientes frentes : Proyecto Ejecutivo de la Casa del adulto Mayor y construcción de Biblioteca en el Pueblo de San Miguel Ajusco, 2.Proyecto ejecutivo para la Construcción de Módulos Sanitarios en la colonia Santísima Trinidad, 3.-Proyecto Ejecutivo para la construcción del Centro de Artes y Oficios de la colonia Pedregal de San Nicolás 3ra. Sección, 4.-Proyecto Ejecutivo para la Construcción del Centro Comunitario en el Pueblo Santo Tomás Ajusco, 5.-Proyecto Ejecutivo para la construcción del 2do piso de la subdelegación del Pueblo Santo Tomás Ajusco, 6.-Proyecto Ejecutivo para la construcción del Centro de Artes y Oficios de la colonia Tecorral, 7.-Proyecto Ejecutivo para la construcción del Centro de Desarrollo Integral Comunitario en la colonia Cultura Maya.\nLos  proyectos consisten en la elaboración de: estudio mecánica de suelos,proyecto arquitectónico,proyecto estructural con aval de DRO, proyecto de instalaciones eléctricas con aval de corresponsal,proyecto de instalaciones hidráulicas, sanitarias y pluviales con aval de corresponsal. Trabajos realizados: Proyecto arquitectónico, proyecto estructural con aval de DRO, proyecto de instalaciones eléctricas con aval de corresponsal\n"]
[null,"O21NR.0561","Elaboración de Proyectos Ejecutivos para Obras de Rehabilitación y Mantenimiento en la imagen Urbana dentro del perímetro de la Alcaldía de Tlalpan",1,0,409500,409500,409500,295234.74,295234.74,295234.74,"Elaboración de 4 Proyectos Ejecutivos para Obras de Rehabilitación y Mantenimiento en la imagen Urbana dentro del perímetro de la Alcaldía de Tlalpan:\nElaboración de los proyectos de obra para la rehabilitación y mantenimiento de las obras públicas en: 1- Arco de Identidad  en el Pueblo Magdalena Petlacalco, 2.- San Nicolás II,  3.- Comuneros de Santa Ursula y 4.-  Parque Morelos dentro del perímetro de la Alcaldía Tlalpan.Trabajos realziados: proyecto arquitectónico,proyecto estructural con aval de DRO,proyecto de instalaciones eléctricas con aval de corresponsal.\n"]
[null,"O21NR.0562","Realizar 6 Proyectos Ejecutivos para la elaboración de la Construcción de los Proyectos de Obra de Mercados Públicos",1,0,1460000,1460000,1457909.62,1059966.8899999999,1059966.8899999999,1059966.8899999999,"Realización de Proyectos Ejecutivos y Eléctricos para 6 Mercados: 1.-Proyecto Eléctrico para el Mercado Plaza Mexicana del Sur, 2.-Proyecto Eléctrico para el Mercado Flores San Fernando, 3.-Proyecto Ejecutivo para la Construcción del Mercado Topilejo Pueblo San Miguel Topilejo, 4.-Proyecto Ejecutivo para la Construcción del Mercado Concentración 10 de Mayo  5.-Proyecto Eléctrico para el Mercado Villa Coapa, 6.- Proyecto Eléctrico para el Mercado Fuentes Brotantes.\nLos  Proyectos Eléctricos consisten en: Desarrollo Eléctrico (Diagrama unifilar, Cuadros de carga, Distribución de circuitos, Análisis Sistema de alumbrado, Sistema de tierras, Cálculo de circuitos alimentadores (conductores, caídas de tensión, canalizaciones, conductor de puesta a tierra, protecciones), Cálculo de circuitos derivados (conductores, caídas de tensión, canalizaciones, conductor de puesta a tierra, protecciones), Firma de los planos que integran el proyecto eléctrico por un ingeniero electricista con cédula profesional, revisión y firma de planos por unidad verificadora de instalaciones eléctricas. (UVIE).\nLos Proyectos Ejecutivos consisten en: elaboración de Levantamiento Topográfico, Levantamiento Arquitectónico, Estudios de Mécanica de Suelos, Estudio de mecánica de suelos geofisicos-geoelectricos , Proyecto Arquitectónico (Planta de conjunto, Planos de plantas arquitectónicas, Planos de elevaciones arquitectónicas o alzados, Plano de cortes arquitectónicos o secciones, Planos de detalles arquitectónicos, Calculo Estructural con firma de DRO, Proyecto Eléctrico, Cálculo de circuitos alimentadores, Cálculo de circuitos derivados, Firma de los planos que integran el proyecto eléctrico por un ingeniero electricista con cédula profesional, revisión y firma de planos por unidad verificadora de instalaciones eléctricas. (UVIE), Proyecto de Instalaciones Hidráulicas y Proyecto de Instalación Sanitaria.\n"]
[null,"'O21NR.1154","Rehabilitación del Sistema de Alumbrado Público en diversas ubicaciones:\nPrado Coapa 2a sección, 2a sección Pedregal de San Nicolás, Pueblo Santo Tomás Ajusco, Pueblo San Andrés Totoltepec, Ampliación Miguel Hidalgo 3a sección,Jardines del Ajusco, Lomas del Pedregal, Cuchilla de Padierna,Pueblo San Miguel Ajusco.",0,0,14145604.529999999,14145604.529999999,14145604.529999999,0,0,0,"FAIS\nEstos recursos se contrataron a finales de noviembre por lo cual no hay avance físico realizado y será hasta el Cierre de la Cuenta Pública del ejercicio 2021, donde se verá la meta realizada al 100% terminada"]
[null,"'O21NR.1155","Rehabilitación de banquetas en:\nPrado Coapa 2a sección, 2a sección Pedregal de San Nicolás, Pueblo Santo TomÁs Ajusco, Pueblo San Andrés Totoltepec, Ampliación Miguel Hidalgo 3a sección,Jardines del Ajusco, Lomas del Pedregal, Cuchilla de Padierna,Pueblo San Miguel Ajusco.",0,0,4603116.5,4603116.5,4603116.5,0,0,0,"FAIS\nEstos recursos se contrataron a finales de noviembre por lo cual no hay avance físico realizado y será hasta el Cierre de la Cuenta Pública del ejercicio 2021, donde se verá la meta realizada al 100% terminada"]
[null,"'O21NR.1156","Rehabilitacion de superficie de rodamiento (Repavimentación) en diversas ubicaciones:\nPrado Coapa 2da secc., Pedregal de San Nicolás 2a sección, Pueblo Santo Tomás Ajusco, Pueblo San Andrés Totoltepec y San Miguel Ajusco, Miguel Hidalgo 2a secc., Jardines del Ajusco, Lomas del Pedregal, Cuchilla de Padierna",0,0,69447618.109999999,68548945.109999999,69447618.109999999,0,0,0,"FAIS\nEstos recursos se contrataron a finales de noviembre por lo cual no hay avance físico realizado y será hasta el Cierre de la Cuenta Pública del ejercicio 2021, donde se verá la meta realizada al 100% terminada"]
[null,"'O21NR.1157","Rehabilitación del Sistema de Alcantarillado Pluvial en:\nHéroes de Padierna,Pedregal de San Nicolás 4ta. Secc. Lomas de Pdierna,2 de Octubre, Fuentes Brotantes, La Joya,Cuicuilco, Isidro Fabela, Parques del Pedregal, Pueblo Magdalena Petlaclado, club de Golf México, SNTISSSTE-La Fama, Villa Coapa",0,0,3108985.73,3108985.73,3108985.73,0,0,0,"FAIS\nEstos recursos se contrataron a finales de noviembre por lo cual no hay avance físico realizado y será hasta el Cierre de la Cuenta Pública del ejercicio 2021, donde se verá la meta realizada al 100% terminada"]
[null,"'O21NR.1158","Verificación y seguimiento de las obras (FISMDF)(SUPERVISIÓN DE OBRA): Obras de Rehabilitación de superficie de rodamiento (Repavimentación), Rehabilitación de Banquetas, Rehabilitación del Sistema de Alumbrado Público, Rehabilitación del Sistema de Alcantarillado Pluvial, en: Prado Coapa 2a sección, 2a sección Pedregal de San Nicolás, Pueblo Santo Tomás Ajusco, Pueblo San Andrés Totoltepec,Miguel Hidalgo 3ra. Secc., SanNicolás, Cuchilla de Padierna, Lomas del Pedregal y San Miguel Ajusco",0,0,2835917.43,2835917.43,2835917.43,0,0,0,"FAIS\nEstos recursos se contrataron a finales de noviembre por lo cual no hay avance físico realizado y será hasta el Cierre de la Cuenta Pública del ejercicio 2021, donde se verá la meta realizada al 100% terminada"]
[null,"O21NR.1159","Mantenimiento de Salón de usos múltiples en Granjas Coapa con clave 12-050",0,0,482598,482598,482598,0,0,0,"Los trabajos se inciaron a finales del mes de noviembre;  se relizaron los procesos de elaboración de fichas, suficiencias, licitaciones y contrataciones por lo que será hasta la Cuenta Pública donde se verán los Cierres definitivos de las obras de cada uno de los Comités del Presupuesto Participativo."]
[null,"O21NR.1160","Mantenimiento de Módulo de Vigilancia en:\nCTO.093-2021-colonia Mirador I con clave 12-100",0,0,388903,388903,388903,0,0,0,"Los trabajos se inciaron a finales del mes de noviembre;  se relizaron los procesos de elaboración de fichas, suficiencias, licitaciones y contrataciones por lo que será hasta la Cuenta Pública donde se verán los Cierres definitivos de las obras de cada uno de los Comités del Presupuesto Participativo."]
[null,"O21NR.1161","Construcción de salón de usos múltiples techado en Residencial Insurgentes Sur, (U. Hab.) con clave 12-139",0,0,444900,444900,444900,0,0,0,"Los trabajos se inciaron a finales del mes de noviembre;  se relizaron los procesos de elaboración de fichas, suficiencias, licitaciones y contrataciones por lo que será hasta la Cuenta Pública donde se verán los Cierres definitivos de las obras de cada uno de los Comités del Presupuesto Participativo."]
[null,"O21NR.1162","Construcción de Centro Cultural para exhibición de películas obras de teatro y danza en Calle las Torres frente a la base de RTP Xaxalco con clave 12-200",0,0,847882,847882,847882,0,0,0,"Los trabajos se inciaron a finales del mes de noviembre;  se relizaron los procesos de elaboración de fichas, suficiencias, licitaciones y contrataciones por lo que será hasta la Cuenta Pública donde se verán los Cierres definitivos de las obras de cada uno de los Comités del Presupuesto Participativo."]
[null,"'O21NR.1163","Remodelación y Mejoramiento de Parque Busto de Juárez 2020 en Ampliación Miguel Hidalgo 2a. secc. con clave 12-002",0,0,1004156,1004156,1004156,0,0,0,"Los trabajos se inciaron a finales del mes de noviembre;  se relizaron los procesos de elaboración de fichas, suficiencias, licitaciones y contrataciones por lo que será hasta la Cuenta Pública donde se verán los Cierres definitivos de las obras de cada uno de los Comités del Presupuesto Participativo."]
[null,"'O21NR.1164","Arreglos y Compostura del Parque \"Martín Torres Padilla\"en AMSA con clave 12-005",0,0,344107,344107,344107,0,0,0,"Los trabajos se inciaron a finales del mes de noviembre;  se relizaron los procesos de elaboración de fichas, suficiencias, licitaciones y contrataciones por lo que será hasta la Cuenta Pública donde se verán los Cierres definitivos de las obras de cada uno de los Comités del Presupuesto Participativo."]
[null,"'O21NR.1165","Rehabilitación de Banquetas de calidad en Arboledas del Sur con clave 12-007",0,0,483912,483912,483912,0,0,0,"Los trabajos se inciaron a finales del mes de noviembre;  se relizaron los procesos de elaboración de fichas, suficiencias, licitaciones y contrataciones por lo que será hasta la Cuenta Pública donde se verán los Cierres definitivos de las obras de cada uno de los Comités del Presupuesto Participativo."]
[null,"O21NR.1166","Construcción de barreras anti inundación y válvulas check en Arenal Guadalupe Tlalpan con clave 12-008",0,0,421186,421186,421186,0,0,0,"Los trabajos se inciaron a finales del mes de noviembre;  se relizaron los procesos de elaboración de fichas, suficiencias, licitaciones y contrataciones por lo que será hasta la Cuenta Pública donde se verán los Cierres definitivos de las obras de cada uno de los Comités del Presupuesto Participativo."]
[null,"'O21NR.1167","Recuperación del Área Verde de la calle Río San Buenaventura con esquina Periférico Sur en Arenal Puerta Tepepan con clave 12-009",0,0,358047,358047,358047,0,0,0,"Los trabajos se inciaron a finales del mes de noviembre;  se relizaron los procesos de elaboración de fichas, suficiencias, licitaciones y contrataciones por lo que será hasta la Cuenta Pública donde se verán los Cierres definitivos de las obras de cada uno de los Comités del Presupuesto Participativo."]
[null,"'O21NR.1168","Rescate de Área Verde de la colonia Belvedere para habilitar pabellón para actividades culturales y ecológicas juegos lúdicos y bancas en Belvedere con clave 12-013",0,0,574522,574522,574522,0,0,0,"Los trabajos se inciaron a finales del mes de noviembre;  se relizaron los procesos de elaboración de fichas, suficiencias, licitaciones y contrataciones por lo que será hasta la Cuenta Pública donde se verán los Cierres definitivos de las obras de cada uno de los Comités del Presupuesto Participativo."]
[null,"'O21NR.1169","Espacio Cultural y Educativo abierto en Calzada para todos en Cantera Pte. de Piedra Proyecto sostenible amigable con el Medio Ambiente 1ra. etapa, Cantera Puente de Piedra con clave 12-018",0,0,520317,520317,520317,0,0,0,"Los trabajos se inciaron a finales del mes de noviembre;  se relizaron los procesos de elaboración de fichas, suficiencias, licitaciones y contrataciones por lo que será hasta la Cuenta Pública donde se verán los Cierres definitivos de las obras de cada uno de los Comités del Presupuesto Participativo."]
[null,"'O21NR.1170","Instalación de Corredor Recreativo Ecológico en Cruz del Farol con clave 12-029",0,0,409324,409324,409324,0,0,0,"Los trabajos se inciaron a finales del mes de noviembre;  se relizaron los procesos de elaboración de fichas, suficiencias, licitaciones y contrataciones por lo que será hasta la Cuenta Pública donde se verán los Cierres definitivos de las obras de cada uno de los Comités del Presupuesto Participativo."]
[null,"'O21NR.1171","Instalación y Adquisición de Sistemas de Captación de Agua Pluvial enCuilotepec II con clave 12-031",0,0,304527,304527,304527,0,0,0,"Los trabajos se inciaron a finales del mes de noviembre;  se relizaron los procesos de elaboración de fichas, suficiencias, licitaciones y contrataciones por lo que será hasta la Cuenta Pública donde se verán los Cierres definitivos de las obras de cada uno de los Comités del Presupuesto Participativo."]
[null,"O21NR.1172","Mantenimiento del techado de cancha deportiva en Colonia Diamante en clave 12-033",0,0,366848,366848,366848,0,0,0,"Los trabajos se inciaron a finales del mes de noviembre;  se relizaron los procesos de elaboración de fichas, suficiencias, licitaciones y contrataciones por lo que será hasta la Cuenta Pública donde se verán los Cierres definitivos de las obras de cada uno de los Comités del Presupuesto Participativo."]
[null,"'O21NR.1173","Rehabilitación de Juegos Infantiles y Colocación de Nuevos Juegos en Camellón Prolongación Canal de Miramontes, Ex hacienda de San Juan de Dios con clave 12-042",0,0,520673,520673,520673,0,0,0,"Los trabajos se inciaron a finales del mes de noviembre;  se relizaron los procesos de elaboración de fichas, suficiencias, licitaciones y contrataciones por lo que será hasta la Cuenta Pública donde se verán los Cierres definitivos de las obras de cada uno de los Comités del Presupuesto Participativo."]
[null,"'O21NR.1174","Construir un Huerto Urbano y Arreglar las Banquetas en Camellón Prolongación Canal de Miramontes, floresta-prado-vergel coapa con clave 12-043",0,0,444300,444300,444300,0,0,0,"Los trabajos se inciaron a finales del mes de noviembre;  se relizaron los procesos de elaboración de fichas, suficiencias, licitaciones y contrataciones por lo que será hasta la Cuenta Pública donde se verán los Cierres definitivos de las obras de cada uno de los Comités del Presupuesto Participativo."]
[null,"'O21NR.1175","Reparación y Recuperación de la Fuente de Parque los Ilusos en Colonia Fuentes del Pedregal, Camellón Prolongación Canal de Miramontes, Fuentes del Pedregal con clave 12-049",0,0,605251,605251,605251,0,0,0,"Los trabajos se inciaron a finales del mes de noviembre;  se relizaron los procesos de elaboración de fichas, suficiencias, licitaciones y contrataciones por lo que será hasta la Cuenta Pública donde se verán los Cierres definitivos de las obras de cada uno de los Comités del Presupuesto Participativo."]
[null,"'O21NR.1176","Embellecimiento del Camellón en Calzada del Hueso y Restitución del Retorno, Granjas Coapa Oriente con clave 12-051",0,0,371411,371411,371411,0,0,0,"Los trabajos se inciaron a finales del mes de noviembre;  se relizaron los procesos de elaboración de fichas, suficiencias, licitaciones y contrataciones por lo que será hasta la Cuenta Pública donde se verán los Cierres definitivos de las obras de cada uno de los Comités del Presupuesto Participativo."]
[null,"'O21NR.1177","Recuperación, Mantenimiento y Rescate de los Parques de la Colonia 1, ubicado en Prolongación Canal de Miramontes entre Xomali y Transmisiones en Hacienda San Juan-Rincón de San Juan-Chimali con clave 12-053",0,0,541199,541199,541199,0,0,0,"Los trabajos se inciaron a finales del mes de noviembre;  se relizaron los procesos de elaboración de fichas, suficiencias, licitaciones y contrataciones por lo que será hasta la Cuenta Pública donde se verán los Cierres definitivos de las obras de cada uno de los Comités del Presupuesto Participativo."]
[null,"'O21NR.1178","Rehabilitación de Andador Peatonal en Parada la Palma, desde retorno la Palma hasta Capilla en calle Oyamel esquina Roble, La Palma con clave 12-075",0,0,411551,411551,411551,0,0,0,"Los trabajos se inciaron a finales del mes de noviembre;  se relizaron los procesos de elaboración de fichas, suficiencias, licitaciones y contrataciones por lo que será hasta la Cuenta Pública donde se verán los Cierres definitivos de las obras de cada uno de los Comités del Presupuesto Participativo."]
[null,"'O21NR.1179","Rehabilitación de Banquetas, Caminando Seguros en Lomas Altas de Padierna Sur con clave 12-079",0,0,571153,571153,571153,0,0,0,"Los trabajos se inciaron a finales del mes de noviembre;  se relizaron los procesos de elaboración de fichas, suficiencias, licitaciones y contrataciones por lo que será hasta la Cuenta Pública donde se verán los Cierres definitivos de las obras de cada uno de los Comités del Presupuesto Participativo."]
[null,"'O21NR.1180","Rehabilitación de Postes Luminarias de 7.5 metros en Colonia Lomas del Pedregal, Lomas del Pedregal con clave 12-085",0,0,341072,341072,341072,0,0,0,"Los trabajos se inciaron a finales del mes de noviembre;  se relizaron los procesos de elaboración de fichas, suficiencias, licitaciones y contrataciones por lo que será hasta la Cuenta Pública donde se verán los Cierres definitivos de las obras de cada uno de los Comités del Presupuesto Participativo."]
[null,"O21NR.1181","Rehabilitación y Mantenimiento de 5 pozos de absorción en Ma. Esther Zuno de Echeverria-Tlalpuente con clave 12-092",0,0,391084,391084,391084,0,0,0,"Los trabajos se inciaron a finales del mes de noviembre;  se relizaron los procesos de elaboración de fichas, suficiencias, licitaciones y contrataciones por lo que será hasta la Cuenta Pública donde se verán los Cierres definitivos de las obras de cada uno de los Comités del Presupuesto Participativo."]
[null,"'O21NR.1182","Rehabilitación y Embellecimiento de toda la unidad territorial en Nueva Oriental Coapa-Ex hacienda Coapa con clave 12-109",0,0,503636,503636,503636,0,0,0,"Los trabajos se inciaron a finales del mes de noviembre;  se relizaron los procesos de elaboración de fichas, suficiencias, licitaciones y contrataciones por lo que será hasta la Cuenta Pública donde se verán los Cierres definitivos de las obras de cada uno de los Comités del Presupuesto Participativo."]
[null,"'O21NR.1183","Instalación de Sistemas de Captación de agua pluvial en Calle Ave del Paraíso y alrededores, Ocotla-Ocotla Chico con clave 12-111",0,0,343101,343101,343101,0,0,0,"Los trabajos se inciaron a finales del mes de noviembre;  se relizaron los procesos de elaboración de fichas, suficiencias, licitaciones y contrataciones por lo que será hasta la Cuenta Pública donde se verán los Cierres definitivos de las obras de cada uno de los Comités del Presupuesto Participativo."]
[null,"'O21NR.1184","Mantenimiento de cancha de usos múltiples (basquetbol, voleibol, futbol y actividades culturales)en Pedregal de San Nicolás 3a secc con clave 12-119",0,0,906433,906433,906433,0,0,0,"Los trabajos se inciaron a finales del mes de noviembre;  se relizaron los procesos de elaboración de fichas, suficiencias, licitaciones y contrataciones por lo que será hasta la Cuenta Pública donde se verán los Cierres definitivos de las obras de cada uno de los Comités del Presupuesto Participativo."]
[null,"'O21NR.1185","Rehabilitación de Luminarias en la Vía Pública para mayor seguridad pública, retirando postes viejos y/o cambiando por postes nuevos en Plan de ayala con clave 12-125",0,0,349182,349182,349182,0,0,0,"Los trabajos se inciaron a finales del mes de noviembre;  se relizaron los procesos de elaboración de fichas, suficiencias, licitaciones y contrataciones por lo que será hasta la Cuenta Pública donde se verán los Cierres definitivos de las obras de cada uno de los Comités del Presupuesto Participativo."]
[null,"'O21NR.1186","Rehabilitación de Área para Juegos en Jardín de Niños Bikit, Popular Sta. Teresa con clave 12-127",0,0,635527,635527,635527,0,0,0,"Los trabajos se inciaron a finales del mes de noviembre;  se relizaron los procesos de elaboración de fichas, suficiencias, licitaciones y contrataciones por lo que será hasta la Cuenta Pública donde se verán los Cierres definitivos de las obras de cada uno de los Comités del Presupuesto Participativo."]
[null,"'O21NR.1187","Rehabilitación de Cuatro Parques de la colonia Temascaltepec-Carbonera, Carbonera-Corralejo, Corralejo-Jilotepec, Jilotepec-Jalteng en Prado Coapa 3a sección-Potrero Acoxpa con clave 12-131",0,0,415734,415734,415734,0,0,0,"Los trabajos se inciaron a finales del mes de noviembre;  se relizaron los procesos de elaboración de fichas, suficiencias, licitaciones y contrataciones por lo que será hasta la Cuenta Pública donde se verán los Cierres definitivos de las obras de cada uno de los Comités del Presupuesto Participativo."]
[null,"'O21NR.1188","Mantenimiento General del Deportivo en Colonia Pueblo Quieto con clave 12-133",0,0,354764,354764,354764,0,0,0,"Los trabajos se inciaron a finales del mes de noviembre;  se relizaron los procesos de elaboración de fichas, suficiencias, licitaciones y contrataciones por lo que será hasta la Cuenta Pública donde se verán los Cierres definitivos de las obras de cada uno de los Comités del Presupuesto Participativo."]
[null,"'O21NR.1189","Instalación de Lámparas Solares en Calzada las Brujas en la Unidad Territorial de Rincón las Hadas, Villa Royale, Fuentes y Arconada Coapa con clave 12-142",0,0,351748,351748,351748,0,0,0,"Los trabajos se inciaron a finales del mes de noviembre;  se relizaron los procesos de elaboración de fichas, suficiencias, licitaciones y contrataciones por lo que será hasta la Cuenta Pública donde se verán los Cierres definitivos de las obras de cada uno de los Comités del Presupuesto Participativo."]
[null,"'O21NR.1190","Rehabilitación de Escaleras en  la entrada de Tetequilo, Tezontitla-El Calvario (ampl) con clave 12-174",0,0,298949,298949,298949,0,0,0,"Los trabajos se inciaron a finales del mes de noviembre;  se relizaron los procesos de elaboración de fichas, suficiencias, licitaciones y contrataciones por lo que será hasta la Cuenta Pública donde se verán los Cierres definitivos de las obras de cada uno de los Comités del Presupuesto Participativo."]
[null,"'O21NR.1191","Rehabilitación de Areas Verdes y Suelo Permeable en Valle Escondido con clave 12-184",0,0,450897,450897,450897,0,0,0,"Los trabajos se inciaron a finales del mes de noviembre;  se relizaron los procesos de elaboración de fichas, suficiencias, licitaciones y contrataciones por lo que será hasta la Cuenta Pública donde se verán los Cierres definitivos de las obras de cada uno de los Comités del Presupuesto Participativo."]
[null,"'O21NR.1192","Remodelación Sustentable e Incluyente del Parque ubicado en Residencial Villa Capa Súper Manzana 5 en Villa Coapa (rdcial) con clave 12-191",0,0,387417,387417,387417,0,0,0,"Los trabajos se inciaron a finales del mes de noviembre;  se relizaron los procesos de elaboración de fichas, suficiencias, licitaciones y contrataciones por lo que será hasta la Cuenta Pública donde se verán los Cierres definitivos de las obras de cada uno de los Comités del Presupuesto Participativo."]
[null,"'O21NR.1193","Rehabilitación de áreas verdes, camellones, espacios deportivos, iluminación y reencarpetado en Colonia Villa Lázaro Cárdenas, Villa Lázaro Cárdenas con clave 12-194",0,0,532959,532959,532959,0,0,0,"Los trabajos se inciaron a finales del mes de noviembre;  se relizaron los procesos de elaboración de fichas, suficiencias, licitaciones y contrataciones por lo que será hasta la Cuenta Pública donde se verán los Cierres definitivos de las obras de cada uno de los Comités del Presupuesto Participativo."]
[null,"'O21NR.1194","Renovación de las Escalinatas en Calle Chabacano esq. Totoltepec, Vistas del Pedregal con clave 12-198",0,0,352370,352370,352370,0,0,0,"Los trabajos se inciaron a finales del mes de noviembre;  se relizaron los procesos de elaboración de fichas, suficiencias, licitaciones y contrataciones por lo que será hasta la Cuenta Pública donde se verán los Cierres definitivos de las obras de cada uno de los Comités del Presupuesto Participativo."]
[null,"'O21NR.1195","Pavimentación Asfáltica de las calle en Primarias Prolongación Santa Cruz y Ayocatitla en la colonia Ayocatitla/Asunción las cuales se unifican adel, Ayocatitla, Asunción con clave 12-011",0,0,369220,369220,369220,0,0,0,"Los trabajos se inciaron a finales del mes de noviembre;  se relizaron los procesos de elaboración de fichas, suficiencias, licitaciones y contrataciones por lo que será hasta la Cuenta Pública donde se verán los Cierres definitivos de las obras de cada uno de los Comités del Presupuesto Participativo."]
[null,"'O21NR.1196","Repavimentar ,en calle Sebastián Lerdo de Tejada, Jardinez Coapa-Belisario DomÍnguez con clave 12-064",0,0,354466,354466,354466,0,0,0,"Los trabajos se inciaron a finales del mes de noviembre;  se relizaron los procesos de elaboración de fichas, suficiencias, licitaciones y contrataciones por lo que será hasta la Cuenta Pública donde se verán los Cierres definitivos de las obras de cada uno de los Comités del Presupuesto Participativo."]
[null,"'O21NR.1197","Reencarpetado en Calle Iztaccíhuatl, La Lonja con clave 12-069",0,0,403182,403182,403182,0,0,0,"Los trabajos se inciaron a finales del mes de noviembre;  se relizaron los procesos de elaboración de fichas, suficiencias, licitaciones y contrataciones por lo que será hasta la Cuenta Pública donde se verán los Cierres definitivos de las obras de cada uno de los Comités del Presupuesto Participativo."]
[null,"'O21NR.1198","Continuación de la Pavimentación en Colonia en Camino los Arcos desde Camino vecinal hasta la Cerrada del Camino de los Arcos, La Guadalupana con clave 12-071",0,0,399827,399827,399827,0,0,0,"Los trabajos se inciaron a finales del mes de noviembre;  se relizaron los procesos de elaboración de fichas, suficiencias, licitaciones y contrataciones por lo que será hasta la Cuenta Pública donde se verán los Cierres definitivos de las obras de cada uno de los Comités del Presupuesto Participativo."]
[null,"'O21NR.1199","Pavimentación de C. Francisco Javier Mina y C. Mariano Abasolo en La Libertad-Ixtlahuaca con clave 12-073",0,0,333828,333828,333828,0,0,0,"Los trabajos se inciaron a finales del mes de noviembre;  se relizaron los procesos de elaboración de fichas, suficiencias, licitaciones y contrataciones por lo que será hasta la Cuenta Pública donde se verán los Cierres definitivos de las obras de cada uno de los Comités del Presupuesto Participativo."]
[null,"'O21NR.1200","Reencarpetado en Calle 3a.Cerrada Cañaverales, Col. Magisterial, Coapa-Villa Cuemanco con clave 12-093",0,0,393728,393728,393728,0,0,0,"Los trabajos se inciaron a finales del mes de noviembre;  se relizaron los procesos de elaboración de fichas, suficiencias, licitaciones y contrataciones por lo que será hasta la Cuenta Pública donde se verán los Cierres definitivos de las obras de cada uno de los Comités del Presupuesto Participativo."]
[null,"'O21NR.1201","Mantenimiento del Adoquinado en  Calle Zacatepetl y Alborada, Parques del Pedregal con clave 12-114",0,0,423678,423678,423678,0,0,0,"Los trabajos se inciaron a finales del mes de noviembre;  se relizaron los procesos de elaboración de fichas, suficiencias, licitaciones y contrataciones por lo que será hasta la Cuenta Pública donde se verán los Cierres definitivos de las obras de cada uno de los Comités del Presupuesto Participativo."]
[null,"'O21NR.1202","Continuación de Empedrado y Muro de Contención en Camino Piedra Larga (rampa), Piedra Larga con clave 12-124",0,0,314463,314463,314463,0,0,0,"Los trabajos se inciaron a finales del mes de noviembre;  se relizaron los procesos de elaboración de fichas, suficiencias, licitaciones y contrataciones por lo que será hasta la Cuenta Pública donde se verán los Cierres definitivos de las obras de cada uno de los Comités del Presupuesto Participativo."]
[null,"'O21NR.1203","Encarpetar todas las calles en Colonia Prado Coapa 2a sección con clave 12-130",0,0,394615,394615,394615,0,0,0,"Los trabajos se inciaron a finales del mes de noviembre;  se relizaron los procesos de elaboración de fichas, suficiencias, licitaciones y contrataciones por lo que será hasta la Cuenta Pública donde se verán los Cierres definitivos de las obras de cada uno de los Comités del Presupuesto Participativo."]
[null,"'O21NR.1204","Reencarpetado en Calle Colonia Real del Sur-Villas del Sur-Residencial Acoxpa con clave 12-137",0,0,385732,385732,385732,0,0,0,"Los trabajos se inciaron a finales del mes de noviembre;  se relizaron los procesos de elaboración de fichas, suficiencias, licitaciones y contrataciones por lo que será hasta la Cuenta Pública donde se verán los Cierres definitivos de las obras de cada uno de los Comités del Presupuesto Participativo."]
[null,"'O21NR.1205","Reacondicionamiento de la Carpeta Asfaltica en Tlalcoligia con clave 12-175",0,0,685565,685565,685565,0,0,0,"Los trabajos se inciaron a finales del mes de noviembre;  se relizaron los procesos de elaboración de fichas, suficiencias, licitaciones y contrataciones por lo que será hasta la Cuenta Pública donde se verán los Cierres definitivos de las obras de cada uno de los Comités del Presupuesto Participativo."]
[null,"'O21NR.1206","Reencarpetado de Callejón de Tetitla, Toriello Guerra con clave 12-180",0,0,750988,750988,750988,0,0,0,"Los trabajos se inciaron a finales del mes de noviembre;  se relizaron los procesos de elaboración de fichas, suficiencias, licitaciones y contrataciones por lo que será hasta la Cuenta Pública donde se verán los Cierres definitivos de las obras de cada uno de los Comités del Presupuesto Participativo."]
[null,"'O21NR.1207","Reencarpetado en Calles de las Colonias Vergel de Coyoacán y Vergel del Sur, Vergel de Coyoacán-Vergel del Sur con clave 12-188",0,0,450333,450333,450333,0,0,0,"Los trabajos se inciaron a finales del mes de noviembre;  se relizaron los procesos de elaboración de fichas, suficiencias, licitaciones y contrataciones por lo que será hasta la Cuenta Pública donde se verán los Cierres definitivos de las obras de cada uno de los Comités del Presupuesto Participativo."]
[null,"'O21NR.1208","Pavimentación y Guarnición en Cerrada de Pirules y Prolongación la Palma,Viveros de Coactetlan con clave 12-199",0,0,432927,432927,432927,0,0,0,"Los trabajos se inciaron a finales del mes de noviembre;  se relizaron los procesos de elaboración de fichas, suficiencias, licitaciones y contrataciones por lo que será hasta la Cuenta Pública donde se verán los Cierres definitivos de las obras de cada uno de los Comités del Presupuesto Participativo."]
[null,"'O21NR.1209","Pavimentación en toda la calle cerezos desde Cerrada y hasta el final Xaxalipac con clave 12-201 ",0,0,376223,376223,376223,0,0,0,"Los trabajos se inciaron a finales del mes de noviembre;  se relizaron los procesos de elaboración de fichas, suficiencias, licitaciones y contrataciones por lo que será hasta la Cuenta Pública donde se verán los Cierres definitivos de las obras de cada uno de los Comités del Presupuesto Participativo."]
[null,"O21NR.1210","Construcción de Tanque de Captación de Aguas Pluviales en\nSolidaridad Chimilli  con clave 12-022",0,0,448742,448742,448742,0,0,0,"Los trabajos se inciaron a finales del mes de noviembre;  se relizaron los procesos de elaboración de fichas, suficiencias, licitaciones y contrataciones por lo que será hasta la Cuenta Pública donde se verán los Cierres definitivos de las obras de cada uno de los Comités del Presupuesto Participativo."]
[null,"O21NR.1211","Sustitución de Red de Agua Potable y Tomas en Calles Prolongación de Abasolo, Fuentes Buenas y calles perpendiculares a esta Fuentes y Pedregal de Tepepan con clave12-048",0,0,513969,513969,513969,0,0,0,"Los trabajos se inciaron a finales del mes de noviembre;  se relizaron los procesos de elaboración de fichas, suficiencias, licitaciones y contrataciones por lo que será hasta la Cuenta Pública donde se verán los Cierres definitivos de las obras de cada uno de los Comités del Presupuesto Participativo."]
[null,"'O21NR.1212","Rehabilitación y Mantenimiento de Rampas de Acceso Principales para vehículos en Chimalcoyotl con clave 12-020",0,0,553682,553682,553682,0,0,0,"Los trabajos se inciaron a finales del mes de noviembre;  se relizaron los procesos de elaboración de fichas, suficiencias, licitaciones y contrataciones por lo que será hasta la Cuenta Pública donde se verán los Cierres definitivos de las obras de cada uno de los Comités del Presupuesto Participativo."]
[null,"'O21NR.1213","Rehabilitación de área deportiva y recreativa para perros en  Colinas del Bosque-Las Tórtolas con clave 12-025",0,0,347278,347278,347278,0,0,0,"Los trabajos se inciaron a finales del mes de noviembre;  se relizaron los procesos de elaboración de fichas, suficiencias, licitaciones y contrataciones por lo que será hasta la Cuenta Pública donde se verán los Cierres definitivos de las obras de cada uno de los Comités del Presupuesto Participativo."]
[null,"'O21NR.1214","Mantenimiento de Alumbrado Público en todo el Condominio del bosque (fracc.)-bosque de tlalpan con clave 12-026",0,0,329577,329577,329577,0,0,0,"Los trabajos se inciaron a finales del mes de noviembre;  se relizaron los procesos de elaboración de fichas, suficiencias, licitaciones y contrataciones por lo que será hasta la Cuenta Pública donde se verán los Cierres definitivos de las obras de cada uno de los Comités del Presupuesto Participativo."]
[null,"'O21NR.1215","Reparación de Filtraciones en Estacionamiento y Accesos, para la detención de daño estructural que representa riesgo inminente para la comunidad en Conjunto Habitacional Pedregal del Lago con clave 12-218",0,0,336056,336056,336056,0,0,0,"Los trabajos se inciaron a finales del mes de noviembre;  se relizaron los procesos de elaboración de fichas, suficiencias, licitaciones y contrataciones por lo que será hasta la Cuenta Pública donde se verán los Cierres definitivos de las obras de cada uno de los Comités del Presupuesto Participativo."]
[null,"'O21NR.1216","Cambio de Cableado Eléctrico de todos los postes de la unidad Conjunto Urbano Cuemanco (u. hab) con clave 12-027",0,0,340348,340348,340348,0,0,0,"Los trabajos se inciaron a finales del mes de noviembre;  se relizaron los procesos de elaboración de fichas, suficiencias, licitaciones y contrataciones por lo que será hasta la Cuenta Pública donde se verán los Cierres definitivos de las obras de cada uno de los Comités del Presupuesto Participativo."]
[null,"'O21NR.1217","Reparación de Cisterna de Agua Potable que Suministra a toda en la Unidad Emilio Portes Gil Pemex Picacho, por medio de bombeo Emilio portes Gil Pemex Picacho (U. Hab) con clave 12-040",0,0,408917,408917,408917,0,0,0,"Los trabajos se inciaron a finales del mes de noviembre;  se relizaron los procesos de elaboración de fichas, suficiencias, licitaciones y contrataciones por lo que será hasta la Cuenta Pública donde se verán los Cierres definitivos de las obras de cada uno de los Comités del Presupuesto Participativo."]
[null,"'O21NR.1219","Reencarpetado dentro de la unidad  del Hueso Periférico-ISSSFAM No. 7 (U. Habs) con clave 12-057",0,0,399413,399413,399413,0,0,0,"Los trabajos se inciaron a finales del mes de noviembre;  se relizaron los procesos de elaboración de fichas, suficiencias, licitaciones y contrataciones por lo que será hasta la Cuenta Pública donde se verán los Cierres definitivos de las obras de cada uno de los Comités del Presupuesto Participativo."]
[null,"'O21NR.1220","Rehabilitación y Mantenimiento del Módulo de Juegos Infantiles en Áreas Verdes Comunes en la Unidad Ignacio Chávez dentro de los Regímenes I, II, III, V, VI y Deportivo  Ignacio Chávez (u hab) con clave 12-059",0,0,338479,338479,338479,0,0,0,"Los trabajos se inciaron a finales del mes de noviembre;  se relizaron los procesos de elaboración de fichas, suficiencias, licitaciones y contrataciones por lo que será hasta la Cuenta Pública donde se verán los Cierres definitivos de las obras de cada uno de los Comités del Presupuesto Participativo."]
[null,"O21NR.1221","Cambio de tubos de albañal o Drenaje de casas, dúplex y edificios de la súper manzana 2 (que van de 5 a 10 metros por conexión a colectores) en:\nNarciso Mendoza-Villa Coapa Súper Manzana 2 (u hab) con clave 12-104",0,0,433885,433885,433885,0,0,0,"Los trabajos se inciaron a finales del mes de noviembre;  se relizaron los procesos de elaboración de fichas, suficiencias, licitaciones y contrataciones por lo que será hasta la Cuenta Pública donde se verán los Cierres definitivos de las obras de cada uno de los Comités del Presupuesto Participativo."]
[null,"'O21NR.1222","Rehabilitación y Remodelación del parque y canchas de básquetbol en U.H. Narciso Mendoza-Villa Coapa súper manzana 7 (U. Hab.) conclave 12-107",0,0,435714,435714,435714,0,0,0,"Los trabajos se inciaron a finales del mes de noviembre;  se relizaron los procesos de elaboración de fichas, suficiencias, licitaciones y contrataciones por lo que será hasta la Cuenta Pública donde se verán los Cierres definitivos de las obras de cada uno de los Comités del Presupuesto Participativo."]
[null,"'O21NR.1223","Instalación de Celdas Solares en Rancho los Colorines (fracc) con clave 12-136",0,0,313832,313832,313832,0,0,0,"Los trabajos se inciaron a finales del mes de noviembre;  se relizaron los procesos de elaboración de fichas, suficiencias, licitaciones y contrataciones por lo que será hasta la Cuenta Pública donde se verán los Cierres definitivos de las obras de cada uno de los Comités del Presupuesto Participativo."]
[null,"O21NR.1224","Construcción de aula para Construccion de salon de usos multiples techado  en Residencial Insurgentes Sur (u hab)) con clave 12-139,  \n",0,0,359000,359000,359000,0,0,0,"Los trabajos se inciaron a finales del mes de noviembre;  se relizaron los procesos de elaboración de fichas, suficiencias, licitaciones y contrataciones por lo que será hasta la Cuenta Pública donde se verán los Cierres definitivos de las obras de cada uno de los Comités del Presupuesto Participativo."]
[null,"'O21NR.1225","Mejoramiento de Espacios Públicos en Sauzales Cebadales (u hab) con clave 12-164",0,0,346835,346835,346835,0,0,0,"Los trabajos se inciaron a finales del mes de noviembre;  se relizaron los procesos de elaboración de fichas, suficiencias, licitaciones y contrataciones por lo que será hasta la Cuenta Pública donde se verán los Cierres definitivos de las obras de cada uno de los Comités del Presupuesto Participativo."]
[null,"O21NR.1226","Cambio de Red de Agua Potable en el interior de la U.H. Tenorios 222 (Tenorios INFONAVIT1 y 2 U Hab) con clave 12-168",0,0,388492,388492,388492,0,0,0,"Los trabajos se inciaron a finales del mes de noviembre;  se relizaron los procesos de elaboración de fichas, suficiencias, licitaciones y contrataciones por lo que será hasta la Cuenta Pública donde se verán los Cierres definitivos de las obras de cada uno de los Comités del Presupuesto Participativo."]
[null,"'O21NR.1227","Reencarpetado en  Calle Rincón Fresales, Villa del Puente FOVISSSTE (U. Hab) con clave 12-193",0,0,318383,318383,318383,0,0,0,"Los trabajos se inciaron a finales del mes de noviembre;  se relizaron los procesos de elaboración de fichas, suficiencias, licitaciones y contrataciones por lo que será hasta la Cuenta Pública donde se verán los Cierres definitivos de las obras de cada uno de los Comités del Presupuesto Participativo."]
[null,"O21NR.1228","Sustitución de Válvulas detereoradas de la Red Hidráulica en la unidad Villa Olimpica Libertador Miguel Hidalgo (U. Hab) con clave 12-195",0,0,372362,372362,372362,0,0,0,"Los trabajos se inciaron a finales del mes de noviembre;  se relizaron los procesos de elaboración de fichas, suficiencias, licitaciones y contrataciones por lo que será hasta la Cuenta Pública donde se verán los Cierres definitivos de las obras de cada uno de los Comités del Presupuesto Participativo."]
[null,"'O21NR.1229","Rehabilitación Urbana a andador sin nombre en Zapote-Luis Donaldo Colosio (u habs) con clave 12-204",0,0,337910,337910,337910,0,0,0,"Los trabajos se inciaron a finales del mes de noviembre;  se relizaron los procesos de elaboración de fichas, suficiencias, licitaciones y contrataciones por lo que será hasta la Cuenta Pública donde se verán los Cierres definitivos de las obras de cada uno de los Comités del Presupuesto Participativo."]
[null,"O21NR.1230","Continuación de Proyecto Repación de la Red de HidrÁulica, mantenimiento y acondicionamiento en Avenida del arbolillo y Sendero Narciso Mendoza Villa Coapa supermanzana 8 (U. Hab) con clave 12-217",0,0,393659,393659,393659,0,0,0,"Los trabajos se inciaron a finales del mes de noviembre;  se relizaron los procesos de elaboración de fichas, suficiencias, licitaciones y contrataciones por lo que será hasta la Cuenta Pública donde se verán los Cierres definitivos de las obras de cada uno de los Comités del Presupuesto Participativo."]
[null,"O21NR.1231","Sustitución y Mantenimiento a la Red de Distribución de Agua Potable en Fuentes Brotantes Miguel Hidalgo (U. Hab) con clave 12-047",0,0,556054,556054,556054,0,0,0,"Los trabajos se inciaron a finales del mes de noviembre;  se relizaron los procesos de elaboración de fichas, suficiencias, licitaciones y contrataciones por lo que será hasta la Cuenta Pública donde se verán los Cierres definitivos de las obras de cada uno de los Comités del Presupuesto Participativo."]
[null,"O21NR.1239","Remodelación, Demolición, Ampliación, Construcción y Acabados del Salón de Usos Múltiples con baños y oficina, en el Jardín de Chimali (Hacienda San Juan-Rincón de San Juan-Chimali con clave 12-053",0,0,545724,545724,545724,0,0,0,"Los trabajos se inciaron a finales del mes de noviembre;  se relizaron los procesos de elaboración de fichas, suficiencias, licitaciones y contrataciones por lo que será hasta la Cuenta Pública donde se verán los Cierres definitivos de las obras de cada uno de los Comités del Presupuesto Participativo."]
[null,"'O21NR.1240","Recuperación del Parque Niño Jesús para Rehabilitarlo para Recreación y Paseo de Perros en Niño Jesús (barr) con clave 12-108",0,0,361176,361176,361176,0,0,0,"Los trabajos se inciaron a finales del mes de noviembre;  se relizaron los procesos de elaboración de fichas, suficiencias, licitaciones y contrataciones por lo que será hasta la Cuenta Pública donde se verán los Cierres definitivos de las obras de cada uno de los Comités del Presupuesto Participativo."]
[null,"O21NR.1241","Continuación de la Barda de Contención del Centro Comunitario en (Ma. Esther Zuno de Echeverría-Tlalpuente con clave 12-092",0,0,403053,403053,403053,0,0,0,"Los trabajos se inciaron a finales del mes de noviembre;  se relizaron los procesos de elaboración de fichas, suficiencias, licitaciones y contrataciones por lo que será hasta la Cuenta Pública donde se verán los Cierres definitivos de las obras de cada uno de los Comités del Presupuesto Participativo."]
[null,"O21NR.1242","Adecuación del Módulo de Alheña en la colonia Movimiento Organizado de Tlalpan, como Módulo Multifuncional, Movimiento Organizado de Tlalpan-El Mirador (Rncda) con clave 12-102",0,0,319770,319770,319770,0,0,0,"Los trabajos se inciaron a finales del mes de noviembre;  se relizaron los procesos de elaboración de fichas, suficiencias, licitaciones y contrataciones por lo que será hasta la Cuenta Pública donde se verán los Cierres definitivos de las obras de cada uno de los Comités del Presupuesto Participativo."]
[null,"O21NR.1243","Mantenimiento al Salón de Usos Múltiples para Actividades Físicas y Manuales para personas de la tercera edad. jóvenes, adultos y niños en San Lorenzo Huipulco con clave 12-153",0,0,665835,665835,665835,0,0,0,"Los trabajos se inciaron a finales del mes de noviembre;  se relizaron los procesos de elaboración de fichas, suficiencias, licitaciones y contrataciones por lo que será hasta la Cuenta Pública donde se verán los Cierres definitivos de las obras de cada uno de los Comités del Presupuesto Participativo."]
[null,"O21NR.1244","Rehabilitación e Innovación San Fernando calle Nueva Tlalpan en Tlalpan centro con clave 12-177",0,0,887082,887082,887082,0,0,0,"Los trabajos se inciaron a finales del mes de noviembre;  se relizaron los procesos de elaboración de fichas, suficiencias, licitaciones y contrataciones por lo que será hasta la Cuenta Pública donde se verán los Cierres definitivos de las obras de cada uno de los Comités del Presupuesto Participativo."]
[null,"O21NR.1245","Obras de Término y Equipamiento, Planta Alta Centro Comunitario en Viveros de Coactetlan con clave 12-199",0,0,450270,450270,450270,0,0,0,"Los trabajos se inciaron a finales del mes de noviembre;  se relizaron los procesos de elaboración de fichas, suficiencias, licitaciones y contrataciones por lo que será hasta la Cuenta Pública donde se verán los Cierres definitivos de las obras de cada uno de los Comités del Presupuesto Participativo."]
[null,"'O21NR.1246","Remodelación y Mejoramiento de Parque Busto de Juárez 2021en Ampliación Miguel Hidalgo 2a. secc. con clave 12-002",0,0,1038834,0,1038834,0,0,0,"Los trabajos se inciaron a finales del mes de noviembre;  se relizaron los procesos de elaboración de fichas, suficiencias, licitaciones y contrataciones por lo que será hasta la Cuenta Pública donde se verán los Cierres definitivos de las obras de cada uno de los Comités del Presupuesto Participativo."]
[null,"'O21NR.1247","Iluminación del Parque “Concordia” ubicado en la calle Rio San Buenaventura y Cerrada Río San Buenaventura, Arenal Puerta Tepepancon clave 12-009",0,0,356448,356448,356448,0,0,0,"Los trabajos se inciaron a finales del mes de noviembre;  se relizaron los procesos de elaboración de fichas, suficiencias, licitaciones y contrataciones por lo que será hasta la Cuenta Pública donde se verán los Cierres definitivos de las obras de cada uno de los Comités del Presupuesto Participativo."]
[null,"'O21NR.1248","Mantenimiento al Parque para las Madres en Calvario Camisetas con clave 12-017",0,0,319806,319806,319806,0,0,0,"Los trabajos se inciaron a finales del mes de noviembre;  se relizaron los procesos de elaboración de fichas, suficiencias, licitaciones y contrataciones por lo que será hasta la Cuenta Pública donde se verán los Cierres definitivos de las obras de cada uno de los Comités del Presupuesto Participativo."]
[null,"'O21NR.1249","Rehabilitación de Juegos Infantiles y Colocación de Nuevos Juegos en Camellón Prolongación Canal de Miramontes, Ex Hacienda de San Juan de Dios con clave 12-042",0,0,512105,512105,512105,0,0,0,"Los trabajos se inciaron a finales del mes de noviembre;  se relizaron los procesos de elaboración de fichas, suficiencias, licitaciones y contrataciones por lo que será hasta la Cuenta Pública donde se verán los Cierres definitivos de las obras de cada uno de los Comités del Presupuesto Participativo."]
[null,"'O21NR.1250","Cambio de Sistema de Alumbrado en la Colonia Floresta-Prado-Vergel Coapa con clave 12-043",0,0,417912,417912,417912,0,0,0,"Los trabajos se inciaron a finales del mes de noviembre;  se relizaron los procesos de elaboración de fichas, suficiencias, licitaciones y contrataciones por lo que será hasta la Cuenta Pública donde se verán los Cierres definitivos de las obras de cada uno de los Comités del Presupuesto Participativo."]
[null,"'O21NR.1251","Construcción de Cisterna para Captación de Agua Pluvial para Riego del Parque los Ilusos en Fuentes del Pedregal con clave 12-049",0,0,606944,606944,606944,0,0,0,"Los trabajos se inciaron a finales del mes de noviembre;  se relizaron los procesos de elaboración de fichas, suficiencias, licitaciones y contrataciones por lo que será hasta la Cuenta Pública donde se verán los Cierres definitivos de las obras de cada uno de los Comités del Presupuesto Participativo."]
[null,"'O21NR.1252","Instalación de 12 (lum) led en el Camellón de la calle Sauzales, Granjas Coapa Oriente con clave 12-051",0,0,374300,374300,374300,0,0,0,"Los trabajos se inciaron a finales del mes de noviembre;  se relizaron los procesos de elaboración de fichas, suficiencias, licitaciones y contrataciones por lo que será hasta la Cuenta Pública donde se verán los Cierres definitivos de las obras de cada uno de los Comités del Presupuesto Participativo."]
[null,"'O21NR.1253","Rehabilitación de Banqueta para Caminar Seguro en Camino a la Marina, Héroes de 1910 con clave 12-055",0,0,340952,340952,340952,0,0,0,"Los trabajos se inciaron a finales del mes de noviembre;  se relizaron los procesos de elaboración de fichas, suficiencias, licitaciones y contrataciones por lo que será hasta la Cuenta Pública donde se verán los Cierres definitivos de las obras de cada uno de los Comités del Presupuesto Participativo."]
[null,"'O21NR.1254","Recuperación de Espacios Públicos y Colocación de Malla con Protección con Tubulares y Refuerzos en Isidro Fabela, (ampl) con clave 12-061",0,0,353535,353535,353535,0,0,0,"Los trabajos se inciaron a finales del mes de noviembre;  se relizaron los procesos de elaboración de fichas, suficiencias, licitaciones y contrataciones por lo que será hasta la Cuenta Pública donde se verán los Cierres definitivos de las obras de cada uno de los Comités del Presupuesto Participativo."]
[null,"'O21NR.1255","Cierre del Cruce entre calle Reforma Agraria y Viaducto Tlalpan en ISSSFAM No. 1, (U Hab)-Villa Tlalpan con clave 12-062",0,0,353519,353519,353519,0,0,0,"Los trabajos se inciaron a finales del mes de noviembre;  se relizaron los procesos de elaboración de fichas, suficiencias, licitaciones y contrataciones por lo que será hasta la Cuenta Pública donde se verán los Cierres definitivos de las obras de cada uno de los Comités del Presupuesto Participativo."]
[null,"'O21NR.1256","Mantenimiento de 30 luminarias sub urbanas de led´s con poste metálico de 6 metros y brazo de 1 metro en Ampliación la Venta, Jardines de San Juan con clave 12-065",0,0,577546,577546,577546,0,0,0,"Los trabajos se inciaron a finales del mes de noviembre;  se relizaron los procesos de elaboración de fichas, suficiencias, licitaciones y contrataciones por lo que será hasta la Cuenta Pública donde se verán los Cierres definitivos de las obras de cada uno de los Comités del Presupuesto Participativo."]
[null,"'O21NR.1257","Mantenimiento de Alumbrado Público en toda la colonia Jardines del Ajusco con clave 12-066",0,0,470689,470689,470689,0,0,0,"Los trabajos se inciaron a finales del mes de noviembre;  se relizaron los procesos de elaboración de fichas, suficiencias, licitaciones y contrataciones por lo que será hasta la Cuenta Pública donde se verán los Cierres definitivos de las obras de cada uno de los Comités del Presupuesto Participativo."]
[null,"'O21NR.1258","Construcción de un paso peatonal sobre el rio temporal en la Libertad-Ixtlahuaca con clave 12-073",0,0,328062,328062,328062,0,0,0,"Los trabajos se inciaron a finales del mes de noviembre;  se relizaron los procesos de elaboración de fichas, suficiencias, licitaciones y contrataciones por lo que será hasta la Cuenta Pública donde se verán los Cierres definitivos de las obras de cada uno de los Comités del Presupuesto Participativo."]
[null,"'O21NR.1259","Rehabilitación del Andador Peatonal en la Parada la Palma desde Retorno la Palma, hasta la Capilla Nuestra Señora de Guadalupe, calle Oyamel, La Palma con clave 12-075",0,0,396598,396598,396598,0,0,0,"Los trabajos se inciaron a finales del mes de noviembre;  se relizaron los procesos de elaboración de fichas, suficiencias, licitaciones y contrataciones por lo que será hasta la Cuenta Pública donde se verán los Cierres definitivos de las obras de cada uno de los Comités del Presupuesto Participativo."]
[null,"'O21NR.1260","Rehabilitación y Mantenimiento de Bancas para Descanso, Reforestación y Balizamiento para las calles de en la colonia Primavera (la primavera) con clave 12-076",0,0,391035,391035,391035,0,0,0,"Los trabajos se inciaron a finales del mes de noviembre;  se relizaron los procesos de elaboración de fichas, suficiencias, licitaciones y contrataciones por lo que será hasta la Cuenta Pública donde se verán los Cierres definitivos de las obras de cada uno de los Comités del Presupuesto Participativo."]
[null,"'O21NR.1261","Ampliar, Acondicionar y Embellecer el área que se Propone y Equipar con Juegos Infantiles para sana recreación y esparcimiento en un ambiente apacible en Lomas Altas de Padierna Sur con clave 12-079",0,0,560910,560910,560910,0,0,0,"Los trabajos se inciaron a finales del mes de noviembre;  se relizaron los procesos de elaboración de fichas, suficiencias, licitaciones y contrataciones por lo que será hasta la Cuenta Pública donde se verán los Cierres definitivos de las obras de cada uno de los Comités del Presupuesto Participativo."]
[null,"'O21NR.1262","Construcción de Arco de Piedra para reconocimiento de la colonia en Lomas de Padierna (ampl) con clave 12-082",0,0,298611,298611,298611,0,0,0,"Los trabajos se inciaron a finales del mes de noviembre;  se relizaron los procesos de elaboración de fichas, suficiencias, licitaciones y contrataciones por lo que será hasta la Cuenta Pública donde se verán los Cierres definitivos de las obras de cada uno de los Comités del Presupuesto Participativo."]
[null,"'O21NR.1263","Rehabilitación y Mantenimiento de Alumbrado en la Primera Cerrada de los Pastores, Los pastores con clave 12-088",0,0,308217,308217,308217,0,0,0,"Los trabajos se inciaron a finales del mes de noviembre;  se relizaron los procesos de elaboración de fichas, suficiencias, licitaciones y contrataciones por lo que será hasta la Cuenta Pública donde se verán los Cierres definitivos de las obras de cada uno de los Comités del Presupuesto Participativo."]
[null,"'O21NR.1264","Remodelación y Nivelación de Banquetas en Calle Sauzales, con Bolardos en las esquinas, Coapa-Villa Cuemanco con clave 12-093",0,0,380396,380396,380396,0,0,0,"Los trabajos se inciaron a finales del mes de noviembre;  se relizaron los procesos de elaboración de fichas, suficiencias, licitaciones y contrataciones por lo que será hasta la Cuenta Pública donde se verán los Cierres definitivos de las obras de cada uno de los Comités del Presupuesto Participativo."]
[null,"'O21NR.1265","Instalación de Luminarias de Última Generación para Proyecto de Iluminación Especial en toda la colonia: seguridad, cuidado ambiental y recuperación de espacios en Mirador del Valle con clave 12-099",0,0,337436,337436,337436,0,0,0,"Los trabajos se inciaron a finales del mes de noviembre;  se relizaron los procesos de elaboración de fichas, suficiencias, licitaciones y contrataciones por lo que será hasta la Cuenta Pública donde se verán los Cierres definitivos de las obras de cada uno de los Comités del Presupuesto Participativo."]
[null,"'O21NR.1266","Reparación de Banquetas y Nivelación de andadores en Narciso Mendoza-Villa Coapa súper manzana 2 (u hab) con clave 12-104",0,0,416384,416384,416384,0,0,0,"Los trabajos se inciaron a finales del mes de noviembre;  se relizaron los procesos de elaboración de fichas, suficiencias, licitaciones y contrataciones por lo que será hasta la Cuenta Pública donde se verán los Cierres definitivos de las obras de cada uno de los Comités del Presupuesto Participativo."]
[null,"'O21NR.1267","Instalación de Luminarias Led de 100 watts en zonas necesarias (postes de la súper manzana 6) en Narciso Mendoza-Villa Coapa súper manzana 6 U. Hab) con clave 12-106",0,0,450456,450456,450456,0,0,0,"Los trabajos se inciaron a finales del mes de noviembre;  se relizaron los procesos de elaboración de fichas, suficiencias, licitaciones y contrataciones por lo que será hasta la Cuenta Pública donde se verán los Cierres definitivos de las obras de cada uno de los Comités del Presupuesto Participativo."]
[null,"O21NR.1268","Construcción de Salón de Usos Múltiples en Calle Caoba, Juventud Unida con clave 12-068",0,0,339784,339784,339784,0,0,0,"Los trabajos se inciaron a finales del mes de noviembre;  se relizaron los procesos de elaboración de fichas, suficiencias, licitaciones y contrataciones por lo que será hasta la Cuenta Pública donde se verán los Cierres definitivos de las obras de cada uno de los Comités del Presupuesto Participativo."]
[null,"'O21NR.1269","Mantenimiento de Luminarias led-Mejora de la Iluminación en la colonia Parques del Pedregal con clave 12-114",0,0,406476,406476,406476,0,0,0,"Los trabajos se inciaron a finales del mes de noviembre;  se relizaron los procesos de elaboración de fichas, suficiencias, licitaciones y contrataciones por lo que será hasta la Cuenta Pública donde se verán los Cierres definitivos de las obras de cada uno de los Comités del Presupuesto Participativo."]
[null,"'O21NR.1270","Construcción del Camellón Central en la calle Lacandones en Pedregal de las Águilas con clave 12-116",0,0,392925,392925,392925,0,0,0,"Los trabajos se inciaron a finales del mes de noviembre;  se relizaron los procesos de elaboración de fichas, suficiencias, licitaciones y contrataciones por lo que será hasta la Cuenta Pública donde se verán los Cierres definitivos de las obras de cada uno de los Comités del Presupuesto Participativo."]
[null,"O21NR.1271","Mantenimiento del techado de las Canchas en de las calles Yaxcaba y Tixkokon, Pedregal de San Nicolás 2a secc. con clave 12-118",0,0,719418,719418,719418,0,0,0,"Los trabajos se inciaron a finales del mes de noviembre;  se relizaron los procesos de elaboración de fichas, suficiencias, licitaciones y contrataciones por lo que será hasta la Cuenta Pública donde se verán los Cierres definitivos de las obras de cada uno de los Comités del Presupuesto Participativo."]
[null,"O21NR.1272","Mantenimiento de pasto en Chancha de Futbol rapido y Acondicionar  Cancha de Basquetbol, para hacerla de Volibol,cuando se requiera, en el Deportivo Ismael Resendiz, Pedregal de Santa Úrsula Xitla con 12-121",0,0,480097,480097,480097,0,0,0,"Los trabajos se inciaron a finales del mes de noviembre;  se relizaron los procesos de elaboración de fichas, suficiencias, licitaciones y contrataciones por lo que será hasta la Cuenta Pública donde se verán los Cierres definitivos de las obras de cada uno de los Comités del Presupuesto Participativo."]
[null,"'O21NR.1273","Construcción de sistema de Reciclaje de Aguas Grises para Rancho los Colorines en Rancho los Colorines (fracc) con clave 12-136",0,0,311316,311316,311316,0,0,0,"Los trabajos se inciaron a finales del mes de noviembre;  se relizaron los procesos de elaboración de fichas, suficiencias, licitaciones y contrataciones por lo que será hasta la Cuenta Pública donde se verán los Cierres definitivos de las obras de cada uno de los Comités del Presupuesto Participativo."]
[null,"'O21NR.1274","Rehabilitación de Jardineras en las Banquetas, pintar todas la Fachadas, pintar Guarniciones y Señalamientos, colocar nombre de calles en San Pedro Apóstol (barr) con clave 12-159",0,0,307542,307542,307542,0,0,0,"Los trabajos se inciaron a finales del mes de noviembre;  se relizaron los procesos de elaboración de fichas, suficiencias, licitaciones y contrataciones por lo que será hasta la Cuenta Pública donde se verán los Cierres definitivos de las obras de cada uno de los Comités del Presupuesto Participativo."]
[null,"'O21NR.1275","Instalación de Luminarias Públicas con Paneles Solares Integrados para mayor seguridad en Santa Úrsula Xitla con clave 12-161",0,0,977404,977404,977404,0,0,0,"Los trabajos se inciaron a finales del mes de noviembre;  se relizaron los procesos de elaboración de fichas, suficiencias, licitaciones y contrataciones por lo que será hasta la Cuenta Pública donde se verán los Cierres definitivos de las obras de cada uno de los Comités del Presupuesto Participativo."]
[null,"'O21NR.1276","Instalación de Postes de 7.5 m en la colonia Tepetlica el Alto, Tepetlica el Alto-3 de Mayo con clave 12-170",0,0,353384,353384,353384,0,0,0,"Los trabajos se inciaron a finales del mes de noviembre;  se relizaron los procesos de elaboración de fichas, suficiencias, licitaciones y contrataciones por lo que será hasta la Cuenta Pública donde se verán los Cierres definitivos de las obras de cada uno de los Comités del Presupuesto Participativo."]
[null,"'O21NR.1277","Colocación de Protecciones de Jardineras en Tlalmille con clave 12-176",0,0,364124,364124,364124,0,0,0,"Los trabajos se inciaron a finales del mes de noviembre;  se relizaron los procesos de elaboración de fichas, suficiencias, licitaciones y contrataciones por lo que será hasta la Cuenta Pública donde se verán los Cierres definitivos de las obras de cada uno de los Comités del Presupuesto Participativo."]
[null,"'O21NR.1278","Rehabilitación del Nodo Cultural Toriello Guerra, espacio dedicado a las Artes en el Jardín Toriello en Centro de Reunión para toda la población Toriello Guerra con clave 12-180",0,0,729136,729136,729136,0,0,0,"Los trabajos se inciaron a finales del mes de noviembre;  se relizaron los procesos de elaboración de fichas, suficiencias, licitaciones y contrataciones por lo que será hasta la Cuenta Pública donde se verán los Cierres definitivos de las obras de cada uno de los Comités del Presupuesto Participativo."]
[null,"'O21NR.1279","Instalación de Alumbrado Público para toda la colonia en Valle de Tepepan con clave 12-183",0,0,407691,407691,407691,0,0,0,"Los trabajos se inciaron a finales del mes de noviembre;  se relizaron los procesos de elaboración de fichas, suficiencias, licitaciones y contrataciones por lo que será hasta la Cuenta Pública donde se verán los Cierres definitivos de las obras de cada uno de los Comités del Presupuesto Participativo."]
[null,"'O21NR.1280","Segunda Etapa: Recuperación Áreas Verdes y Suelo Permeable en Valle Escondio con 12-184",0,0,410785,410785,410785,0,0,0,"Los trabajos se inciaron a finales del mes de noviembre;  se relizaron los procesos de elaboración de fichas, suficiencias, licitaciones y contrataciones por lo que será hasta la Cuenta Pública donde se verán los Cierres definitivos de las obras de cada uno de los Comités del Presupuesto Participativo."]
[null,"'O21NR.1281","Remodelación total de la sección Parques Vergel de Coyoacán en Vergel de Coyoacán-Vergel del Sur con clave 12-188\n",0,0,436853,436853,436853,0,0,0,"Los trabajos se inciaron a finales del mes de noviembre;  se relizaron los procesos de elaboración de fichas, suficiencias, licitaciones y contrataciones por lo que será hasta la Cuenta Pública donde se verán los Cierres definitivos de las obras de cada uno de los Comités del Presupuesto Participativo."]
[null,"'O21NR.1282","Balizamiento para toda la colonia y velarías en el Parque  Paraje y Portillo, Villa Coapa (rdcial) con clave 12-191,\n",0,0,381710,381710,381710,0,0,0,"Los trabajos se inciaron a finales del mes de noviembre;  se relizaron los procesos de elaboración de fichas, suficiencias, licitaciones y contrataciones por lo que será hasta la Cuenta Pública donde se verán los Cierres definitivos de las obras de cada uno de los Comités del Presupuesto Participativo."]
[null,"'O21NR.1283","Rehabilitación el “Callejón Zapote” en Zapote-Luis Donaldo Colosio (U. Hab) con clave 12-204",0,0,320331,320331,320331,0,0,0,"Los trabajos se inciaron a finales del mes de noviembre;  se relizaron los procesos de elaboración de fichas, suficiencias, licitaciones y contrataciones por lo que será hasta la Cuenta Pública donde se verán los Cierres definitivos de las obras de cada uno de los Comités del Presupuesto Participativo."]
[null,"'O21NR.1284","Pavimentación en la calle Poniente Padilla (AMSA) con clave 12-005",0,0,352099,352099,352099,0,0,0,"Los trabajos se inciaron a finales del mes de noviembre;  se relizaron los procesos de elaboración de fichas, suficiencias, licitaciones y contrataciones por lo que será hasta la Cuenta Pública donde se verán los Cierres definitivos de las obras de cada uno de los Comités del Presupuesto Participativo."]
[null,"'O21NR.1285","Reencarpetamiento en la Calle del Fraccionamiento Rinconada Coapa 2ª sección, Coapa 2ª. sección-Ramos Millán con clave 12-024",0,0,404171,404171,404171,0,0,0,"Los trabajos se inciaron a finales del mes de noviembre;  se relizaron los procesos de elaboración de fichas, suficiencias, licitaciones y contrataciones por lo que será hasta la Cuenta Pública donde se verán los Cierres definitivos de las obras de cada uno de los Comités del Presupuesto Participativo."]
[null,"'O21NR.1286","Pavimentación calle Alta Tensión en Dolores Tlali con clave 12-034",0,0,333056,333056,333056,0,0,0,"Los trabajos se inciaron a finales del mes de noviembre;  se relizaron los procesos de elaboración de fichas, suficiencias, licitaciones y contrataciones por lo que será hasta la Cuenta Pública donde se verán los Cierres definitivos de las obras de cada uno de los Comités del Presupuesto Participativo."]
[null,"'O21NR.1287","Repavimentar en Calle Sebastián Lerdo de Tejada, Jardinez Coapa-Belisario DomÍnguez con clave 12-064",0,0,341311,341311,341311,0,0,0,"Los trabajos se inciaron a finales del mes de noviembre;  se relizaron los procesos de elaboración de fichas, suficiencias, licitaciones y contrataciones por lo que será hasta la Cuenta Pública donde se verán los Cierres definitivos de las obras de cada uno de los Comités del Presupuesto Participativo."]
[null,"'O21NR.1288","Instalación de postes luminarias de 7.5 metros en la colonia Lomas del Pedregal, Lomas del Pedregal con clave 12-085",0,0,332262,332262,332262,0,0,0,"Los trabajos se inciaron a finales del mes de noviembre;  se relizaron los procesos de elaboración de fichas, suficiencias, licitaciones y contrataciones por lo que será hasta la Cuenta Pública donde se verán los Cierres definitivos de las obras de cada uno de los Comités del Presupuesto Participativo."]
[null,"'O21NR.1289","Reencarpetado en Calle Tekax entre FFCC y Dzibalchen, Los Encinos con clave 12-087",0,0,425649,425649,425649,0,0,0,"Los trabajos se inciaron a finales del mes de noviembre;  se relizaron los procesos de elaboración de fichas, suficiencias, licitaciones y contrataciones por lo que será hasta la Cuenta Pública donde se verán los Cierres definitivos de las obras de cada uno de los Comités del Presupuesto Participativo."]
[null,"'O21NR.1290","Reencarpetado en Calle Cuauhtemoczin, Miguel hidalgo con clave 12-095",0,0,956256,956256,956256,0,0,0,"Los trabajos se inciaron a finales del mes de noviembre;  se relizaron los procesos de elaboración de fichas, suficiencias, licitaciones y contrataciones por lo que será hasta la Cuenta Pública donde se verán los Cierres definitivos de las obras de cada uno de los Comités del Presupuesto Participativo."]
[null,"'O21NR.1291","Pavimentación en la calle camino Antiguo a Xicalco y Confederación Nacional de la pequeña propiedad, a espaldas de la primaria, Plan de Ayala con clave 12-125",0,0,353837,353837,353837,0,0,0,"Los trabajos se inciaron a finales del mes de noviembre;  se relizaron los procesos de elaboración de fichas, suficiencias, licitaciones y contrataciones por lo que será hasta la Cuenta Pública donde se verán los Cierres definitivos de las obras de cada uno de los Comités del Presupuesto Participativo."]
[null,"'O21NR.1292","Rehabilitación de adoquín en la C. Gral. Aguirre y José de Jesús entre Fco. Villa y G. Lobo y Reacomodo en la C. Eulalio Gutiérrez entre Fco. Villa y G. Lobo, Rómulo Sánchez-San Fernando (Barr)-Peña Pobre con clave 12-146",0,0,342073,342073,342073,0,0,0,"Los trabajos se inciaron a finales del mes de noviembre;  se relizaron los procesos de elaboración de fichas, suficiencias, licitaciones y contrataciones por lo que será hasta la Cuenta Pública donde se verán los Cierres definitivos de las obras de cada uno de los Comités del Presupuesto Participativo."]
[null,"'O21NR.1293","Reencarpetado de la calle Francisco Villa en la colonia San Bartolo el Chico, San Bartolo el Chico con clave 12-148",0,0,416457,416457,416457,0,0,0,"Los trabajos se inciaron a finales del mes de noviembre;  se relizaron los procesos de elaboración de fichas, suficiencias, licitaciones y contrataciones por lo que será hasta la Cuenta Pública donde se verán los Cierres definitivos de las obras de cada uno de los Comités del Presupuesto Participativo."]
[null,"'O21NR.1294","Reacondicionamiento de la Carpeta Asfáltica en Tlalcoligia con clave 12-175",0,0,660092,660092,660092,0,0,0,"Los trabajos se inciaron a finales del mes de noviembre;  se relizaron los procesos de elaboración de fichas, suficiencias, licitaciones y contrataciones por lo que será hasta la Cuenta Pública donde se verán los Cierres definitivos de las obras de cada uno de los Comités del Presupuesto Participativo."]
[null,"'O21NR.1295","Pavimentación en la calle Poniente Padilla (AMSA) con clave 12-005",0,0,376413,376413,376413,0,0,0,"Los trabajos se inciaron a finales del mes de noviembre;  se relizaron los procesos de elaboración de fichas, suficiencias, licitaciones y contrataciones por lo que será hasta la Cuenta Pública donde se verán los Cierres definitivos de las obras de cada uno de los Comités del Presupuesto Participativo."]
[null,"'O21NR.1296","Reencarpetado de la avenida del Regidor en el Narciso Mendoza Villa Campo SM8 (U-H) (Narciso Mendoza Villa Coapa Supermanzana 8 (u hab)) (clave 12-217",0,0,379201,379201,379201,0,0,0,"Los trabajos se inciaron a finales del mes de noviembre;  se relizaron los procesos de elaboración de fichas, suficiencias, licitaciones y contrataciones por lo que será hasta la Cuenta Pública donde se verán los Cierres definitivos de las obras de cada uno de los Comités del Presupuesto Participativo."]
[null,"'O21NR.1300","Construcción de Resumidero en Esquina de C. Guadalupana (Tecatitla) con Cda. 2a. Tecatitla (La Guadalupana con clave 12-071",0,0,404466,404466,404466,0,0,0,"FAIS PRESUPUESTO PARTICIPATIVO DG: 65\nEstos recursos se contrataron a afinales de noviembre por lo cual no hay avance físico realizado y será hasta el Cierre de la Cuenta Pública del ejercicio 2021, donde se verá la meta realizada al 100% terminada"]
[null,"'O21NR.1301","Construcción de Drenaje en (La Joya con clave 12-072)",0,0,401676,401676,401676,0,0,0,"FAIS PRESUPUESTO PARTICIPATIVO DG: 65\nEstos recursos se contrataron a afinales de noviembre por lo cual no hay avance físico realizado y será hasta el Cierre de la Cuenta Pública del ejercicio 2021, donde se verá la meta realizada al 100% terminada"]
[null,"'O21NR.1302","Mantenimiento al Drenaje en toda la colonia\n (San Miguel Tehuisco-Los Ángeles-Ayometitla con clave 12-056)",0,0,413302,413302,413302,0,0,0,"FAIS PRESUPUESTO PARTICIPATIVO DG: 65\nEstos recursos se contrataron a afinales de noviembre por lo cual no hay avance físico realizado y será hasta el Cierre de la Cuenta Pública del ejercicio 2021, donde se verá la meta realizada al 100% terminada"]
[null,"'O21NR.1303","Construcción de Drenaje Pluvial con Pozo de Absorción o Cosecha de Agua en las calles Emiliano Zapata y callejón San Francisco (Villa Lázaro Cárdenas con clave 12-194) ",0,0,522113,522113,522113,0,0,0,"FAIS PRESUPUESTO PARTICIPATIVO DG: 65\nEstos recursos se contrataron a afinales de noviembre por lo cual no hay avance físico realizado y será hasta el Cierre de la Cuenta Pública del ejercicio 2021, donde se verá la meta realizada al 100% terminada"]
[null,"'O21NR.1424","Pavimentación de  todas las calles del Pueblo de San Andrés Totoltepec con clave 12-147",0,0,2247563,2247563,0,0,0,0,"Los trabajos se inciaron a finales del mes de noviembre;  se relizaron los procesos de elaboración de fichas, suficiencias, licitaciones y contrataciones por lo que será hasta la Cuenta Pública donde se verán los Cierres definitivos de las obras de cada uno de los Comités del Presupuesto Participativo."]
[null,"'O21NR.1425","Concluir con la construcción de gradas, barandales, baños  y todo lo necesario para que el ruedo este en funcionamiento en Prol. Vicente Guerrero y Comuneros, Ruedo de San Miguel Ajusco con clave 12-155",0,0,1288742,1288742,0,0,0,0,"Los trabajos se inciaron a finales del mes de noviembre;  se relizaron los procesos de elaboración de fichas, suficiencias, licitaciones y contrataciones por lo que será hasta la Cuenta Pública donde se verán los Cierres definitivos de las obras de cada uno de los Comités del Presupuesto Participativo."]
[null,"'O21NR.1426","Pavimentación asfáltica de todas las calles del Pueblo de San Miguel  Topilejo con clave 12-157",0,0,2026143,2026143,0,0,0,0,"Los trabajos se inciaron a finales del mes de noviembre;  se relizaron los procesos de elaboración de fichas, suficiencias, licitaciones y contrataciones por lo que será hasta la Cuenta Pública donde se verán los Cierres definitivos de las obras de cada uno de los Comités del Presupuesto Participativo."]
[null,"'O21NR.1427","Rehabilitación integral del kiosko e iluminación en toda la Plaza San Pedro Mártir con clave 12-160",0,0,1450856,1450856,0,0,0,0,"Los trabajos se inciaron a finales del mes de noviembre;  se relizaron los procesos de elaboración de fichas, suficiencias, licitaciones y contrataciones por lo que será hasta la Cuenta Pública donde se verán los Cierres definitivos de las obras de cada uno de los Comités del Presupuesto Participativo."]
[null,"'O21NR.1428","Mejoramiento de la Plaza de Toros techado de plaza, conformación del espacio con material ecológico y contrucción de baños públicos en  \nPuebloSanto Tomás Ajusco con Clave 12-163",0,0,1373368,1373368,0,0,0,0,"Los trabajos se inciaron a finales del mes de noviembre;  se relizaron los procesos de elaboración de fichas, suficiencias, licitaciones y contrataciones por lo que será hasta la Cuenta Pública donde se verán los Cierres definitivos de las obras de cada uno de los Comités del Presupuesto Participativo."]
[null,"'O21NR.1429","Pavimentación de todas las calles del \nPueblo de San Andrés Totoltepec con clave 12-147",0,0,2095269,2095269,0,0,0,0,"Los trabajos se inciaron a finales del mes de noviembre;  se relizaron los procesos de elaboración de fichas, suficiencias, licitaciones y contrataciones por lo que será hasta la Cuenta Pública donde se verán los Cierres definitivos de las obras de cada uno de los Comités del Presupuesto Participativo."]
[null,"'O21NR.1430","Concluir con la construcción de gradas, barandales, baños  y todo lo necesario para el ruedo este en: \nfuncionamiento Prol. Vicente Guerrero y Comuneros, Ruedo de San Miguel Ajusco con clave 12-155 2° Etapa",0,0,1251369,111391,0,0,0,0,"Los trabajos se inciaron a finales del mes de noviembre;  se relizaron los procesos de elaboración de fichas, suficiencias, licitaciones y contrataciones por lo que será hasta la Cuenta Pública donde se verán los Cierres definitivos de las obras de cada uno de los Comités del Presupuesto Participativo."]
[null,"'O21NR.1431","Pavimentación asfáltica de todas las calles del \nPueblo de San Miguel Topilejo con clave 12-157",0,0,1987695,1536594,0,0,0,0,"Los trabajos se inciaron a finales del mes de noviembre;  se relizaron los procesos de elaboración de fichas, suficiencias, licitaciones y contrataciones por lo que será hasta la Cuenta Pública donde se verán los Cierres definitivos de las obras de cada uno de los Comités del Presupuesto Participativo."]
[null,"'O21NR.1432","Lamparas de led en calle 5 de mayo entre Arboledas hasta carretera federal Mexico-Cuernavaca (San Pedro Mártir Pblo) con Clave 12-160",0,0,1388261,1388261,0,0,0,0,"Los trabajos se inciaron a finales del mes de noviembre;  se relizaron los procesos de elaboración de fichas, suficiencias, licitaciones y contrataciones por lo que será hasta la Cuenta Pública donde se verán los Cierres definitivos de las obras de cada uno de los Comités del Presupuesto Participativo."]
[null,"'O21NR.1433","Mejoramiento de la Plaza de Toros, techado de plaza conformación del \nespacio con material ecologico y contrucción de baños públicos con Clave 12-163",0,0,1398822,1398822,0,0,0,0,"Los trabajos se inciaron a finales del mes de noviembre;  se relizaron los procesos de elaboración de fichas, suficiencias, licitaciones y contrataciones por lo que será hasta la Cuenta Pública donde se verán los Cierres definitivos de las obras de cada uno de los Comités del Presupuesto Participativo."]
[null,"'O21NR.1435","Rampas para personas con discapacidad en \nla Colonia Conjunto Urbano Cuemanco con clave 12-027",0,0,334553,334553,0,0,0,0,"Los trabajos se inciaron a finales del mes de noviembre;  se relizaron los procesos de elaboración de fichas, suficiencias, licitaciones y contrataciones por lo que será hasta la Cuenta Pública donde se verán los Cierres definitivos de las obras de cada uno de los Comités del Presupuesto Participativo."]
[null,"'O21NR.1436","Pavimentación asfáltica de \nla Calle Ignacio Chavéz dentro de la Unidad Ignacio Chavéz  con clave 12-059",0,0,328881,328881,0,0,0,0,"Los trabajos se inciaron a finales del mes de noviembre;  se relizaron los procesos de elaboración de fichas, suficiencias, licitaciones y contrataciones por lo que será hasta la Cuenta Pública donde se verán los Cierres definitivos de las obras de cada uno de los Comités del Presupuesto Participativo."]
[null,"'O21NR.1437","Reconstrucción de dos casetas de vigilancia en\n la  Unidad habitacional Tenorios Infonavit 1 y 2 con Clave 12-168",0,0,367102,367102,0,0,0,0,"Los trabajos se inciaron a finales del mes de noviembre;  se relizaron los procesos de elaboración de fichas, suficiencias, licitaciones y contrataciones por lo que será hasta la Cuenta Pública donde se verán los Cierres definitivos de las obras de cada uno de los Comités del Presupuesto Participativo."]
[null,"'O21NR.1438","Pavimentación asfáltica del acceso principal y area de estacionamiento en \nTenorios número 123 con clave 12-182",0,0,319764,319764,0,0,0,0,"Los trabajos se inciaron a finales del mes de noviembre;  se relizaron los procesos de elaboración de fichas, suficiencias, licitaciones y contrataciones por lo que será hasta la Cuenta Pública donde se verán los Cierres definitivos de las obras de cada uno de los Comités del Presupuesto Participativo."]
[null,"'O21NR.1439","Pavimentación asfáltica de \nlas calles Rinconada Fresales y Fresales en Villa del Puente Fovisstte con clave 12-193",0,0,304208,304208,0,0,0,0,"Los trabajos se inciaron a finales del mes de noviembre;  se relizaron los procesos de elaboración de fichas, suficiencias, licitaciones y contrataciones por lo que será hasta la Cuenta Pública donde se verán los Cierres definitivos de las obras de cada uno de los Comités del Presupuesto Participativo."]
[null,"'O21NR.1440","Banquetas en toda la Unidad en\nVilla Olimpica Liberador Miguel Hidalgo U Hab con clave 12-195",0,0,362542,362542,0,0,0,0,"Los trabajos se inciaron a finales del mes de noviembre;  se relizaron los procesos de elaboración de fichas, suficiencias, licitaciones y contrataciones por lo que será hasta la Cuenta Pública donde se verán los Cierres definitivos de las obras de cada uno de los Comités del Presupuesto Participativo."]
[null,"'O21NR.1441","Mantenimiento general para toda la  \nResidencial Fuentes de Cantera (Unidad Habitacional) con Clave 12-223",0,0,306396,306396,0,0,0,0,"Los trabajos se inciaron a finales del mes de noviembre;  se relizaron los procesos de elaboración de fichas, suficiencias, licitaciones y contrataciones por lo que será hasta la Cuenta Pública donde se verán los Cierres definitivos de las obras de cada uno de los Comités del Presupuesto Participativo."]
[null,null,"Total URG ",null,{"$f":"SUM(E9:E193)","v":519615361},{"$f":"SUM(F9:F193)","v":339063965.62},335448554.31999993,318816858.54999995,123721195.95,98543919.810000002,77010197.609999999]

{"sheet":"PPA20","index":18,"n_rows":90,"n_cols":18,"rows_kept":90,"cut":false,"hidden":false,"merged":[[8,9,9,9],[8,10,9,10],[8,16,9,16],[8,17,9,17],[8,4,8,5],[8,6,8,7],[8,11,9,11],[8,12,9,12],[8,13,9,13],[8,14,9,14],[8,15,9,15],[8,0,9,0],[8,1,9,1],[4,4,4,17],[5,4,5,17],[1,2,1,17],[7,8,9,8],[7,9,7,16],[2,2,2,17],[7,2,7,3],[7,4,7,7],[3,2,3,3],[4,2,4,3],[5,2,5,3],[3,4,3,17],[8,2,9,2],[8,3,9,3]]}
[]
[null,null,"PPA PRESUPUESTO PARTICIPATIVO "]
[]
[null,null,"Alcaldía:"]
[null,null,"Período: ",null,{"$f":"Caratula!I17","v":" "}]
[null,null,"Ejercicio:",null,2020]
[]
[null,null,"UNIDAD TERRITORIAL",null,"PROYECTO",null,null,null,"AVANCE EN LA EJECUCIÓN DEL\n PROYECTO\n (%)","PRESUPUESTO\n(Pesos con dos decimales)",null,null,null,null,null,null,null,"AVANCE PRESUPUESTAL\n%"]
["NO. CONSECUTIVO","NO. DE PROYECTO","CLAVE","DENOMINACIÓN","GANADOR",null,"SUSTITUTO",null,null,"CAPÍTULO DE GASTO","APROBADO","MODIFICADO","EJERCIDO","SALDO DEL\nCOMPROMISO","DEVENGADO","PAGADO","EJERCIDO + COMPROMETIDO","(SALDO DEL COMPROMISO +EJERCIDO /MODIFICADO *100"]
[null,null,null,null,"NÚMERO","NOMBRE","OFICIO AUTORIZACIÓN","NOMBRE"]
[1,"O.21NR.01163","12-002,","Ampliacion Miguel Hidalgo 2a Secc.",null,"Remodelacion y mejoramiento del parque busto de juarez 2021",null,null,0,6000,1004156,1004156,0,0,0,0,0,0]
[2,"O.21NR.01164","12-005,","AMSA",null,"Pavimemtacion de calle poniente",null,null,0,6000,344107,344107,0,0,0,0,0,0]
[3,"O.21NR.01165","12-007,","Arboledas del Sur",null,"Iuminación del parque \"concordia\" ubicado en la calle río san buenaventura y cerrada río san buenaventura",null,null,0,6000,483912,483912,0,0,0,0,0,0]
[4,"O.21NR.01166","12-008,","Arenal Guadalupe Tlalpan",null,"Pavimentación calle alta tensión",null,null,0,6000,421186,421186,0,0,0,0,0,0]
[5,"O.21NR.01167","12-009,","Arenal Puerta Tepepan",null,"Embellecer el Camellon de Prolongación Canal de Miramontes, desde calle Escuela a glorieta de Vaqueritos Ex \n\n\n\n",null,null,0,6000,358047,358047,0,0,0,0,0,0]
[6,"O.21NR.01195","12-011,","Ayocatitla, Asunción",null,"Cambio de sistema de alumbrado de la colonia",null,null,0,6000,369220,369220,0,0,0,0,0,0]
[7,"O.21NR.01197","12-069,","La Lonja",null,"Construccion de cisterna para captacion de agua pluvial para riego del parque los Ilusos.",null,null,0,6000,403182,403182,0,0,0,0,0,0]
[8,"O.21NR.01168","12-013,","Belvedere",null,"Embellecimiento del camellón de calzada del hueso y restitución del retorno.",null,null,0,6000,574522,574522,0,0,0,0,0,0]
[9,"O.21NR.01169","12-018,","Cantera Puente De Piedra",null,"Remodelación, Demolición, Ampliación, Construcción y Acabados del Salón de Usos Múltiples con baños y oficina",null,null,0,6000,520317,520317,0,0,0,0,0,0]
[10,"O.21NR.01212","12-020,","Chimalcoyoc",null,"Banqueta para caminar seguro en camino a la marina",null,null,0,6000,553682,553682,0,0,0,0,0,0]
[11,"O.21NR.01210","12-022,","Chimilli",null,"Reencarpetado de la calle Sebastián Lerdo de Tejada",null,null,0,6000,448742,448742,0,0,0,0,0,0]
[12,"O.21NR.01200","12-093,","Coapa-Villa Cuemanco",null,"Construcción de salón de usos múltiples en calle caoba",null,null,0,6000,393728,393728,0,0,0,0,0,0]
[13,"O.21NR.01170","12-029,","Cruz Del Farol",null,"Resumidero en Esquina de C. Guadalupana (Tecatitla) con Cda. 2a. Tecatitla\n\n\n\n",null,null,0,6000,409324,409324,0,0,0,0,0,0]
[14,"O.21NR.01172","12-033,","Diamante",null,"Construcción de un paso peatonal sobre el rio temporal \n\n\n\n",null,null,0,6000,366848,366848,0,0,0,0,0,0]
[15,"O.21NR.01173","12-042,","Ex Hacienda San Juan De Dios",null,"Andador peatonal en parada la palma desde retorno la palma, hasta la capilla nuestra señora de guadalupe, calle oyamel",null,null,0,6000,520673,520673,0,0,0,0,0,0]
[16,"O.21NR.01174","12-043,","Floresta-Prado-Vergel Coapa",null,"Bancas para descanso, reforestación y balizamiento para las calles de la colonia la primavera",null,null,0,6000,444300,444300,0,0,0,0,0,0]
[17,"O.21NR.01231","12-047","Fuentes Brotantes Miguel Hidalgo (U Hab)",null,"Nueva red de agua potable en calle cerrada de paseo de los limoneros",null,null,0,6000,556054,556054,0,0,0,0,0,0]
[18,"O.21NR.01175","12-049,","Fuentes Del Pedregal",null,"Ampliar, Acondicionar y Embellecer el área que se Propone y Equipar con Juegos Infantiles para sana recreación y esparcimiento en un ambiente apacible\n\n\n\n",null,null,0,6000,605251,605251,0,0,0,0,0,0]
[19,"O.21NR.01211","12-048,","Fuentes Y Pedregal De Tepepan",null,"Arco de piedra para reconocimiento de la colonia",null,null,0,6000,513969,513969,0,0,0,0,0,0]
[20,"O.21NR.01159","12-050,","Granjas Coapa",null,"Reencarpetamiento de la calle chalpultenango de f.f.c.c. a cuernavaca a hecelchacan",null,null,0,6000,482598,482598,0,0,0,0,0,0]
[21,"O.21NR.01176","12-051,","Granjas Coapa Oriente",null,"Continuación de la barda de contención del centro comunitario \n\n\n\n\n",null,null,0,6000,371411,371411,0,0,0,0,0,0]
[22,"O.21NR.01177","12-053,","Hacienda San Juan-Rincon De San Juan-Chimali",null,"Remodelación y Nivelación de Banquetas en Calle Sauzales, con Bolardos en las esquinas\n\n\n\n",null,null,0,6000,541199,541199,0,0,0,0,0,0]
[23,"O.21NR.01196 ","12-064,","Jardines Coapa-Belisario Dominguez",null,"Reencarpetado calle cuauhtemotzin",null,null,0,6000,354466,354466,0,0,0,0,0,0]
[24,"O.21NR.01198","12-071,","La Guadalupana",null,"Adecuación del módulo de alheña de la colonia movimiento organizado de tlalpan, como módulo multifuncional",null,null,0,6000,399827,399827,0,0,0,0,0,0]
[25,"O.21NR.01199","12-073,","La Libertad - Ixtlahuaca",null,"Recuperación del parque del niño jesús para rehabilitarlo para recreación y paseo de perros",null,null,0,6000,333828,333828,0,0,0,0,0,0]
[26,"O.21NR.01178","12-075,","La Palma",null,"Luminarias led - mejora de la iluminacion de la colonia",null,null,0,6000,411551,411551,0,0,0,0,0,0]
[27,"O.21NR.01179","12-079,","Lomas Altas De Padierna Sur",null,"Pasto en cancha de footbol rápido y acondicionar cancha de basquetbol, para hacerla de volibol, cuando se requiera, en deportivo Ismael Resendiz",null,null,0,6000,571153,571153,0,0,0,0,0,0]
[28,"O.21NR.01162","12-212,","Lomas De Padierna Ii",null,"Pavimentación para la calle camino antiguo a xicalco y confederación nacional de la pequeña propiedad, a espaldas de la primaria.",null,null,0,6000,847882,847882,0,0,0,0,0,0]
[29,"O.21NR.01180","12-085,","Lomas Del Pedregal",null,"Se propone un sistema de reciclaje de aguas grises para rancho los colorines",null,null,0,6000,341072,341072,0,0,0,0,0,0]
[30,"O.21NR.01181","12-092,","Ma Esther Zuno De Echeverria-Tlalpuente",null,"Encarpetado de la calle Francisco Villa en la colonia san Bartolo el Chico",null,null,0,6000,391084,391084,0,0,0,0,0,0]
[31,"O.21NR.01160","12-100,","Mirador I",null,"Drenaje en toda la colonia",null,null,0,6000,388903,388903,0,0,0,0,0,0]
[32,"O.21NR.01230","12-217,","Narciso Mendoza Villa Coapa Supermanzana 8 (U Hab)",null,"Construcción de jardineras en las banquetas, pintar todas las fachadas, pintar guarniciones y señalamientos. colocar nombre de calles",null,null,0,6000,393659,393659,0,0,0,0,0,0]
[33,"O.21NR.01182","12-109,","Nueva Oriental Coapa-Ex Hacienda Coapa",null,"'Instalación de Luminarias Públicas con Paneles Solares Integrados para mayor seguridad\n\n\n\n\n\n",null,null,0,6000,503636,503636,0,0,0,0,0,0]
[34,"O.21NR.01201","12-114,","Parques Del Pedregal",null,"Reacondicionamiento de la carpeta asfáltica",null,null,0,6000,423678,423678,0,0,0,0,0,0]
[35,"O.21NR.01184","12-119,","Pedregal De Sn Nicolas 3a Secc",null,"Segunda etapa: recuperación áreas verdes y suelo permeable",null,null,0,6000,906433,906433,0,0,0,0,0,0]
[36,"O.21NR.01202","12-124,","Piedra Larga",null,"Drenaje Pluvial con Pozo de absorción o cosecha de agua en las calles Emiliano Zapata y Callejón San Francisco",null,null,0,6000,314463,314463,0,0,0,0,0,0]
[37,"O.21NR.01185","12-125,","Plan De Ayala",null,"Obras de termino y equipamiento, planta alta centro comunitario",null,null,0,6000,349182,349182,0,0,0,0,0,0]
[38,"O.21NR.01186","12-127,","Popular Sta Teresa",null,"Pavimentación en toda la calle cerezos desde cerrada y hasta el final",null,null,0,6000,635527,635527,0,0,0,0,0,0]
[39,"O.21NR.01203","12-130,","Prado Coapa 2a Seccion",null,"Reencarpetado de la avenida del regidor en la narciso mendoza villa campo sm 8 (u-h)",null,null,0,6000,394615,394615,0,0,0,0,0,0]
[40,"O.21NR.01187","12-131,","Prado Coapa 3a Seccion-Potrero Acoxpa",null,"Rehabilitación de Red Hidráulica",null,null,0,6000,415734,415734,0,0,0,0,0,0]
[41,"O.21NR.01188","12-133,","Pueblo Quieto",null,"Cambio de válvulas de distribución de agua del cuarto de bombas ",null,null,0,6000,354764,354764,0,0,0,0,0,0]
[42,"O.21NR.01204","12-137,","Real Del Sur-Villas Del Sur-Residencial Acoxpa",null,"Mantenimiento al Salón de Usos Múltiples para Actividades Físicas y Manuales para personas de la tercera edad. jóvenes, adultos y niños",null,null,0,6000,385732,385732,0,0,0,0,0,0]
[43,"O.21NR.01189","12-142,","Rincon Las Hadas-Villa Royale-Fuentes Y Arconada Coapa",null,"Rehabilitación e Innovación 'San Fernando calle Nueva Tlalpan ",null,null,0,6000,351748,351748,0,0,0,0,0,0]
[44,"O.21NR.01190","12-174,","Tezontitla - El Calvario (Ampl)",null,"Techado de las Canchas 'Yaxcaba y Tixkokon, ",null,null,0,6000,298949,298949,0,0,0,0,0,0]
[45,"O.21NR.01205","12-175,","Tlalcoligia",null,"Mantenimiento de 30 luminarias sub urbanas de led´s con poste metálico de 6 metros y brazo de 1 metro 'Ampliación la Venta, ",null,null,0,6000,685565,685565,0,0,0,0,0,0]
[46,"O.21NR.01206","12-180,","Toriello Guerra",null,"Mantenimiento de Alumbrado Público en toda la colonia ",null,null,0,6000,750988,750988,0,0,0,0,0,0]
[47,"O.21NR.01191","12-184,","Valle Escondido",null,"Rehabilitación y Mantenimiento de Alumbrado ",null,null,0,6000,450897,450897,0,0,0,0,0,0]
[48,"O.21NR.01207","12-188,","Vergel De Coyoacan-Vergel Del Sur",null,"Instalación de Luminarias de Última Generación para Proyecto de Iluminación Especial en toda la colonia: seguridad, cuidado ambiental y recuperación de espacios ",null,null,0,6000,450333,450333,0,0,0,0,0,0]
[49,"O.21NR.01192","12-191,","Villa Coapa (Rdcial)",null,"Instalación de Luminarias Led de 100 watts en zonas necesarias (postes de la súper manzana 6) ",null,null,0,6000,387417,387417,0,0,0,0,0,0]
[50,"O.21NR.01227","12-193,","Villa Del Puente Fovissste (U Hab)",null,"Instalación de Postes de 7.5 m en la colonia ",null,null,0,6000,318383,318383,0,0,0,0,0,0]
[51,"O.21NR.01193","12-194,","Villa Lazaro Cardenas",null,"Instalación de Alumbrado Público para toda la colonia ",null,null,0,6000,532959,532959,0,0,0,0,0,0]
[52,"O.21NR.01194","12-198,","Vistas Del Pedregal",null,"Cierre del Cruce entre calle Reforma Agraria y Viaducto Tlalpan ",null,null,0,6000,352370,352370,0,0,0,0,0,0]
[53,"O.21NR.01208","12-199","Viveros De Coactetlan",null,"Reparación de Banquetas y Nivelación de andadores ",null,null,0,6000,432927,432927,0,0,0,0,0,0]
[54,"O.21NR.01161","12-200,","Xaxalco",null,"Reencarpetamiento en la Calle ",null,null,0,6000,444900,444900,0,0,0,0,0,0]
[55,"O.21NR.01209","12-201,","Xaxalipac",null,"Reencarpetado 'Calle Tekax entre FFCC y Dzibalchen, ",null,null,0,6000,376223,376223,0,0,0,0,0,0]
[56,"O.21NR.01229","12-204,","Zapote-Luis Donaldo Colosio (U Habs)",null,"Cambio de adoquín 'C. Gral. Aguirre y José de Jesús entre Fco. Villa y G. Lobo y Reacomodo en la C. Eulalio Gutiérrez entre Fco. Villa y G. Lobo",null,null,0,6000,337910,337910,0,0,0,0,0,0]
[57,"O.21NR.01226","12-168","Tenorios INFONAVIT 1 Y 2  (U.H.)",null," Parque para las Madres ",null,null,0,6000,388492,388492,0,0,0,0,0,0]
[58,"O.21NR.01228","12-195","Unidad Villa Olimpica Libertador Miguel Hidalgo (U. Hab) ",null,"Recuperación de espacios públicos y colocación de malla con protección con tubulares y refuerzos",null,null,0,6000,372362,372362,0,0,0,0,0,0]
[59,"O.21NR.01221","12-104","Narciso Mendoza-Villa Coapa Súper Manzana 2 (u hab) ",null,"Hacer Camellón Central  'calle Lacandones",null,null,0,6000,433885,433885,0,0,0,0,0,0]
[60,"O.21NR.01224","12-139","Residencial Insurgentes Sur (u hab))",null,"Colocación de Protecciones de Jardineras",null,null,0,6000,359000,359000,0,0,0,0,0,0]
[61,"O.21NR.01213","12-025","Colinas del Bosque-Las Tórtolas",null,"Construcción de Drenaje ",null,null,0,6000,347278,347278,0,0,0,0,0,0]
[62,"O.21NR.01222","12-107","U.H. Narciso Mendoza-Villa Coapa súper manzana 7 (U. Hab.)",null,"Nodo cultural toriello guerra. espacio dedicado para las artes en el jardin toriello. centro de reunión para toda la poblacion.",null,null,0,6000,435714,435714,0,0,0,0,0,0]
[63,"O.21NR.01214","12-026","Condominio del Bosque (fracc.)-Bosque de Tlalpan",null,"Remodelación total de la sección Parques Vergel de Coyoacán",null,null,0,6000,329577,329577,0,0,0,0,0,0]
[64,"O.21NR.01216","12-027","Conjunto Urbano Cuemanco (u. hab)",null,"Balizamiento para toda la colonia y velarias para el Parque (Paraje Portillo)",null,null,0,6000,340348,340348,0,0,0,0,0,0]
[65,"O.21NR.01225","12-164","Sauzales Cebadales (u hab)",null,"Resacte del Callejón Zapote",null,null,0,6000,346835,346835,0,0,0,0,0,0]
[66,"O.21NR.01219","12-057","Hueso Periférico-ISSSFAM No. 7 (U. Habs)",null,"Rampas para personas con discapacidad en la Colonia ",null,null,0,6000,399413,399413,0,0,0,0,0,0]
[67,"O.21NR.01220","12-059","Ignacio Chávez (u hab)",null,"Banquetas en toda la Unidad",null,null,0,6000,338479,338479,0,0,0,0,0,0]
[68,"O.21NR.01171","12-031"," Cuilotepec II",null,"Mantenimiento general para toda la  Residencial Fuentes de Cantera ",null,null,0,6000,304527,304527,0,0,0,0,0,0]
[69,"O.21NR.01183","12-111","Ocotla-Ocotla Chico",null,"Pavimentación de todas las calles ",null,null,0,6000,343101,343101,0,0,0,0,0,0]
[70,"O.21NR.01215","12-218","Conjunto Habitacional Pedregal del Lago",null,"Concluir con la construcción de gradas, barandales, baños  y todo lo necesario para el ruedo este en funcionamiento Prol. Vicente Guerrero y Comuneros",null,null,0,6000,336056,336056,0,0,0,0,0,0]
[71,"O.21NR.01217","12-040","Emilio portes Gil Pemex Picacho (U. Hab) ",null,"Pavimentación asfáltica de todas las calles ",null,null,0,6000,408917,408917,0,0,0,0,0,0]
[72,"O.21NR.01223","12-136","Rancho los Colorines (fracc)",null,"Lamparas de led en calle 5 de mayo entre Arboledas hasta carretera federal Mexico-Cuernavaca",null,null,0,6000,313832,313832,0,0,0,0,0,0]
[73,"O.21NR.01424\nPueblos","12-147","Pueblo de San Andrés Totoltepec ",null,"Mejoramiento de la Plaza de Toros, techado de plaza conformación del espacio con material ecologico y contrucción de baños públicos",null,null,0,6000,2247563,2247563,0,0,0,0,0,0]
[74,"O.21NR.01425\nPueblos","12-155","Prol. Vicente Guerrero y Comuneros, Ruedo de San Miguel Ajusco ",null,"Pavimentación asfáltica de la Calle",null,null,0,6000,1288742,1288742,0,0,0,0,0,0]
[75,"O.21NR.01426\nPueblos","12-157","Pueblo de San Miguel  Topilejo",null,"Pavimentación asfáltica del acceso principal y area de estacionamiento",null,null,0,6000,2026143,2026143,0,0,0,0,0,0]
[76,"O.21NR.01427\nPueblos","12-160","San Pedro Mártir",null,"Pavimentación asfáltica ",null,null,0,6000,1450856,1450856,0,0,0,0,0,0]
[77,"O.21NR.01428\nPueblos","12-163","Santo Tomás Ajusco Pueblo",null,"Reconstrucción de dos casetas de vigilancia ",null,null,0,6000,1373368,1373368,0,0,0,0,0,0]
[]
[null,null,null,null,null,null,null,null,null,null,{"$f":"SUM(K11:K88)","v":40159674},{"$f":"SUM(L11:L88)","v":40159674}]
[null,null,"Al periodo aún cuando ya se cuentan con proyectos de inversión subidos en sistema GRP, no se cuentan con avances físicos debido a que se contratarona finales del mes de noviembre por lo que apenas se encuentran en proceso de incio de trabajos, los cuales se verán reflejados en el Cierre de Cuenta Pública del Ejercicio 2021"]

{"sheet":"PPA21","index":19,"n_rows":90,"n_cols":18,"rows_kept":90,"cut":false,"hidden":false,"merged":[[8,12,9,12],[8,13,9,13],[8,14,9,14],[5,2,5,3],[5,4,5,17],[7,2,7,3],[7,4,7,7],[7,8,9,8],[7,9,7,16],[8,2,9,2],[8,3,9,3],[8,4,8,5],[8,6,8,7],[8,15,9,15],[8,16,9,16],[8,17,9,17],[1,2,1,17],[2,2,2,17],[3,2,3,3],[3,4,3,17],[4,2,4,3],[4,4,4,17],[8,0,9,0],[8,1,9,1],[8,9,9,9],[8,10,9,10],[8,11,9,11]]}
[]
[null,null,"PPA PRESUPUESTO PARTICIPATIVO "]
[]
[null,null,"Alcaldía:"]
[null,null,"Período: ",null,{"$f":"Caratula!I17","v":" "}]
[null,null,"Ejercicio:",null,2021]
[]
[null,null,"UNIDAD TERRITORIAL",null,"PROYECTO",null,null,null,"AVANCE EN LA EJECUCIÓN DEL\n PROYECTO\n (%)","PRESUPUESTO\n(Pesos con dos decimales)",null,null,null,null,null,null,null,"AVANCE PRESUPUESTAL\n%"]
["NO. CONSECUTIVO","NO. DE PROYECTO","CLAVE","DENOMINACIÓN","GANADOR",null,"SUSTITUTO",null,null,"CAPÍTULO DE GASTO","APROBADO","MODIFICADO","EJERCIDO","SALDO DEL\nCOMPROMISO","DEVENGADO","PAGADO","EJERCIDO + COMPROMETIDO","(SALDO DEL COMPROMISO +EJERCIDO /MODIFICADO *100"]
[null,null,null,null,"NÚMERO","NOMBRE","OFICIO AUTORIZACIÓN","NOMBRE"]
[1,"O.21NR.01246","12-002","Ampliacion Miguel Hidalgo 2a secc",null,"Remodelacion y mejoramiento del parque busto de juarez 2020",null,null,0,0,1038834,1038834,0,0,0,0,0,0]
[2,"O.21NR.01284","12-005","A.M.S.A.",null,"Arreglos y compostura del Parque \"Martín Torres Padilla\"",null,null,0,0,352099,352099,0,0,0,0,0,0]
[3,"O.21NR.01247","12-009","Arenal Puerta Tepepan",null,"Banquetas de Calidad",null,null,0,0,356448,356448,0,0,0,0,0,0]
[4,"O.21NR.01286","12-034","Dolores Tlali",null,"Barreras anti inundación y válvulas check para reducir la vulnerabilidad y el riesgo de inundación y pérdida del patrimonio en col guadalupe tla",null,null,0,0,333056,333056,0,0,0,0,0,0]
[5,"O.21NR.01249","12-042","Ex hacienda San Juan de Dios",null,"Recuperación del área verde de la calle río san buenaventura con esquina periférico sur",null,null,0,0,512105,512105,0,0,0,0,0,0]
[6,"O.21NR.01250","12-043","Floresta-Prado-Vergel Coapa",null,"Pavimentación asfáltica de las calles primarias prolongación santa cruz y Ayocatitla en la colonia Ayocatitla/asunción las cuales se unifican adel",null,null,0,0,417912,417912,0,0,0,0,0,0]
[7,"O.21NR.01251","12-049","Fuentes del Pedregal",null,"Reencarpetamiento de la calle Iztaccihuatl",null,null,0,0,606944,606944,0,0,0,0,0,0]
[8,"O.21NR.01252","12-051","Granjas Coapa Oriente",null,"Rescate de área verde de la colonia belvedere para habilitar un pabellón para actividades culturales y ecológicas, juegos lúdicos y bancas.",null,null,0,0,374300,374300,0,0,0,0,0,0]
[9,"O.21NR.01239","12-053","Hacienda San Juan-Rincón de San Juan-Chimali",null,"Espacio cultural y educativo abierto en Acalzala para todos en Cantera Puente. de Piedra, proyecto sostenible amigable con el medio ambiente 1ra. Etapa",null,null,0,0,545724,545724,0,0,0,0,0,0]
[10,"O.21NR.01253","12-055","Héroes de 1910",null,"Reparación y rehabitación de rampas de acceso principales para vehículos",null,null,0,0,340952,340952,0,0,0,0,0,0]
[11,"O.21NR.01287","12-064","Jardines Coapa-Belisario Dominguez",null,"Construcción de tanque de captación de aguas pluviales en solidaridad",null,null,0,0,341311,341311,0,0,0,0,0,0]
[12,"O.21NR.01268","12-068","Juventud Unida",null,"Reencarpetado de la calle 3a cerrada Cañaverales. Col. Magisterial",null,null,0,0,339784,339784,0,0,0,0,0,0]
[13,"O.21NR.01300\nFONDO: FAIS","12-071","La Guadalupana",null,"Instalación de corredor recreativo ecológico",null,null,0,0,404466,404466,0,0,0,0,0,0]
[14,"O.21NR.01258","12-073","La Libertad - Ixtlahuaca",null,"Continuidad del techado de cancha deportiva de la colonia 2020.",null,null,0,0,328062,328062,0,0,0,0,0,0]
[15,"O.21NR.01259","12-075","La Palma",null,"Rehabilitación de juegos infantiles y colocación de nuevos juegos (camellón prolongación canal de Miramontes)",null,null,0,0,396598,396598,0,0,0,0,0,0]
[16,"O.21NR.01260","12-076","La Primavera",null,"Concluir de manera correcta los proyectos inconclusos de 2017, 2018 y 2019. Construir un huerto urbano y arreglar las banquetas",null,null,0,0,391035,391035,0,0,0,0,0,0]
[17,"O.21NR.01297","12-077","La Tortuga Xolalpa-Hco Colegio Militar",null,"Sustitución y mantenimiento a la red de distribución de agua potable incluyendo tubería, válvulas, y lo necesario para su funcionamiento.",null,null,0,0,487189,487189,0,0,0,0,0,0]
[18,"O.21NR.01261","12-079","Lomas Altas de Padierna Sur",null,"Reparación y recuperación de la fuente del parque los ilusos en la colonia fuentes del pedregal",null,null,0,0,560910,560910,0,0,0,0,0,0]
[19,"O.21NR.01262","12-082","Lomas de Padierna (Ampl)",null,"Sustitución de red de agua potable y tomas, por las calles prolongación de Abasolo, fuentes buenas y calles perpendiculares a ésta",null,null,0,0,298611,298611,0,0,0,0,0,0]
[20,"O.21NR.01288","12-085","Lomas del Pedregal",null,"Salón de usos múltiples",null,null,0,0,332262,332262,0,0,0,0,0,0]
[21,"O.21NR.01241","12-092","Ma Esther Zuno de Echeverria-Ttlalpuente",null,"Embellecimiento del camellón de Calzada del Hueso y restitución del retorno.",null,null,0,0,403053,403053,0,0,0,0,0,0]
[22,"O.21NR.01264","12-093","Coapa-Villa Cuemanco",null,"Recuperación, mantenimiento y rescate de los parques de la colonia 1) el ubicado entre prolongación canal de Miramontes entre Xomali y Transmisiones.",null,null,0,0,380396,380396,0,0,0,0,0,0]
[23,"O.21NR.01290","12-095","Miguel Hidalgo",null,"Terminación de reencarpetado de la calle dr. Atl.",null,null,0,0,956256,956256,0,0,0,0,0,0]
[24,"O.21NR.01242","12-102","Movimiento Organizado de Tlalpan-el Mirador (Rncda)",null,"Continuación de la pavimentación en la colonia en camino los arcos desde camino vecinal hasta la Cerrada del Camino de los Arcos",null,null,0,0,319770,319770,0,0,0,0,0,0]
[25,"O.21NR.01240","12-108","Niño Jesús (Barr)",null,"Pavimentación de c. Francisco Javier Mina y c. Mariano Abasolo",null,null,0,0,361176,361176,0,0,0,0,0,0]
[26,"O.21NR.01269","12-114","Parques del Pedregal",null,"Andador peatonal en parada la palma, desde retorno la palma hasta Capilla en calle Oyamel esquina Roble",null,null,0,0,406476,406476,0,0,0,0,0,0]
[27,"O.21NR.01272","12-121","Pedregal de Sta Úrsula Xitla",null,"Caminando seguros",null,null,0,0,480097,480097,0,0,0,0,0,0]
[28,"O.21NR.01291","12-125","Plan de Ayala",null,"Construcción de aula para actividades físicas",null,null,0,0,353837,353837,0,0,0,0,0,0]
[29,"O.21NR.01273","12-136","Rancho los Colorines (Fracc)",null,"Postes luminarias de 7.5 metros en la colonia lomas del pedregal",null,null,0,0,311316,311316,0,0,0,0,0,0]
[30,"O.21NR.01293","12-148","San Bartolo el Chico",null,"5 pozos de absorción",null,null,0,0,416457,416457,0,0,0,0,0,0]
[31,"O.21NR.01302\nFAIS","12-156","San Miguel Tehuisco-los Angeles-ayometitla",null,"Modulo de vigilancia para la colonia",null,null,0,0,413302,413302,0,0,0,0,0,0]
[32,"O.21NR.01274","12-159","San Pedro Apostol (barr)",null,"Continuación de proyecto reparación de la red hidráulica, mantenimiento y acondicionamiento en avenidas del Arbolillo y Sendero",null,null,0,0,307542,307542,0,0,0,0,0,0]
[33,"O.21NR.01275","12-161","Santa Úrsula Xitla",null,"Mejoramiento y embellecimiento de toda la unidad territorial",null,null,0,0,977404,977404,0,0,0,0,0,0]
[34,"O.21NR.01294","12-175","Tlalcoligia",null,"Mantenimiento del adoquinado en la calle Zacatepetl y Alborada",null,null,0,0,660092,660092,0,0,0,0,0,0]
[35,"O.21NR.01280","12-184","Valle Escondido",null,"Cancha de usos múltiples (basquetbol, voleibol, futbol y actividades culturales)",null,null,0,0,410785,410785,0,0,0,0,0,0]
[36,"O.21NR.01303\nFAIS","12-194","Villa Lázaro Cardenas",null,"Continuación de empedrado y muro de contención en camino piedra larga (rampa)",null,null,0,0,522113,522113,0,0,0,0,0,0]
[37,"O.21NR.01245","12-199","Viveros de Coactetlan",null,"Apoyo de seguridad pública con luminarias en la vía pública, retirando postes viejos y cambian de ley de reforma o por postes nuevos",null,null,0,0,450270,450270,0,0,0,0,0,0]
[38,"O.21NR.01295","12-201","Xaxalipac",null,"Habilitación de área para juegos del Jardín de niños Bikit",null,null,0,0,376413,376413,0,0,0,0,0,0]
[39,"O.21NR.01296","12-217","Narciso Mendoza Villa Ccoapa Supermanzana 8 (U Hab)",null,"Encarpetar todas las calles de la colonia",null,null,0,0,379201,379201,0,0,0,0,0,0]
[40,"O.21NR.01298","12-112"," Oriente (Ampl)",null,"Continuidad de la rehabilitación de cuatro parques de la colonia Temascaltepec-Carbonera, Carbonera-Corralejo, Corralejo-Jilotepec, Jilotepec-Jalteng",null,null,0,0,309430,309430,0,0,0,0,0,0]
[41,"O.21NR.01299","12-164","Sauzales-Cebadales 83 Col. Granjas Coapa (Sauzales Cebadales (u hab)",null,"Mantenimiento general del deportivo de la colonia",null,null,0,0,341280,341280,0,0,0,0,0,0]
[42,"O.21NR.01243","12-153","San Lorenzo Huipulco ",null,"Reencarpetado de la calle Bolonia",null,null,0,0,665835,665835,0,0,0,0,0,0]
[43,"O.21NR.01244","12-177"," Tlalpan Centro ",null,"Lámparas solares para calzada las brujas en la unidad territorial de Rincón las Hadas, Villa Royale, Fuentes y Arconada Coapa",null,null,0,0,887082,887082,0,0,0,0,0,0]
[44,"O.21NR.01271","12-118","Pedregal de San Nicolás 2a secc.",null,"Escaleras en la entrada de Tetequilo",null,null,0,0,719418,719418,0,0,0,0,0,0]
[45,"O.21NR.01256"," 12-065","Jardines de San Juan ",null,"Asfalto en la calle Prolongación de Mayas y Prolongación de Navajos",null,null,0,0,577546,577546,0,0,0,0,0,0]
[46,"O.21NR.01257","12-066","Jardines del Ajusco ",null,"Reencarpetado del callejón de Tetitla",null,null,0,0,470689,470689,0,0,0,0,0,0]
[47,"O.21NR.01263","12-088","Primera Cerrada de los Pastores",null,"Primera etapa: recuperación areas verdes y suelo permeable",null,null,0,0,308217,308217,0,0,0,0,0,0]
[48,"O.21NR.01265","12-099","Mirador del Valle ",null,"Reencarpetamiento de calles de las colonias Vergel de Coyoacán y Vergel del Sur",null,null,0,0,337436,337436,0,0,0,0,0,0]
[49,"O.21NR.01267","12-106","Narciso Mendoza-Villa Coapa súper manzana 6 U. Hab) ",null,"Remodelacion sustentable e incluyente del parque ubicado en Residencial Villa Coapa Súper Manzana 5",null,null,0,0,450456,450456,0,0,0,0,0,0]
[50,"O.21NR.01276","12-170","Tepetlica el Alto, Tepetlica el Alto-3 de Mayo con clave ",null,"Reencarpetado de la calle Rincón Fresales",null,null,0,0,353384,353384,0,0,0,0,0,0]
[51,"O.21NR.01279","12-183","Valle de Tepepan  ",null,"Rehabilitación de áreas verdes, camellones, espacios deportivos, iluminación y reencarpetado de la colonia Villa Lázaro Cárdenas",null,null,0,0,407691,407691,0,0,0,0,0,0]
[52,"O.21NR.01255","12-062","ISSSFAM No. 1, (U Hab)-Villa Tlalpan ",null,"Renovación de las escalinatas de la calle chabacano esq. Totolepec",null,null,0,0,353519,353519,0,0,0,0,0,0]
[53,"O.21NR.01266","12-104","Narciso Mendoza-Villa Coapa súper manzana 2 (u hab) con clave ",null,"Pavimentación y guarnición cerrada de Pirules y Prolongación la Palma",null,null,0,0,416384,416384,0,0,0,0,0,0]
[54,"O.21NR.01285","12-024","Fraccionamiento Rinconada Coapa 2ª sección, Coapa 2ª. sección-Ramos Millán ",null,"Construcción de Centro Cultural para exhibición de películas obras de teatro y danza sobre la calle las torres frente a la base de rtp",null,null,0,0,404171,404171,0,0,0,0,0,0]
[55,"O.21NR.01289","12-087","Los Encinos ",null,"Continuación de trabajos de pavimentación de la calle Granjas hasta calle Ayocatitla",null,null,0,0,425649,425649,0,0,0,0,0,0]
[56,"O.21NR.01292","12-146","Rómulo Sánchez-San Fernando (Barr)-Peña Pobre",null,"Rehabilitación urbana a andador sin nombre",null,null,0,0,342073,342073,0,0,0,0,0,0]
[57,"O.21NR.01248","12-017","Calvario Camisetas  ",null,"Cambio de Red de Agua Potable en el interior de la U.H. Tenorios 222",null,null,0,0,319806,319806,0,0,0,0,0,0]
[58,"O.21NR.01254","12-061","Isidro Fabela (Ampl)",null,"Sustitución de Válvulas deterioradas de la Red Hidráulica de la Unidad",null,null,0,0,353535,353535,0,0,0,0,0,0]
[59,"O.21NR.01270","12-116","Pedregal de las Águilas ",null,"Cambio de tubos de albañal o Drenaje de casas, dúplex y edificios de la súper manzana 2 (que van de 5 a 10 metros por conexión a colectores)",null,null,0,0,392925,392925,0,0,0,0,0,0]
[60,"O.21NR.01277","12-176","Tlalmille ",null,"Construcción de aula para Construccion de salon de usos multiples techado ",null,null,0,0,364124,364124,0,0,0,0,0,0]
[61,"O.21NR.01301\nFONDO: FAIS","12-072","La Joya ",null,"Rehabilitación de área deportiva y recreativa para perros   ",null,null,0,0,401676,401676,0,0,0,0,0,0]
[62,"O.21NR.01278","12-180","Toriello guerra",null,"Rehabilitación y Remodelación del parque y canchas de básquetbol ",null,null,0,0,729136,729136,0,0,0,0,0,0]
[63,"O.21NR.01281","12-188","Vergel de Coyoacan-Vergel del Sur",null,"Mantenimiento de Alumbrado Público en todo el Condominio ",null,null,0,0,436853,436853,0,0,0,0,0,0]
[64,"O.21NR.01282","12-191","Villa Coapa (Rdcial)",null,"Cambio de Cableado Eléctrico de todos los postes ",null,null,0,0,381710,381710,0,0,0,0,0,0]
[65,"O.21NR.01283","12-204","Zapote-Luis Donaldo Colosio (U Habs)",null,"Mejoramiento de Espacios Públicos ",null,null,0,0,320331,320331,0,0,0,0,0,0]
[66,"O.21NR.01435","12-027","Conjunto Urbano Cuemanco",null,"Reencarpetado dentro de la unidad  ",null,null,0,0,334553,334553,0,0,0,0,0,0]
[67,"O.21NR.01440","12-195","Villa Olimpica Liberador Miguel Hidalgo (U.H.)",null,"Módulo de Juegos Infantiles en Áreas Verdes Comunes Unidad Ignacio Chávez dentro de los Regímenes I, II, III, V, VI y Deportivo  ",null,null,0,0,362542,362542,0,0,0,0,0,0]
[68,"O.21NR.01441","12-223","Rresidencial Fuentes de Cantera (U.H.)",null,"Instalación y Adquisición de Sistemas de Captación de Agua Pluvial ",null,null,0,0,306396,306396,0,0,0,0,0,0]
[69,"O.21NR.01429","12-147","Pueblo San Andres Totoltepc",null,"Instalación de Sistemas de Captación de agua pluvial en Calle Ave del Paraíso y alrededores, ",null,null,0,0,2095269,2095269,0,0,0,0,0,0]
[70,"O.21NR.01430","12-155","Pueblo San Miguel Ajusco",null,"Reparación de Filtraciones en Estacionamiento y Accesos, para la detención de daño estructural que representa riesgo inminente para la comunidad ",null,null,0,0,1251369,1251369,0,0,0,0,0,0]
[71,"O.21NR.01431","12-157","Pueblo San Miguel Topilejo",null,"Reparación de Cisterna de Agua Potable que Suministra a toda en la Unidad Emilio Portes Gil Pemex Picacho, por medio de bombeo ",null,null,0,0,1987695,1987695,0,0,0,0,0,0]
[72,"O.21NR.01432","12-160","San Pedro Mártir",null,"Uso de Celdas Solares",null,null,0,0,1388261,1388261,0,0,0,0,0,0]
[73,"O.21NR.01433","12-163","Santo Tomas Ajusco",null,"Pavimentación de  todas las calles ",null,null,0,0,1398822,1398822,0,0,0,0,0,0]
[74,"O.21NR.01436","12-059","Unidad Ignacio Chávez",null,"Concluir con la construcción de gradas, barandales, baños  y todo lo necesario para que el ruedo este en funcionamiento,",null,null,0,0,328881,328881,0,0,0,0,0,0]
[75,"O.21NR.01438","12-182","Tenorios",null,"Pavimentación asfáltica de todas las calles",null,null,0,0,319764,319764,0,0,0,0,0,0]
[76,"O.21NR.01439","12-193","Villa Del Puente FOVISSSTE",null,"Rehabilitación integral del kiosko e iluminación en toda la Plaza",null,null,0,0,304208,304208,0,0,0,0,0,0]
[77,"O.21NR.01437","12-168","Tenorios INFONAVIT 1 Y 2",null,"Mejoramiento de la Plaza de Toros techado de plaza, conformación del espacio con material ecológico y contrucción de baños públicos ",null,null,0,0,367102,367102,0,0,0,0,0,0]
[null,null,null,null,null,null,null,null,null,null,null,null,null,null,null,null,null,{"$f":"IFERROR(($L88/#REF!)*100,\"\")","v":""}]
[null,null,null,null,null,null,null,null,null,null,{"$f":"SUM(K11:K88)","v":39559776},{"$f":"SUM(L11:L88)","v":39559776}]
[null,null,"Al periodo aún cuando ya se cuentan con proyectos de inversión subidos en sistema GRP, no se cuentan con avances físicos debido a que se contratarona finales del mes de noviembre por lo que apenas se encuentran en proceso de incio de trabajos, los cuales se verán reflejados en el Cierre de Cuenta Pública del Ejercicio 2021"]

{"sheet":"ECG","index":20,"n_rows":95,"n_cols":18,"rows_kept":95,"cut":false,"hidden":false,"merged":[[57,11,57,12],[59,1,61,1],[59,2,61,2],[59,3,61,3],[59,4,61,4],[59,5,61,5],[59,6,61,6],[59,7,61,7],[59,8,61,8],[59,11,59,12],[60,11,60,12],[61,11,61,12],[57,1,58,1],[57,2,58,2],[57,3,58,3],[57,4,58,4],[57,5,58,5],[57,6,58,6],[57,7,58,7],[57,8,58,8],[57,9,58,9],[58,11,58,12],[54,1,56,1],[55,11,55,12],[56,11,56,12],[54,2,56,2],[54,3,56,3],[54,4,56,4],[54,5,56,5],[54,6,56,6],[54,7,56,7],[54,8,56,8],[54,9,56,9],[21,11,21,12],[22,11,22,12],[23,11,23,12],[24,1,26,1],[24,2,26,2],[24,3,26,3],[24,4,26,4],[24,5,26,5],[24,6,26,6],[24,7,26,7],[24,8,26,8],[24,9,26,9],[24,11,24,12],[25,11,25,12],[26,11,26,12],[6,10,7,10],[21,1,23,1],[21,2,23,2],[21,3,23,3],[21,4,23,4],[21,5,23,5],[21,6,23,6],[21,7,23,7],[21,8,23,8],[21,9,23,9],[15,6,17,6],[15,7,17,7],[18,3,20,3],[18,5,20,5],[51,3,53,3],[51,5,53,5],[51,6,53,6],[51,7,53,7],[51,8,53,8],[51,9,53,9],[53,11,53,12],[48,2,50,2],[48,3,50,3],[48,5,50,5],[48,6,50,6],[48,7,50,7],[48,4,50,4],[51,4,53,4],[52,11,52,12],[48,8,50,8],[48,9,50,9],[49,11,49,12],[50,11,50,12],[51,2,53,2],[42,8,44,8],[42,9,44,9],[43,11,43,12],[44,11,44,12],[45,2,47,2],[45,3,47,3],[45,5,47,5],[45,6,47,6],[45,7,47,7],[45,8,47,8],[45,9,47,9],[45,11,45,12],[46,11,46,12],[42,2,44,2],[42,3,44,3],[42,5,44,5],[42,6,44,6],[42,7,44,7],[42,4,44,4],[45,4,47,4],[36,9,38,9],[37,11,37,12],[38,11,38,12],[39,2,41,2],[39,3,41,3],[39,5,41,5],[39,6,41,6],[39,7,41,7],[39,8,41,8],[39,9,41,9],[40,11,40,12],[41,11,41,12],[36,2,38,2],[36,3,38,3],[36,5,38,5],[36,6,38,6],[36,7,38,7],[39,4,41,4],[36,11,36,12],[45,1,47,1],[48,1,50,1],[51,1,53,1],[36,1,38,1],[39,1,41,1],[42,1,44,1],[9,9,11,9],[12,2,14,2],[12,3,14,3],[12,5,14,5],[12,6,14,6],[12,7,14,7],[12,8,14,8],[12,9,14,9],[9,3,11,3],[9,5,11,5],[9,6,11,6],[9,7,11,7],[9,8,11,8],[15,8,17,8],[15,9,17,9],[18,2,20,2],[36,4,38,4],[36,8,38,8],[62,11,62,12],[39,11,39,12],[42,11,42,12],[48,11,48,12],[51,11,51,12],[54,11,54,12],[47,11,47,12],[1,1,1,12],[6,11,7,12],[9,11,9,12],[12,11,12,12],[6,2,6,8],[3,1,3,3],[4,1,4,3],[3,5,3,12],[4,5,4,12],[9,1,11,1],[10,11,10,12],[11,11,11,12],[12,1,14,1],[13,11,13,12],[14,11,14,12],[9,2,11,2],[18,11,18,12],[35,11,35,12],[6,1,7,1],[8,11,8,12],[15,11,15,12],[31,11,31,12],[15,1,17,1],[16,11,16,12],[17,11,17,12],[19,11,19,12],[20,11,20,12],[18,1,20,1],[9,4,11,4],[12,4,14,4],[15,4,17,4],[18,4,20,4],[34,11,34,12],[18,6,20,6],[18,7,20,7],[18,8,20,8],[18,9,20,9],[15,2,17,2],[15,3,17,3],[15,5,17,5],[29,11,29,12],[32,11,32,12],[33,11,33,12],[32,1,34,1],[32,8,34,8],[32,7,34,7],[32,6,34,6],[32,5,34,5],[32,4,34,4],[32,3,34,3],[32,2,34,2],[28,11,28,12],[30,1,31,1],[30,2,31,2],[30,3,31,3],[27,9,29,9],[27,8,29,8],[27,1,29,1],[27,2,29,2],[27,3,29,3],[27,4,29,4],[27,5,29,5],[27,6,29,6],[27,7,29,7],[27,11,27,12],[30,4,31,4],[30,5,31,5],[30,6,31,6],[30,7,31,7],[30,8,31,8],[30,9,31,9],[30,11,30,12]]}
[]
[null,"ECG EVOLUCIÓN PRESUPUESTAL POR CAPÍTULO DE GASTO "]
[]
[null,"Unidad Responsable de Gasto: "]
[null,"Período:",null,null,null,{"$f":"Caratula!I17","v":" "}]
[]
[null,"CAPÍTULO\n","PRESUPUESTO\n(Pesos con dos decimales)",null,null,null,null,null,null,"VARIACIÓN","%\nAVANCE\n","EXPLICACIÓN A LAS VARIACIONES DEL SALDO COMPROMETIDO Y EJERCIDO  RESPECTO AL PRESUPUESTO MODIFICADO AL PERIODO"]
[null,null,"APROBADO","MODIFICADO","EJERCIDO","SALDO DEL\nCOMPROMISO","DEVENGADO","PAGADO","EJERCIDO + COMPROMETIDO","(SALDO DEL COMPROMISO + EJERCIDO)-MODIFICADO"]
[null,"TOTAL GASTO CORRIENTE",{"$f":"SUM(C10:C34)","v":0},{"$f":"SUM(D10:D34)","v":0},{"$f":"SUM(E10:E34)","v":0},{"$f":"SUM(F10:F34)","v":0},{"$f":"SUM(G10:G35)","v":0},{"$f":"SUM(H10:H35)","v":0},{"$f":"SUM(I10:I34)","v":0},{"$f":"SUM(J10:J35)","v":0},null,null,null,null,null,null,"CAPITULO","EXPLICACION"]
[null,1000,null,null,null,null,null,null,null,null,null,null,null,null,null,null,1000,"Plazas vacantes"]
[null,null,null,null,null,null,null,null,null,null,1038834,null,null,0,0,0,0,0]
[null,null,null,null,null,null,null,null,null,null,352099,null,null,null,null,null,1000,"Laudos no ejecutados o no concluidos"]
[null,2000,null,null,null,null,null,null,null,null,356448,null,null,null,null,null,1000,"Otros"]
[null,null,null,null,null,null,null,null,null,null,333056,null,null,null,null,null,2000,"Economías en procesos de adquisición"]
[null,null,null,null,null,null,null,null,null,null,512105,null,null,null,null,null,2000,"Existencia de bienes en el almacén"]
[null,3000,null,null,null,null,null,null,null,null,417912,null,null,null,null,null,2000,"Bienes no requeridos"]
[null,null,null,null,null,null,null,null,null,null,606944,null,null,null,null,null,2000,"Recursos centralizados"]
[null,null,null,null,null,null,null,null,null,null,374300,null,null,null,null,null,2000,"Licitación o Invitación Restringida desierta "]
[null,4000,null,null,null,null,null,null,null,null,545724,null,null,null,null,null,2000,"Otros"]
[null,null,null,null,null,null,null,null,null,null,340952,null,null,null,null,null,3000,"Economías en procesos de contratación"]
[null,null,null,null,null,null,null,null,null,null,341311,null,null,null,null,null,3000,"No se requirieron los servicios programados"]
[null,5000,null,null,null,null,null,null,null,null,339784,null,null,null,null,null,3000,"Licitación o Invitación Restringida desierta "]
[null,null,null,null,null,null,null,null,null,null,404466,null,null,null,null,null,3000,"Otros"]
[null,null,null,null,null,null,null,null,null,null,328062,null,null,null,null,null,4000,"No fueron cobradas las ayudas"]
[null,6000,null,null,null,null,null,null,null,null,396598,null,null,null,null,null,4000,"Las reglas de operación no salieron en tiempo"]
[null,null,null,null,null,null,null,null,null,null,391035,null,null,null,null,null,4000,"El número de beneficiarios inscritos fue menor al programado"]
[null,null,null,null,null,null,null,null,null,null,487189,null,null,null,null,null,4000,"El programa social se canceló"]
[null,7000,null,null,null,null,null,null,null,null,560910,null,null,null,null,null,4000,"Otros"]
[null,null,null,null,null,null,null,null,null,null,298611,null,null,null,null,null,5000,"Existencia de bienes en el almacén"]
[null,null,null,null,null,null,null,null,null,null,332262,null,null,null,null,null,5000,"Bienes no requeridos"]
[null,8000,null,null,null,null,null,null,null,null,403053,null,null,null,null,null,5000,"Licitación o Invitación Restringida desierta "]
[null,null,null,null,null,null,null,null,null,null,380396,null,null,null,null,null,5000,"Economías en procesos de adquisición"]
[null,9000,null,null,null,null,null,null,null,null,956256,null,null,null,null,null,5000,"Otros"]
[null,null,null,null,null,null,null,null,null,null,319770,null,null,null,null,null,6000,"Licitación Desierta"]
[null,null,null,null,null,null,null,null,null,null,361176,null,null,null,null,null,6000,"Cancelación de obra por temas legales o sociales"]
[null,"TOTAL GASTO DE CAPITAL",{"$f":"SUM(C37:C58)","v":0},{"$f":"SUM(D37:D58)","v":0},{"$f":"SUM(E37:E58)","v":0},{"$f":"SUM(F37:F58)","v":0},{"$f":"SUM(G37:G59)","v":0},{"$f":"SUM(H37:H59)","v":0},{"$f":"SUM(I37:I58)","v":0},{"$f":"I36-D36","v":0},406476,null,null,null,null,null,6000,"Otros"]
[null,1000,null,null,null,null,null,null,null,null,480097,null,null,null,null,null,7000,"Los recursos se trasladaron a otros capítulos con la finalidad de fortalecer las políticas públicas"]
[null,null,null,null,null,null,null,null,null,null,353837,null,null,null,null,null,7000," No se presento ninguna contingencia socioeconómica"]
[null,null,null,null,null,null,null,null,null,null,311316,null,null,null,null,null,7000,"Otros"]
[null,2000,null,null,null,null,null,null,null,null,416457,null,null,null,null,null,8000,"Los recursos se verán reflejados en el pasivo circulante"]
[null,null,null,null,null,null,null,null,null,null,413302,null,null,null,null,null,8000,"Otros"]
[null,null,null,null,null,null,null,null,null,null,307542,null,null,null,null,null,9000,"Incumplimiento de los contratos derivados de la emisión de certificados bursátiles por parte del GCDMX en el mercado de valores. "]
[null,3000,null,null,null,null,null,null,null,null,977404,null,null,null,null,null,9000,"No se adquirieron insumos"]
[null,null,null,null,null,null,null,null,null,null,660092,null,null,null,null,null,9000,"No se realizaron proyectos, acciones o programas públicos "]
[null,null,null,null,null,null,null,null,null,null,410785,null,null,null,null,null,9000,"Otros"]
[null,4000,null,null,null,null,null,null,null,null,522113]
[null,null,null,null,null,null,null,null,null,null,450270]
[null,null,null,null,null,null,null,null,null,null,376413]
[null,5000,null,null,null,null,null,null,null,null,379201]
[null,null,null,null,null,null,null,null,null,null,309430]
[null,null,null,null,null,null,null,null,null,null,341280]
[null,6000,null,null,null,null,null,null,null,null,665835]
[null,null,null,null,null,null,null,null,null,null,887082]
[null,null,null,null,null,null,null,null,null,null,719418]
[null,7000,null,null,null,null,null,null,null,null,577546]
[null,null,null,null,null,null,null,null,null,null,470689]
[null,null,null,null,null,null,null,null,null,null,308217]
[null,8000,null,null,null,null,null,null,null,null,337436]
[null,null,null,null,null,null,null,null,null,null,450456]
[null,9000,null,null,null,null,null,null,null,null,353384]
[null,null,null,null,null,null,null,null,null,null,407691]
[null,null,null,null,null,null,null,null,null,null,353519]
[null,"TOTAL\nURG ",null,null,null,null,null,null,null,null,416384]
[null,null,null,null,null,null,null,null,null,null,404171]
[null,null,null,null,null,null,null,null,null,null,425649]
[null,null,null,null,null,null,null,null,null,null,342073]
[null,null,null,null,null,null,null,null,null,null,319806]
[null,null,null,null,null,null,null,null,null,null,353535]
[null,null,null,null,null,null,null,null,null,null,392925]
[null,null,null,null,null,null,null,null,null,null,364124]
[null,null,null,null,null,null,null,null,null,null,401676]
[null,null,null,null,null,null,null,null,null,null,729136]
[null,null,null,null,null,null,null,null,null,null,436853]
[null,null,null,null,null,null,null,null,null,null,381710]
[null,null,null,null,null,null,null,null,null,null,320331]
[null,null,null,null,null,null,null,null,null,null,334553]
[null,null,null,null,null,null,null,null,null,null,362542]
[null,null,null,null,null,null,null,null,null,null,306396]
[null,null,null,null,null,null,null,null,null,null,2095269]
[null,null,null,null,null,null,null,null,null,null,1251369]
[null,null,null,null,null,null,null,null,null,null,1987695]
[null,null,null,null,null,null,null,null,null,null,1388261]
[null,null,null,null,null,null,null,null,null,null,1398822]
[null,null,null,null,null,null,null,null,null,null,328881]
[null,null,null,null,null,null,null,null,null,null,319764]
[null,null,null,null,null,null,null,null,null,null,304208]
[null,null,null,null,null,null,null,null,null,null,367102]
[]
[]
[]
[]
[]
[]
[]
[null,null,null,null,null,null,null,null,null,null,{"$f":"SUM(K11:K94)","v":39559776}]

{"sheet":"EPC","index":21,"n_rows":12,"n_cols":17,"rows_kept":12,"cut":false,"hidden":false,"merged":[[6,10,7,10],[16,11,16,12],[17,11,17,12],[18,11,18,12],[19,11,19,12],[11,11,11,12],[12,11,12,12],[13,11,13,12],[14,11,14,12],[15,11,15,12],[28,11,28,12],[23,11,23,12],[24,11,24,12],[25,11,25,12],[26,11,26,12],[27,11,27,12],[29,11,29,12],[1,1,1,12],[6,1,7,1],[6,2,6,8],[6,11,7,12],[5,1,5,12],[3,1,3,3],[4,1,4,3],[4,4,4,12],[3,4,3,12],[8,11,8,12],[9,11,9,12],[20,11,20,12],[21,11,21,12],[22,11,22,12],[10,11,10,12]]}
[]
[null,"EPC EVOLUCIÓN PRESUPUESTAL DE PARTIDAS CENTRALIZADAS O CONSOLIDADAS"]
[]
[null,"Unidad Responsable de Gasto: "]
[null,"Período:",null,null,{"$f":"Caratula!I17","v":" "}]
[]
[null,"PARTIDA ESPECÍFICA\n","PRESUPUESTO\n(Pesos con dos decimales)",null,null,null,null,null,null,"VARIACIÓN","%\nAVANCE\n","A)  EXPLICACIÓN A LAS VARIACIONES DEL SALDO COMPROMETIDO Y EJERCIDO  RESPECTO AL PRESUPUESTO MODIFICADO AL PERIODO"]
[null,null,"APROBADO","MODIFICADO","EJERCIDO","SALDO DEL\nCOMPROMISO","DEVENGADO","PAGADO","EJERCIDO + COMPROMETIDO","(SALDO DEL COMPROMISO + EJERCIDO)-MODIFICADO"]
[null,null,null,null,null,null,null,null,null,null,null,null,null,null,null,null,"La unidad determinó un mayor presupuesto aprobado, derivado del comportamiento en ejercicios anteriores"]
[null,null,null,null,null,null,null,null,null,null,null,null,null,null,null,null,"Los recursos se erogarán en pasivo circulante"]
[null,null,null,null,null,null,null,null,null,null,null,null,null,null,null,null,"No se realizó un proceso de consolidación para la compra de bienes informáticos"]
[null,null,null,null,null,null,null,null,null,null,null,null,null,null,null,null,"Otros"]

{"sheet":"ADS-1","index":22,"n_rows":29,"n_cols":7,"rows_kept":29,"cut":false,"hidden":false,"merged":[[1,1,1,6],[3,2,3,6],[4,2,4,6],[6,2,7,2],[6,3,6,4],[6,6,7,6],[6,5,7,5]]}
[]
[null,"ADS-1 AYUDAS, DONATIVOS Y SUBSIDIOS"]
[]
[null,"Unidad Responsable de Gasto: "]
[null,"Período:",{"$f":"Caratula!I17","v":" "}]
[]
[null,"ÁREA FUNCIONAL","CLAVE Y DENOMINACIÓN DE LA PARTIDA ESPECÍFICA"," BENEFICIARIO",null,"PRESUPUESTO EJERCIDO\n(Pesos con dos decimales)","CARACTERÍSTICAS"]
[null,"FI-F-SF-AI-PP\n",null,"TIPO","TOTAL"]
[]
[]
[]
[]
[]
[]
[]
[]
[]
[]
[]
[]
[]
[]
[]
[]
[]
[]
[]
[]
[null,null,"TOTAL URG "]

{"sheet":"ADS-2","index":23,"n_rows":26,"n_cols":8,"rows_kept":26,"cut":false,"hidden":false,"merged":[[1,1,1,7],[3,2,3,7],[4,2,4,7],[6,2,7,2],[6,7,7,7],[6,3,6,6],[5,2,5,7]]}
[]
[null,"ADS-2  AYUDAS, DONATIVOS Y SUBSIDIOS A FIDEICOMISOS"]
[]
[null,"Unidad Responsable de Gasto: "]
[null,"Período: ",{"$f":"Caratula!I17","v":" "}]
[]
[null,"ÁREA FUNCIONAL","NOMBRE DEL FIDEICOMISO","MONTO\n(Pesos con dos decimales)",null,null,null,"DESTINO DEL GASTO"]
[null,"FI-F-SF-AI-PP\n",null,"INGRESO","GASTO","RENDIMIENTOS\nFINANCIEROS","SALDO"]
[]
[]
[]
[]
[]
[]
[]
[]
[]
[]
[]
[]
[]
[]
[]
[]
[]
[null,null,"TOTAL URG"]

{"sheet":"SAP","index":24,"n_rows":32,"n_cols":9,"rows_kept":32,"cut":false,"hidden":false,"merged":[[6,8,7,8],[1,1,1,8],[3,2,3,8],[4,2,4,8],[6,2,7,2],[6,4,7,4],[6,5,7,5],[6,6,6,7],[6,3,7,3]]}
[null,null," "]
[null,"SAP   PROGRAMAS QUE OTORGAN SUBSIDIOS Y APOYOS A LA POBLACIÓN"]
[]
[null,"Unidad Responsable de Gasto: "]
[null,"Período: ",{"$f":"Caratula!I17","v":" "}]
[]
[null,"ÁREA FUNCIONAL","DENOMINACIÓN DEL PROGRAMA1/","FECHA DE PUBLICACIÓN DE REGLAS DE OPERACIÓN","ALCALDÍA  ","COLONIA"," BENEFICIARIO",null,"PRESUPUESTO EJERCIDO\n(Pesos con dos decimales)"]
[null,"FI-F-SF-AI-PP\n",null,null,null,null," TIPO"," TOTAL"]
[]
[]
[]
[]
[]
[]
[]
[]
[]
[]
[]
[]
[]
[]
[]
[]
[]
[]
[]
[]
[]
[null,null,"TOTAL URG"]
[]
[null,"1/ Se refiere a programas que cuentan con reglas de operación publicadas en la Gaceta Oficial de la Ciudad de México. "]

{"sheet":"FIC","index":25,"n_rows":27,"n_cols":4,"rows_kept":27,"cut":false,"hidden":false,"merged":[[1,1,1,3],[6,1,6,3],[8,2,8,3],[9,2,9,3],[7,1,7,3],[3,2,3,3],[4,2,4,3],[17,1,17,3],[21,1,21,3],[25,1,25,3],[10,2,10,3],[11,2,11,3],[12,2,12,3],[13,2,13,3],[14,2,14,3],[15,2,15,3]]}
[]
[null,"FIC  FIDEICOMISOS CONSTITUIDOS"]
[]
[null,"Unidad Responsable de Gasto: "]
[null,"Período: ",{"$f":"Caratula!I17","v":" "}]
[]
[null,"DATOS GENERALES DEL FIDEICOMISO"]
[]
[null,"Denominación del Fideicomiso: "]
[null,"Fecha de su constitución: "]
[null,"Fideicomitente: "]
[null,"Fideicomisario: "]
[null,"Fiduciario: "]
[null,"Objeto de su constitución: "]
[null,"Modificaciones al objeto de su constitución: "]
[null,"Objeto actual: "]
[]
[null,"DISPONIBILIDAD PRESUPUESTAL DEL FIDEICOMISO"]
[null,"Disponibilidad de Recursos al Finalizar el Trimestre Anterior: (a)","Disponibilidad de Recursos al Finalizar el Trimestre de Referencia: (b)","Variación de la Disponibilidad = (b)-(a)"]
[]
[]
[null,"ESTADO FINANCIERO DEL FIDEICOMISO"]
[null,"Activo: ","Pasivo:","Capital: "]
[]
[]
[null,"AVANCE PRESUPUESTAL DEL FIDEICOMISO"]
[null,"Naturaleza del Gasto:  ","Destino del Gasto: ","Monto Ejercido: "]

{"sheet":"AP-FAFA","index":26,"n_rows":26,"n_cols":14,"rows_kept":26,"cut":false,"hidden":false,"merged":[[1,1,1,13],[3,1,3,5],[3,6,3,13],[4,1,4,5],[4,6,4,13],[2,1,2,13],[26,1,30,13],[6,5,7,5],[25,1,25,13],[6,6,6,12],[6,1,6,3]]}
[null," "]
[null,"AP-FAFA  AVANCE PRESUPUESTAL DEL FONDO ADICIONAL DE FINANCIAMIENTO DE LAS ALCALDÍAS"]
[]
[null,"Alcaldía:"]
[null,"Período: ",null,null,null,null,{"$f":"Caratula!I17","v":" "}]
[]
[null,"ESTRUCTURA VALOR PÚBLICO",null,null,"ÁREA FUNCIONAL","DENOMINACIÓN\nDEL PROYECTO APROBADO","PRESUPUESTO\n(Pesos con dos decimales)",null,null,null,null,null,null,"AVANCE\n%"]
[null,"EJE\n","SUB\nEJE\n","SUB\nSUB\nEJE","FI-F-SF-AI-PP",null,"APROBADO","MODIFICADO","EJERCIDO","SALDO DEL\nCOMPROMISO","DEVENGADO","PAGADO","EJERCIDO + COMPROMETIDO","(SALDO DEL COMPROMISO + EJERCIDO) / MODIFICADO)*100\n"]
[null,null,null,null,null,null,null,null,null,null,null,null,null,{"$f":"IFERROR(($J9/$G9)*100,\"\")","v":""}]
[null,null,null,null,null,null,null,null,null,null,null,null,null,{"$f":"IFERROR(($M10/$H10)*100,\"\")","v":""}]
[null,null,null,null,null,null,null,null,null,null,null,null,null,{"$f":"IFERROR(($M11/$H11)*100,\"\")","v":""}]
[null,null,null,null,null,null,null,null,null,null,null,null,null,""]
[null,null,null,null,null,null,null,null,null,null,null,null,null,""]
[null,null,null,null,null,null,null,null,null,null,null,null,null,""]
[null,null,null,null,null,null,null,null,null,null,null,null,null,""]
[null,null,null,null,null,null,null,null,null,null,null,null,null,""]
[null,null,null,null,null,null,null,null,null,null,null,null,null,""]
[null,null,null,null,null,null,null,null,null,null,null,null,null,""]
[null,null,null,null,null,null,null,null,null,null,null,null,null,""]
[null,null,null,null,null,null,null,null,null,null,null,null,null,""]
[null,null,null,null,null,null,null,null,null,null,null,null,null,""]
[null,null,null,null,null,null,null,null,null,null,null,null,null,""]
[null,null,null,null,null,null,null,null,null,null,null,null,null,""]
[null,null,null,null,null,"TOTAL URG",null,null,null,null,null,null,null,""]
[null,null,null,null,null,null,null,null,null,null,null,null,null,""]
[null,"ACCIONES REALIZADAS CON RECURSOS DEL FONDO ADICIONAL DE FINANCIAMIENTO DE LAS ALCALDÍAS: "]

{"sheet":"Formato 6d","index":27,"n_rows":37,"n_cols":8,"rows_kept":37,"cut":false,"hidden":false,"merged":[[1,1,1,7],[2,1,2,7],[4,1,4,7],[5,1,5,7],[6,1,6,7],[3,1,3,7],[8,1,10,1],[8,2,8,6],[8,7,10,7],[9,2,10,2],[9,3,10,3],[9,4,10,4],[9,5,10,5],[9,6,10,6]]}
[]
[null,"Estado Analítico del Ejercicio del Presupuesto de Egresos Detallado - LDF (Clasificación de Servicios Personales por Categoría)"]
[null,"Unidad Responsable de Gasto: "]
[]
[]
[null,"Del 1 de enero al 31 de dicieembre de 2021"]
[null,"(PESOS)"]
[]
[null,"C O N C E P T O  ","EGRESOS",null,null,null,null,"SUBEJERCICIO"]
[null,null,"APROBADO","AMPLIACIONES /\nREDUCCIONES","MODIFICADO","DEVENGADO","PAGADO"]
[]
[]
[null,"I. GASTO NO ETIQUETADO (A+B+C+D+E+F)",{"$f":"C14+C15+C16+C19+C20+C23","v":0},{"$f":"E13-C13","v":0},{"$f":"E14+E15+E16+E19+E20+E23","v":0},{"$f":"F14+F15+F16+F19+F20+F23","v":0},{"$f":"G14+G15+G16+G19+G20+G23","v":0},{"$f":"E13-F13","v":0}]
[null,"A. Personal Administrativo y de Servicio Público",0,{"$f":"E14-C14","v":0},0,0,0,{"$f":"E14-F14","v":0}]
[null,"B. Magisterio",0,{"$f":"E15-C15","v":0},0,0,0,{"$f":"E15-F15","v":0}]
[null,"C. Servicios de Salud C = (c1+c2)",{"$f":"C17+C18","v":0},{"$f":"E16-C16","v":0},{"$f":"E17+E18","v":0},{"$f":"F17+F18","v":0},{"$f":"G17+G18","v":0},{"$f":"E16-F16","v":0}]
[null,"c1) Personal Administrativo",0,0,0,0,0,{"$f":"E17-F17","v":0}]
[null,"c2) Personal Médico, Paramédico y Afín",0,0,0,0,0,{"$f":"E18-F18","v":0}]
[null,"D. Seguridad Pública",0,0,0,0,0,0]
[null,"E. Gastos Asoc. a la Implemt.  de Nvas. Leyes Fed. o Ref. de las Mismas E = (e1+e2)",{"$f":"C21+C22","v":0},{"$f":"E20-C20","v":0},{"$f":"E21+E22","v":0},{"$f":"F21+F22","v":0},{"$f":"G21+G22","v":0},0]
[null,"e1 )Nombre del Programa o Ley 1",0,0,0,0,0,0]
[null,"e2) Nombre del Programa o Ley 2",0,0,0,0,0,0]
[null,"F. Sentencias Laborales Definitivas",0,0,0,0,0,0]
[]
[null,"II. GASTO ETIQUETADO  (A+B+C+D+E+F)",{"$f":"C26+C27+C28+C31+C32+C35","v":0},{"$f":"D26+D27+D28+D31+D32+D35","v":0},{"$f":"E26+E27+E28+E31+E32+E35","v":0},{"$f":"F26+F27+F28+F31+F32+F35","v":0},{"$f":"G26+G27+G28+G31+G32+G35","v":0},0]
[null,"A. Personal Administrativo y de Servicio Público",0,{"$f":"E26-C26","v":0},0,0,0,0]
[null,"B. Magisterio",0,0,0,0,0,{"$f":"E27-F27","v":0}]
[null,"C. Servicios de Salud C = (c1+c2)",{"$f":"C29+C30","v":0},0,{"$f":"E29+E30","v":0},{"$f":"F29+F30","v":0},{"$f":"G29+G30","v":0},0]
[null,"c1) Personal Administrativo",0,0,0,0,0,0]
[null,"c2) Personal Médico, Paramédico y Afín",0,0,0,0,0,{"$f":"E30-F30","v":0}]
[null,"D. Seguridad Pública",0,0,0,0,0,0]
[null,"E. Gastos Asoc. a la Implemt.  de Nvas. Leyes Fed. o Ref. de las Mismas E = (e1+e2)",{"$f":"C33+C34","v":0},0,{"$f":"E33+E34","v":0},{"$f":"F33+F34","v":0},{"$f":"G33+G34","v":0},0]
[null,"e1 )Nombre del Programa o Ley 1",0,0,0,0,0,0]
[null,"e2) Nombre del Programa o Ley 2",0,0,0,0,0,0]
[null,"F. Sentencias Laborales Definitivas",0,0,0,0,0,0]
[]
[null,"TOTAL DEL GASTO EN SERVICIOS PERSONALES III = (I+II)",{"$f":"C13+C25","v":0},{"$f":"E37-C37","v":0},{"$f":"E13+E25","v":0},{"$f":"F13+F25","v":0},{"$f":"G13+G25","v":0},{"$f":"E37-F37","v":0}]

{"sheet":"Resumen_Ejecutivo","index":28,"n_rows":25,"n_cols":4,"rows_kept":25,"cut":false,"hidden":false,"merged":[[1,1,1,4],[14,3,14,4],[12,3,12,4],[11,3,11,4],[11,1,11,2],[9,1,9,2],[9,3,9,4],[2,1,5,4],[13,3,13,4],[10,1,10,2],[10,3,10,4],[15,3,15,4],[18,3,18,4],[16,3,16,4],[17,3,17,4],[17,1,18,1],[17,2,18,2]]}
[]
[null,"RESUMEN EJECUTIVO"]
[null,"INFORME DE AVANCE TRIMESTRAL  "]
[]
[]
[]
[]
[]
[]
[null,"Unidad Responsable del Gasto:"]
[null,"Período:",null,{"$f":"Caratula!I17","v":" "}]
[null,"Fecha de Elaboración:"]
[]
[null,"DESCRIPCIÓN","IMPORTE","EXPLICACIÓN"]
[null,"1.- Explicación general a las variaciones del saldo comprometido y ejercido  respecto al presupuesto modificado al periodo"]
[null,"2.- Principales acciones realizadas durante el periodo"]
[null,"3.- Explicación general a las acciones realizadas con recurso de origen federal."]
[null,"4.- Acciones realizadas para prevención y atención del  COVID-19",null," (Eje de atención COVID 1)"]
[null,null,null," (Eje de atención COVID 2-Apoyos)"]
[]
[]
[]
[]
[null,"Elaboró :  _______________________________________________________________________________________________________                                                                                              Autorizó :______________________________________________________________________________"]
[null,"                                                                                               Nombre, Cargo y Firma                                                                                                                                                                                                                                                                                                    Nombre, Cargo y Firma  "]

{"sheet":"CG","index":29,"n_rows":112,"n_cols":2,"rows_kept":112,"cut":false,"hidden":true,"merged":[]}
["CG","N_UR"]
["-","SELECCIONE--"]
["01C001","01C001 Jefatura de Gobierno"]
["01CD03","01CD03 Centro de Comando, Control, Cómputo, Comunicaciones y Contacto Ciudadano"]
["01CD06","01CD06 Agencia Digital de Innovación Pública"]
["01P0ES","01P0ES Fondo para el Desarrollo Económico y Social"]
["02C001","02C001 Secretaría de Gobierno"]
["02CD01","02CD01 Alcaldía Álvaro Obregón"]
["02CD02","02CD02 Alcaldía Azcapotzalco"]
["02CD03","02CD03 Alcaldía Benito Juárez"]
["02CD04","02CD04 Alcaldía Coyoacán"]
["02CD05","02CD05 Alcaldía Cuajimalpa de Morelos"]
["02CD06","02CD06 Alcaldía Cuauhtémoc"]
["02CD07","02CD07 Alcaldía Gustavo A. Madero"]
["02CD08","02CD08 Alcaldía Iztacalco"]
["02CD09","02CD09 Alcaldía Iztapalapa"]
["02CD10","02CD10 Alcaldía La Magdalena Contreras"]
["02CD11","02CD11 Alcaldía Miguel Hidalgo"]
["02CD12","02CD12 Alcaldía Milpa Alta"]
["02CD13","02CD13 Alcaldía Tláhuac"]
["02CD14","02CD14 Alcaldía Tlalpan"]
["02CD15","02CD15 Alcaldía Venustiano Carranza"]
["02CD16","02CD16 Alcaldía Xochimilco"]
["02CDBP","02CDBP Comisión de Búsqueda de Personas de la Ciudad de México"]
["02OD04","02OD04 Autoridad del Centro Histórico"]
["02OD06","02OD06 Instancia Ejecutora del Sistema Integral de Derechos Humanos"]
["02PDAV","02PDAV Comisión de Atención a Victímas de la Ciudad de México"]
["02PDDP","02PDDP Mecanismo para la Protección Integral de Personas Defensoras de Derechos Humanos y Periodistas"]
["03C001","03C001 Secretaría de Desarrollo Urbano y Vivienda"]
["03PDIV","03PDIV Instituto de Vivienda"]
["04C001","04C001 Secretaría de Desarrollo Económico"]
["04P0DE","04P0DE Fondo de Desarrollo Económico"]
["04P0DS","04P0DS Fondo para el Desarrollo Social"]
["05C001","05C001 Secretaría de Turismo"]
["05P0PT","05P0PT Fondo Mixto de Promoción Turística"]
["06C001","06C001 Secretaría del Medio Ambiente"]
["06CD03","06CD03 Sistema de Aguas de la Ciudad de México"]
["06CD05","06CD05 Agencia de Atención Animal"]
["06P0FA","06P0FA Fondo Ambiental Público"]
["06PDPA","06PDPA Procuraduría Ambiental y del Ordenamiento Territorial"]
["07C001","07C001 Secretaría de Obras y Servicios"]
["07CD01","07CD01 Planta Productora de Mezclas Asfalticas"]
["07PDIF","07PDIF Instituto Local de la Infraestructura Física Educativa"]
["07PDIS","07PDIS Instituto para la Seguridad de las Construcciones"]
["08C001","08C001 Secretaría de Inclusión y Bienestar Social"]
["08PDCE","08PDCE Consejo de Evaluación del Desarrollo Social"]
["08PDCP","08PDCP Consejo para Prevenir y Eliminar la Discriminación"]
["08PDDF","08PDDF Sistema para el Desarrollo Integral de la Familia"]
["08PDII","08PDII Instituto de las Personas con Discapacidad"]
["08PDIJ","08PDIJ Instituto de la Juventud"]
["08PDPS","08PDPS Procuraduría Social"]
["09C001","09C001 Secretaría de Administración y Finanzas"]
["09PDLR","09PDLR Caja de Previsión para Trabajadores a Lista de Raya"]
["09PDPA","09PDPA Caja de Previsión de la Policía Auxiliar"]
["09PDPP","09PDPP Caja de Previsión de la Policía Preventiva"]
["09PECM","09PECM Corporación Mexicana de Impresión, S.A. de C.V."]
["09PECV","09PECV PROCDMX, S.A. de C.V."]
["09PESM","09PESM Servicios Metropolitanos, S.A. de C.V."]
["09PFCH","09PFCH Fideicomiso del Centro Histórico"]
["09PFRC","09PFRC Fideicomiso de Recuperación Crediticia"]
["10C001","10C001 Secretaría de Movilidad"]
["10CD01","10CD01 Órgano Regulador de Transporte"]
["10P0AC","10P0AC Fondo Público de Atención al Ciclista y al Peatón"]
["10P0TP","10P0TP Fideicomiso para el Fondo de Promoción para el Financiamiento del Transporte Público"]
["10PDMB","10PDMB Metrobús"]
["10PDME","10PDME Sistema de Transporte Colectivo Metro"]
["10PDRT","10PDRT Red de Transporte de Pasajeros (RTP)"]
["10PDTE","10PDTE Servicio de Transportes Eléctricos"]
["11C001","11C001 Secretaría de Seguridad Ciudadana"]
["11CD01","11CD01 Universidad de la Policía"]
["11CD02","11CD02 Policía Auxiliar"]
["11CD03","11CD03 Policía Bancaria e Industrial"]
["13C001","13C001 Secretaría de la Contraloría General"]
["13PDEA","13PDEA Escuela de Administración Pública"]
["13PDVA","13PDVA Instituto de Verificación Administrativa"]
["14P0PJ","14P0PJ Fideicomiso Público del Fondo de Apoyo a la Procuración de Justicia"]
["15C006","15C006 Tesorería"]
["16C000","16C000 Deuda Pública"]
["17L000","17L000 Congreso de la Ciudad de México"]
["18L000","18L000 Auditoría Superior de la Ciudad de México"]
["19J000","19J000 Tribunal Superior de Justicia"]
["20J000","20J000 Consejo de la Judicatura"]
["21A000","21A000 Tribunal de Justicia Administrativa"]
["22A000","22A000 Junta Local de Conciliación y Arbitraje"]
["23A000","23A000 Comisión de Derechos Humanos"]
["24A000","24A000 Instituto Electoral"]
["25C001","25C001 Consejería Jurídica y de Servicios Legales"]
["26C001","26C001 Secretaría de Salud"]
["26CD01","26CD01 Agencia de Protección Sanitaria"]
["26PDIA","26PDIA Instituto para la Atención y Prevención de las Adicciones"]
["26PDSP","26PDSP Servicios de Salud Pública"]
["27A000","27A000 Tribunal Electoral"]
["29A000","29A000 Universidad Autónoma de la Ciudad de México"]
["31C000","31C000 Secretaría de Cultura"]
["31PFMA","31PFMA Fideicomiso Museo de Arte Popular Mexicano"]
["31PFME","31PFME Fideicomiso Museo del Estanquillo"]
["31PFPC","31PFPC Fideicomiso de Promocion y Desarrollo del Cine Mexicano"]
["32A000","32A000 Instituto de Transparencia, Acceso a la Información Pública, Protección de Datos Personales y Rendición de Cuentas"]
["33C001","33C001 Secretaría de Trabajo y Fomento Al Empleo"]
["33PDIT","33PDIT Instituto de Capacitación para el Trabajo"]
["34C001","34C001 Secretaría de Gestión Integral de Riesgos y Protección Civil"]
["34PDHB","34PDHB Heroico Cuerpo de Bomberos"]
["35C001","35C001 Secretaría de Pueblos y Barrios Originarios y Comunidades Indígenas Residentes"]
["36C001","36C001 Secretaría de Educación, Ciencia, Tecnología e Innovación"]
["36CD01","36CD01 Universidad de la Salud"]
["36CDES","36CDES Instituto de Estudios Superiores de la Ciudad de México \"Rosario Castellanos\""]
["36PDID","36PDID Instituto del Deporte"]
["36PDIE","36PDIE Instituto de Educación Media Superior"]
["36PFEG","36PFEG Fideicomiso Educación Garantizada"]
["38C001","38C001 Secretaría de las Mujeres"]
["39PDSR","39PDSR Sistema Público de Radiodifusión de la Ciudad de México"]
["40A000","40A000 Fiscalía General de Justicia"]

{"sheet":"CAT_PPI","index":30,"n_rows":1656,"n_cols":6,"rows_kept":1656,"cut":false,"hidden":true,"merged":[]}
["N_UR","PY",null,null,"UR","CANTIDAD"]
["01CD03 Centro de Comando, Control, Cómputo, Comunicaciones y Contacto Ciudadano","A21NR0183",null,null,"01CD03 Centro de Comando, Control, Cómputo, Comunicaciones y Contacto Ciudadano",{"$f":"COUNTIF(A$1:A$1656,E2)","v":3}]
["01CD03 Centro de Comando, Control, Cómputo, Comunicaciones y Contacto Ciudadano","A21NR0184",null,null,"01CD06 Agencia Digital de Innovación Pública",{"$f":"COUNTIF(A$1:A$1656,E3)","v":4}]
["01CD03 Centro de Comando, Control, Cómputo, Comunicaciones y Contacto Ciudadano","A21NR0228",null,null,"02C001 Secretaría de Gobierno",3]
["01CD06 Agencia Digital de Innovación Pública","A21NR0146",null,null,"02CD01 Alcaldía Álvaro Obregón",275]
["01CD06 Agencia Digital de Innovación Pública","A21NR0147",null,null,"02CD02 Alcaldía Azcapotzalco",95]
["01CD06 Agencia Digital de Innovación Pública","A21NR0189",null,null,"02CD03 Alcaldía Benito Juárez",40]
["01CD06 Agencia Digital de Innovación Pública","A21NR0338",null,null,"02CD04 Alcaldía Coyoacán",68]
["02C001 Secretaría de Gobierno","A21NR0001",null,null,"02CD05 Alcaldía Cuajimalpa de Morelos",57]
["02C001 Secretaría de Gobierno","A21NR0264",null,null,"02CD06 Alcaldía Cuauhtémoc",10]
["02C001 Secretaría de Gobierno","O12ML0001",null,null,"02CD07 Alcaldía Gustavo A. Madero",18]
["02CD01 Alcaldía Álvaro Obregón","A21NR0002",null,null,"02CD08 Alcaldía Iztacalco",82]
["02CD01 Alcaldía Álvaro Obregón","A21NR0003",null,null,"02CD09 Alcaldía Iztapalapa",41]
["02CD01 Alcaldía Álvaro Obregón","A21NR0004",null,null,"02CD10 Alcaldía La Magdalena Contreras",68]
["02CD01 Alcaldía Álvaro Obregón","A21NR0005",null,null,"02CD11 Alcaldía Miguel Hidalgo",40]
["02CD01 Alcaldía Álvaro Obregón","A21NR0006",null,null,"02CD12 Alcaldía Milpa Alta",33]
["02CD01 Alcaldía Álvaro Obregón","A21NR0007",null,null,"02CD13 Alcaldía Tláhuac",18]
["02CD01 Alcaldía Álvaro Obregón","A21NR0008",null,null,"02CD14 Alcaldía Tlalpan",178]
["02CD01 Alcaldía Álvaro Obregón","A21NR0009",null,null,"02CD15 Alcaldía Venustiano Carranza",24]
["02CD01 Alcaldía Álvaro Obregón","A21NR0010",null,null,"02CD16 Alcaldía Xochimilco",157]
["02CD01 Alcaldía Álvaro Obregón","A21NR0011",null,null,"02CDBP Comisión de Búsqueda de Personas de la Ciudad de México",12]
["02CD01 Alcaldía Álvaro Obregón","A21NR0012",null,null,"02OD04 Autoridad del Centro Histórico",1]
["02CD01 Alcaldía Álvaro Obregón","A21NR0017",null,null,"02PDAV Comisión Ejecutiva de Atención a Victímas de la Ciudad de México",3]
["02CD01 Alcaldía Álvaro Obregón","A21NR0036",null,null,"03C001 Secretaría de Desarrollo Urbano y Vivienda",1]
["02CD01 Alcaldía Álvaro Obregón","A21NR0037",null,null,"03PDIV Instituto de Vivienda",3]
["02CD01 Alcaldía Álvaro Obregón","A21NR0053",null,null,"04C001 Secretaría de Desarrollo Económico",2]
["02CD01 Alcaldía Álvaro Obregón","A21NR0063",null,null,"04P0DS Fondo para el Desarrollo Social",2]
["02CD01 Alcaldía Álvaro Obregón","A21NR0072",null,null,"06C001 Secretaría del Medio Ambiente",8]
["02CD01 Alcaldía Álvaro Obregón","A21NR0220",null,null,"06CD03 Sistema de Aguas de la Ciudad de México",94]
["02CD01 Alcaldía Álvaro Obregón","A21NR0254",null,null,"06P0FA Fondo Ambiental Público",2]
["02CD01 Alcaldía Álvaro Obregón","A21NR0273",null,null,"06PDPA Procuraduría Ambiental y del Ordenamiento Territorial",1]
["02CD01 Alcaldía Álvaro Obregón","A21NR0281",null,null,"07C001 Secretaría de Obras y Servicios",149]
["02CD01 Alcaldía Álvaro Obregón","A21NR0301",null,null,"07CD01 Planta Productora de Mezclas Asfalticas",1]
["02CD01 Alcaldía Álvaro Obregón","A21NR0386",null,null,"07PDIF Instituto Local de la Infraestructura Física Educativa",26]
["02CD01 Alcaldía Álvaro Obregón","A21NR0387",null,null,"07PDIS Instituto para la Seguridad de las Construcciones",1]
["02CD01 Alcaldía Álvaro Obregón","A21NR0388",null,null,"08C001 Secretaría de Inclusión y Bienestar Social",1]
["02CD01 Alcaldía Álvaro Obregón","A21NR0462",null,null,"08PDCE Consejo de Evaluación del Desarrollo Social",4]
["02CD01 Alcaldía Álvaro Obregón","A21NR0515",null,null,"08PDCP Consejo para Prevenir y Eliminar la Discriminación",2]
["02CD01 Alcaldía Álvaro Obregón","A21NR0516",null,null,"09C001 Secretaría de Administración y Finanzas",1]
["02CD01 Alcaldía Álvaro Obregón","A21NR0517",null,null,"09PDLR Caja de Previsión para Trabajadores a Lista de Raya",2]
["02CD01 Alcaldía Álvaro Obregón","A21NR0518",null,null,"09PECM Corporación Mexicana de Impresión, S.A. de C.V.",3]
["02CD01 Alcaldía Álvaro Obregón","A21NR0523",null,null,"09PESM Servicios Metropolitanos, S.A. de C.V.",2]
["02CD01 Alcaldía Álvaro Obregón","O21NR0001",null,null,"09PFCH Fideicomiso del Centro Histórico",6]
["02CD01 Alcaldía Álvaro Obregón","O21NR0002",null,null,"09PFRC Fideicomiso de Recuperación Crediticia",2]
["02CD01 Alcaldía Álvaro Obregón","O21NR0003",null,null,"10C001 Secretaría de Movilidad",6]
["02CD01 Alcaldía Álvaro Obregón","O21NR0004",null,null,"10CD01 Órgano Regulador de Transporte",2]
["02CD01 Alcaldía Álvaro Obregón","O21NR0005",null,null,"10P0AC Fondo Público de Atención al Ciclista y al Peatón",2]
["02CD01 Alcaldía Álvaro Obregón","O21NR0006",null,null,"10P0TP Fideicomiso para el Fondo de Promoción para el Financiamiento del Transporte Público",1]
["02CD01 Alcaldía Álvaro Obregón","O21NR0007",null,null,"10PDMB Metrobús",2]
["02CD01 Alcaldía Álvaro Obregón","O21NR0008",null,null,"10PDME Sistema de Transporte Colectivo Metro",13]
["02CD01 Alcaldía Álvaro Obregón","O21NR0009",null,null,"10PDTE Servicio de Transportes Eléctricos",5]
["02CD01 Alcaldía Álvaro Obregón","O21NR0010",null,null,"11C001 Secretaría de Seguridad Ciudadana",7]
["02CD01 Alcaldía Álvaro Obregón","O21NR0011",null,null,"11CD01 Universidad de la Policía",2]
["02CD01 Alcaldía Álvaro Obregón","O21NR0012",null,null,"11CD03 Policía Bancaria e Industrial",1]
["02CD01 Alcaldía Álvaro Obregón","O21NR0013",null,null,"13C001 Secretaría de la Contraloría General",11]
["02CD01 Alcaldía Álvaro Obregón","O21NR0014",null,null,"25C001 Consejería Jurídica y de Servicios Legales",2]
["02CD01 Alcaldía Álvaro Obregón","O21NR0015",null,null,"26C001 Secretaría de Salud",2]
["02CD01 Alcaldía Álvaro Obregón","O21NR0016",null,null,"26CD01 Agencia de Protección Sanitaria",1]
["02CD01 Alcaldía Álvaro Obregón","O21NR0017",null,null,"26PDSP Servicios de Salud Pública",12]
["02CD01 Alcaldía Álvaro Obregón","O21NR0018",null,null,"31C000 Secretaría de Cultura",2]
["02CD01 Alcaldía Álvaro Obregón","O21NR0019",null,null,"33C001 Secretaría de Trabajo y Fomento Al Empleo",2]
["02CD01 Alcaldía Álvaro Obregón","O21NR0328",null,null,"34C001 Secretaría de Gestión Integral de Riesgos y Protección Civil",1]
["02CD01 Alcaldía Álvaro Obregón","O21NR0329",null,null,"34PDHB Heroico Cuerpo de Bomberos",3]
["02CD01 Alcaldía Álvaro Obregón","O21NR0335",null,null,"36C001 Secretaría de Educación, Ciencia, Tecnología e Innovación",7]
["02CD01 Alcaldía Álvaro Obregón","O21NR0336",null,null,"36CD01 Universidad de la Salud",6]
["02CD01 Alcaldía Álvaro Obregón","O21NR0337",null,null,"36CDES Instituto de Estudios Superiores de la Ciudad de México \"Rosario Castellanos\"",13]
["02CD01 Alcaldía Álvaro Obregón","O21NR0338",null,null,"36PDID Instituto del Deporte",{"$f":"COUNTIF(A$1:A$1656,E67)","v":3}]
["02CD01 Alcaldía Álvaro Obregón","O21NR0339",null,null,"36PFEG Fideicomiso Educación Garantizada",1]
["02CD01 Alcaldía Álvaro Obregón","O21NR0340",null,null,"38C001 Secretaría de las Mujeres",5]
["02CD01 Alcaldía Álvaro Obregón","O21NR0341",null,null,"38C001 Secretaría de las Mujeres",5]
["02CD01 Alcaldía Álvaro Obregón","O21NR0342"]
["02CD01 Alcaldía Álvaro Obregón","O21NR0343"]
["02CD01 Alcaldía Álvaro Obregón","O21NR0344"]
["02CD01 Alcaldía Álvaro Obregón","O21NR0345"]
["02CD01 Alcaldía Álvaro Obregón","O21NR0346"]
["02CD01 Alcaldía Álvaro Obregón","O21NR0347"]
["02CD01 Alcaldía Álvaro Obregón","O21NR0348"]
["02CD01 Alcaldía Álvaro Obregón","O21NR0349"]
["02CD01 Alcaldía Álvaro Obregón","O21NR0350"]
["02CD01 Alcaldía Álvaro Obregón","O21NR0351"]
["02CD01 Alcaldía Álvaro Obregón","O21NR0352"]
["02CD01 Alcaldía Álvaro Obregón","O21NR0353"]
["02CD01 Alcaldía Álvaro Obregón","O21NR0354"]
["02CD01 Alcaldía Álvaro Obregón","O21NR0355"]
["02CD01 Alcaldía Álvaro Obregón","O21NR0356"]
["02CD01 Alcaldía Álvaro Obregón","O21NR0357"]
["02CD01 Alcaldía Álvaro Obregón","O21NR0358"]
["02CD01 Alcaldía Álvaro Obregón","O21NR0359"]
["02CD01 Alcaldía Álvaro Obregón","O21NR0360"]
["02CD01 Alcaldía Álvaro Obregón","O21NR0361"]
["02CD01 Alcaldía Álvaro Obregón","O21NR0362"]
["02CD01 Alcaldía Álvaro Obregón","O21NR0363"]
["02CD01 Alcaldía Álvaro Obregón","O21NR0364"]
["02CD01 Alcaldía Álvaro Obregón","O21NR0365"]
["02CD01 Alcaldía Álvaro Obregón","O21NR0366"]
["02CD01 Alcaldía Álvaro Obregón","O21NR0367"]
["02CD01 Alcaldía Álvaro Obregón","O21NR0368"]
["02CD01 Alcaldía Álvaro Obregón","O21NR0369"]
["02CD01 Alcaldía Álvaro Obregón","O21NR0370"]
["02CD01 Alcaldía Álvaro Obregón","O21NR0371"]
["02CD01 Alcaldía Álvaro Obregón","O21NR0372"]
["02CD01 Alcaldía Álvaro Obregón","O21NR0373"]
["02CD01 Alcaldía Álvaro Obregón","O21NR0374"]
["02CD01 Alcaldía Álvaro Obregón","O21NR0375"]
["02CD01 Alcaldía Álvaro Obregón","O21NR0376"]
["02CD01 Alcaldía Álvaro Obregón","O21NR0377"]
["02CD01 Alcaldía Álvaro Obregón","O21NR0378"]
["02CD01 Alcaldía Álvaro Obregón","O21NR0379"]
["02CD01 Alcaldía Álvaro Obregón","O21NR0380"]
["02CD01 Alcaldía Álvaro Obregón","O21NR0381"]
["02CD01 Alcaldía Álvaro Obregón","O21NR0382"]
["02CD01 Alcaldía Álvaro Obregón","O21NR0383"]
["02CD01 Alcaldía Álvaro Obregón","O21NR0384"]
["02CD01 Alcaldía Álvaro Obregón","O21NR0385"]
["02CD01 Alcaldía Álvaro Obregón","O21NR0386"]
["02CD01 Alcaldía Álvaro Obregón","O21NR0387"]
["02CD01 Alcaldía Álvaro Obregón","O21NR0388"]
["02CD01 Alcaldía Álvaro Obregón","O21NR0389"]
["02CD01 Alcaldía Álvaro Obregón","O21NR0390"]
["02CD01 Alcaldía Álvaro Obregón","O21NR0391"]
["02CD01 Alcaldía Álvaro Obregón","O21NR0392"]
["02CD01 Alcaldía Álvaro Obregón","O21NR0393"]
["02CD01 Alcaldía Álvaro Obregón","O21NR0394"]
["02CD01 Alcaldía Álvaro Obregón","O21NR0395"]
["02CD01 Alcaldía Álvaro Obregón","O21NR0396"]
["02CD01 Alcaldía Álvaro Obregón","O21NR0397"]
["02CD01 Alcaldía Álvaro Obregón","O21NR0398"]
["02CD01 Alcaldía Álvaro Obregón","O21NR0399"]
["02CD01 Alcaldía Álvaro Obregón","O21NR0400"]
["02CD01 Alcaldía Álvaro Obregón","O21NR0401"]
["02CD01 Alcaldía Álvaro Obregón","O21NR0402"]
["02CD01 Alcaldía Álvaro Obregón","O21NR0403"]
["02CD01 Alcaldía Álvaro Obregón","O21NR0404"]
["02CD01 Alcaldía Álvaro Obregón","O21NR0405"]
["02CD01 Alcaldía Álvaro Obregón","O21NR0406"]
["02CD01 Alcaldía Álvaro Obregón","O21NR0407"]
["02CD01 Alcaldía Álvaro Obregón","O21NR0408"]
["02CD01 Alcaldía Álvaro Obregón","O21NR0409"]
["02CD01 Alcaldía Álvaro Obregón","O21NR0410"]
["02CD01 Alcaldía Álvaro Obregón","O21NR0411"]
["02CD01 Alcaldía Álvaro Obregón","O21NR0412"]
["02CD01 Alcaldía Álvaro Obregón","O21NR0413"]
["02CD01 Alcaldía Álvaro Obregón","O21NR0414"]
["02CD01 Alcaldía Álvaro Obregón","O21NR0415"]
["02CD01 Alcaldía Álvaro Obregón","O21NR0416"]
["02CD01 Alcaldía Álvaro Obregón","O21NR0417"]
["02CD01 Alcaldía Álvaro Obregón","O21NR0418"]
["02CD01 Alcaldía Álvaro Obregón","O21NR0419"]
["02CD01 Alcaldía Álvaro Obregón","O21NR0420"]
["02CD01 Alcaldía Álvaro Obregón","O21NR0421"]
["02CD01 Alcaldía Álvaro Obregón","O21NR0422"]
["02CD01 Alcaldía Álvaro Obregón","O21NR0423"]
["02CD01 Alcaldía Álvaro Obregón","O21NR0424"]
["02CD01 Alcaldía Álvaro Obregón","O21NR0425"]
["02CD01 Alcaldía Álvaro Obregón","O21NR0426"]
["02CD01 Alcaldía Álvaro Obregón","O21NR0427"]
["02CD01 Alcaldía Álvaro Obregón","O21NR0428"]
["02CD01 Alcaldía Álvaro Obregón","O21NR0429"]
["02CD01 Alcaldía Álvaro Obregón","O21NR0430"]
["02CD01 Alcaldía Álvaro Obregón","O21NR0431"]
["02CD01 Alcaldía Álvaro Obregón","O21NR0432"]
["02CD01 Alcaldía Álvaro Obregón","O21NR0433"]
["02CD01 Alcaldía Álvaro Obregón","O21NR0434"]
["02CD01 Alcaldía Álvaro Obregón","O21NR0435"]
["02CD01 Alcaldía Álvaro Obregón","O21NR0436"]
["02CD01 Alcaldía Álvaro Obregón","O21NR0437"]
["02CD01 Alcaldía Álvaro Obregón","O21NR0438"]
["02CD01 Alcaldía Álvaro Obregón","O21NR0439"]
["02CD01 Alcaldía Álvaro Obregón","O21NR0440"]
["02CD01 Alcaldía Álvaro Obregón","O21NR0441"]
["02CD01 Alcaldía Álvaro Obregón","O21NR0442"]
["02CD01 Alcaldía Álvaro Obregón","O21NR0443"]
["02CD01 Alcaldía Álvaro Obregón","O21NR0444"]
["02CD01 Alcaldía Álvaro Obregón","O21NR0445"]
["02CD01 Alcaldía Álvaro Obregón","O21NR0446"]
["02CD01 Alcaldía Álvaro Obregón","O21NR0447"]
["02CD01 Alcaldía Álvaro Obregón","O21NR0448"]
["02CD01 Alcaldía Álvaro Obregón","O21NR0449"]
["02CD01 Alcaldía Álvaro Obregón","O21NR0450"]
["02CD01 Alcaldía Álvaro Obregón","O21NR0451"]
["02CD01 Alcaldía Álvaro Obregón","O21NR0452"]
["02CD01 Alcaldía Álvaro Obregón","O21NR0453"]
["02CD01 Alcaldía Álvaro Obregón","O21NR0454"]
["02CD01 Alcaldía Álvaro Obregón","O21NR0455"]
["02CD01 Alcaldía Álvaro Obregón","O21NR0456"]
["02CD01 Alcaldía Álvaro Obregón","O21NR0457"]
["02CD01 Alcaldía Álvaro Obregón","O21NR0458"]
["02CD01 Alcaldía Álvaro Obregón","O21NR0459"]
["02CD01 Alcaldía Álvaro Obregón","O21NR0460"]
["02CD01 Alcaldía Álvaro Obregón","O21NR0461"]
["02CD01 Alcaldía Álvaro Obregón","O21NR0462"]
["02CD01 Alcaldía Álvaro Obregón","O21NR0463"]
["02CD01 Alcaldía Álvaro Obregón","O21NR0464"]
["02CD01 Alcaldía Álvaro Obregón","O21NR0465"]
["02CD01 Alcaldía Álvaro Obregón","O21NR0466"]
["02CD01 Alcaldía Álvaro Obregón","O21NR0467"]
["02CD01 Alcaldía Álvaro Obregón","O21NR0468"]
["02CD01 Alcaldía Álvaro Obregón","O21NR0469"]
["02CD01 Alcaldía Álvaro Obregón","O21NR0470"]
["02CD01 Alcaldía Álvaro Obregón","O21NR0471"]
["02CD01 Alcaldía Álvaro Obregón","O21NR0472"]
["02CD01 Alcaldía Álvaro Obregón","O21NR0473"]
["02CD01 Alcaldía Álvaro Obregón","O21NR0474"]
["02CD01 Alcaldía Álvaro Obregón","O21NR0475"]
["02CD01 Alcaldía Álvaro Obregón","O21NR0476"]
["02CD01 Alcaldía Álvaro Obregón","O21NR0477"]
["02CD01 Alcaldía Álvaro Obregón","O21NR0478"]
["02CD01 Alcaldía Álvaro Obregón","O21NR0479"]
["02CD01 Alcaldía Álvaro Obregón","O21NR0480"]
["02CD01 Alcaldía Álvaro Obregón","O21NR0481"]
["02CD01 Alcaldía Álvaro Obregón","O21NR0482"]
["02CD01 Alcaldía Álvaro Obregón","O21NR0483"]
["02CD01 Alcaldía Álvaro Obregón","O21NR0484"]
["02CD01 Alcaldía Álvaro Obregón","O21NR0485"]
["02CD01 Alcaldía Álvaro Obregón","O21NR0486"]
["02CD01 Alcaldía Álvaro Obregón","O21NR0487"]
["02CD01 Alcaldía Álvaro Obregón","O21NR0905"]
["02CD01 Alcaldía Álvaro Obregón","O21NR0906"]
["02CD01 Alcaldía Álvaro Obregón","O21NR0907"]
["02CD01 Alcaldía Álvaro Obregón","O21NR0930"]
["02CD01 Alcaldía Álvaro Obregón","O21NR0998"]
["02CD01 Alcaldía Álvaro Obregón","O21NR0999"]
["02CD01 Alcaldía Álvaro Obregón","O21NR1000"]
["02CD01 Alcaldía Álvaro Obregón","O21NR1001"]
["02CD01 Alcaldía Álvaro Obregón","O21NR1002"]
["02CD01 Alcaldía Álvaro Obregón","O21NR1003"]
["02CD01 Alcaldía Álvaro Obregón","O21NR1004"]
["02CD01 Alcaldía Álvaro Obregón","O21NR1005"]
["02CD01 Alcaldía Álvaro Obregón","O21NR1006"]
["02CD01 Alcaldía Álvaro Obregón","O21NR1007"]
["02CD01 Alcaldía Álvaro Obregón","O21NR1008"]
["02CD01 Alcaldía Álvaro Obregón","O21NR1009"]
["02CD01 Alcaldía Álvaro Obregón","O21NR1010"]
["02CD01 Alcaldía Álvaro Obregón","O21NR1012"]
["02CD01 Alcaldía Álvaro Obregón","O21NR1013"]
["02CD01 Alcaldía Álvaro Obregón","O21NR1014"]
["02CD01 Alcaldía Álvaro Obregón","O21NR1015"]
["02CD01 Alcaldía Álvaro Obregón","O21NR1016"]
["02CD01 Alcaldía Álvaro Obregón","O21NR1017"]
["02CD01 Alcaldía Álvaro Obregón","O21NR1018"]
["02CD01 Alcaldía Álvaro Obregón","O21NR1019"]
["02CD01 Alcaldía Álvaro Obregón","O21NR1020"]
["02CD01 Alcaldía Álvaro Obregón","O21NR1023"]
["02CD01 Alcaldía Álvaro Obregón","O21NR1024"]
["02CD01 Alcaldía Álvaro Obregón","O21NR1025"]
["02CD01 Alcaldía Álvaro Obregón","O21NR1026"]
["02CD01 Alcaldía Álvaro Obregón","O21NR1027"]
["02CD01 Alcaldía Álvaro Obregón","O21NR1029"]
["02CD01 Alcaldía Álvaro Obregón","O21NR1030"]
["02CD01 Alcaldía Álvaro Obregón","O21NR1031"]
["02CD01 Alcaldía Álvaro Obregón","O21NR1032"]
["02CD01 Alcaldía Álvaro Obregón","O21NR1033"]
["02CD01 Alcaldía Álvaro Obregón","O21NR1035"]
["02CD01 Alcaldía Álvaro Obregón","O21NR1036"]
["02CD01 Alcaldía Álvaro Obregón","O21NR1037"]
["02CD01 Alcaldía Álvaro Obregón","O21NR1039"]
["02CD01 Alcaldía Álvaro Obregón","O21NR1040"]
["02CD01 Alcaldía Álvaro Obregón","O21NR1041"]
["02CD01 Alcaldía Álvaro Obregón","O21NR1042"]
["02CD01 Alcaldía Álvaro Obregón","O21NR1043"]
["02CD01 Alcaldía Álvaro Obregón","O21NR1044"]
["02CD01 Alcaldía Álvaro Obregón","O21NR1045"]
["02CD01 Alcaldía Álvaro Obregón","O21NR1046"]
["02CD01 Alcaldía Álvaro Obregón","O21NR1047"]
["02CD01 Alcaldía Álvaro Obregón","O21NR1049"]
["02CD01 Alcaldía Álvaro Obregón","O21NR1050"]
["02CD01 Alcaldía Álvaro Obregón","O21NR1052"]
["02CD01 Alcaldía Álvaro Obregón","O21NR1055"]
["02CD01 Alcaldía Álvaro Obregón","O21NR1056"]
["02CD01 Alcaldía Álvaro Obregón","O21NR1057"]
["02CD01 Alcaldía Álvaro Obregón","O21NR1059"]
["02CD01 Alcaldía Álvaro Obregón","O21NR1061"]
["02CD01 Alcaldía Álvaro Obregón","O21NR1062"]
["02CD01 Alcaldía Álvaro Obregón","O21NR1063"]
["02CD01 Alcaldía Álvaro Obregón","O21NR1064"]
["02CD01 Alcaldía Álvaro Obregón","O21NR1066"]
["02CD01 Alcaldía Álvaro Obregón","O21NR1067"]
["02CD01 Alcaldía Álvaro Obregón","O21NR1068"]
["02CD01 Alcaldía Álvaro Obregón","O21NR1141"]
["02CD01 Alcaldía Álvaro Obregón","O21NR1142"]
["02CD01 Alcaldía Álvaro Obregón","O21NR1143"]
["02CD01 Alcaldía Álvaro Obregón","O21NR1144"]
["02CD01 Alcaldía Álvaro Obregón","O21NR1145"]
["02CD01 Alcaldía Álvaro Obregón","O21NR1356"]
["02CD01 Alcaldía Álvaro Obregón","O21NR1357"]
["02CD01 Alcaldía Álvaro Obregón","O21NR1358"]
["02CD02 Alcaldía Azcapotzalco","A21NR0232"]
["02CD02 Alcaldía Azcapotzalco","A21NR0241"]
["02CD02 Alcaldía Azcapotzalco","A21NR0335"]
["02CD02 Alcaldía Azcapotzalco","A21NR0377"]
["02CD02 Alcaldía Azcapotzalco","A21NR0432"]
["02CD02 Alcaldía Azcapotzalco","A21NR0504"]
["02CD02 Alcaldía Azcapotzalco","A21NR0505"]
["02CD02 Alcaldía Azcapotzalco","O21NR0047"]
["02CD02 Alcaldía Azcapotzalco","O21NR0065"]
["02CD02 Alcaldía Azcapotzalco","O21NR0080"]
["02CD02 Alcaldía Azcapotzalco","O21NR0095"]
["02CD02 Alcaldía Azcapotzalco","O21NR0106"]
["02CD02 Alcaldía Azcapotzalco","O21NR0116"]
["02CD02 Alcaldía Azcapotzalco","O21NR0126"]
["02CD02 Alcaldía Azcapotzalco","O21NR0136"]
["02CD02 Alcaldía Azcapotzalco","O21NR0644"]
["02CD02 Alcaldía Azcapotzalco","O21NR0645"]
["02CD02 Alcaldía Azcapotzalco","O21NR0646"]
["02CD02 Alcaldía Azcapotzalco","O21NR0647"]
["02CD02 Alcaldía Azcapotzalco","O21NR0648"]
["02CD02 Alcaldía Azcapotzalco","O21NR0649"]
["02CD02 Alcaldía Azcapotzalco","O21NR0650"]
["02CD02 Alcaldía Azcapotzalco","O21NR0651"]
["02CD02 Alcaldía Azcapotzalco","O21NR0652"]
["02CD02 Alcaldía Azcapotzalco","O21NR0653"]
["02CD02 Alcaldía Azcapotzalco","O21NR0654"]
["02CD02 Alcaldía Azcapotzalco","O21NR0655"]
["02CD02 Alcaldía Azcapotzalco","O21NR0656"]
["02CD02 Alcaldía Azcapotzalco","O21NR0657"]
["02CD02 Alcaldía Azcapotzalco","O21NR0658"]
["02CD02 Alcaldía Azcapotzalco","O21NR0659"]
["02CD02 Alcaldía Azcapotzalco","O21NR0660"]
["02CD02 Alcaldía Azcapotzalco","O21NR0662"]
["02CD02 Alcaldía Azcapotzalco","O21NR0663"]
["02CD02 Alcaldía Azcapotzalco","O21NR0664"]
["02CD02 Alcaldía Azcapotzalco","O21NR0665"]
["02CD02 Alcaldía Azcapotzalco","O21NR0666"]
["02CD02 Alcaldía Azcapotzalco","O21NR0667"]
["02CD02 Alcaldía Azcapotzalco","O21NR0668"]
["02CD02 Alcaldía Azcapotzalco","O21NR0669"]
["02CD02 Alcaldía Azcapotzalco","O21NR0670"]
["02CD02 Alcaldía Azcapotzalco","O21NR0671"]
["02CD02 Alcaldía Azcapotzalco","O21NR0672"]
["02CD02 Alcaldía Azcapotzalco","O21NR0673"]
["02CD02 Alcaldía Azcapotzalco","O21NR0674"]
["02CD02 Alcaldía Azcapotzalco","O21NR0675"]
["02CD02 Alcaldía Azcapotzalco","O21NR0676"]
["02CD02 Alcaldía Azcapotzalco","O21NR0677"]
["02CD02 Alcaldía Azcapotzalco","O21NR0678"]
["02CD02 Alcaldía Azcapotzalco","O21NR0679"]
["02CD02 Alcaldía Azcapotzalco","O21NR0680"]
["02CD02 Alcaldía Azcapotzalco","O21NR0681"]
["02CD02 Alcaldía Azcapotzalco","O21NR0682"]
["02CD02 Alcaldía Azcapotzalco","O21NR0683"]
["02CD02 Alcaldía Azcapotzalco","O21NR0684"]
["02CD02 Alcaldía Azcapotzalco","O21NR0685"]
["02CD02 Alcaldía Azcapotzalco","O21NR0686"]
["02CD02 Alcaldía Azcapotzalco","O21NR0687"]
["02CD02 Alcaldía Azcapotzalco","O21NR0688"]
["02CD02 Alcaldía Azcapotzalco","O21NR0689"]
["02CD02 Alcaldía Azcapotzalco","O21NR0690"]
["02CD02 Alcaldía Azcapotzalco","O21NR0691"]
["02CD02 Alcaldía Azcapotzalco","O21NR0692"]
["02CD02 Alcaldía Azcapotzalco","O21NR0693"]
["02CD02 Alcaldía Azcapotzalco","O21NR0694"]
["02CD02 Alcaldía Azcapotzalco","O21NR0695"]
["02CD02 Alcaldía Azcapotzalco","O21NR0696"]
["02CD02 Alcaldía Azcapotzalco","O21NR0697"]
["02CD02 Alcaldía Azcapotzalco","O21NR0698"]
["02CD02 Alcaldía Azcapotzalco","O21NR0699"]
["02CD02 Alcaldía Azcapotzalco","O21NR0700"]
["02CD02 Alcaldía Azcapotzalco","O21NR0701"]
["02CD02 Alcaldía Azcapotzalco","O21NR0702"]
["02CD02 Alcaldía Azcapotzalco","O21NR0703"]
["02CD02 Alcaldía Azcapotzalco","O21NR0704"]
["02CD02 Alcaldía Azcapotzalco","O21NR0705"]
["02CD02 Alcaldía Azcapotzalco","O21NR0706"]
["02CD02 Alcaldía Azcapotzalco","O21NR0707"]
["02CD02 Alcaldía Azcapotzalco","O21NR0708"]
["02CD02 Alcaldía Azcapotzalco","O21NR0709"]
["02CD02 Alcaldía Azcapotzalco","O21NR0710"]
["02CD02 Alcaldía Azcapotzalco","O21NR0711"]
["02CD02 Alcaldía Azcapotzalco","O21NR0712"]
["02CD02 Alcaldía Azcapotzalco","O21NR0713"]
["02CD02 Alcaldía Azcapotzalco","O21NR0714"]
["02CD02 Alcaldía Azcapotzalco","O21NR0715"]
["02CD02 Alcaldía Azcapotzalco","O21NR0716"]
["02CD02 Alcaldía Azcapotzalco","O21NR0717"]
["02CD02 Alcaldía Azcapotzalco","O21NR0718"]
["02CD02 Alcaldía Azcapotzalco","O21NR0719"]
["02CD02 Alcaldía Azcapotzalco","O21NR0720"]
["02CD02 Alcaldía Azcapotzalco","O21NR0931"]
["02CD02 Alcaldía Azcapotzalco","O21NR0933"]
["02CD02 Alcaldía Azcapotzalco","O21NR0934"]
["02CD02 Alcaldía Azcapotzalco","O21NR0935"]
["02CD03 Alcaldía Benito Juárez","A21NR0022"]
["02CD03 Alcaldía Benito Juárez","A21NR0038"]
["02CD03 Alcaldía Benito Juárez","A21NR0054"]
["02CD03 Alcaldía Benito Juárez","A21NR0180"]
["02CD03 Alcaldía Benito Juárez","A21NR0448"]
["02CD03 Alcaldía Benito Juárez","A21NR0527"]
["02CD03 Alcaldía Benito Juárez","A21NR0529"]
["02CD03 Alcaldía Benito Juárez","A21NR0532"]
["02CD03 Alcaldía Benito Juárez","O21NR0048"]
["02CD03 Alcaldía Benito Juárez","O21NR0066"]
["02CD03 Alcaldía Benito Juárez","O21NR0081"]
["02CD03 Alcaldía Benito Juárez","O21NR0096"]
["02CD03 Alcaldía Benito Juárez","O21NR0107"]
["02CD03 Alcaldía Benito Juárez","O21NR0117"]
["02CD03 Alcaldía Benito Juárez","O21NR0127"]
["02CD03 Alcaldía Benito Juárez","O21NR0137"]
["02CD03 Alcaldía Benito Juárez","O21NR0146"]
["02CD03 Alcaldía Benito Juárez","O21NR0155"]
["02CD03 Alcaldía Benito Juárez","O21NR0164"]
["02CD03 Alcaldía Benito Juárez","O21NR0267"]
["02CD03 Alcaldía Benito Juárez","O21NR0269"]
["02CD03 Alcaldía Benito Juárez","O21NR0270"]
["02CD03 Alcaldía Benito Juárez","O21NR0317"]
["02CD03 Alcaldía Benito Juárez","O21NR0509"]
["02CD03 Alcaldía Benito Juárez","O21NR0510"]
["02CD03 Alcaldía Benito Juárez","O21NR0515"]
["02CD03 Alcaldía Benito Juárez","O21NR0516"]
["02CD03 Alcaldía Benito Juárez","O21NR0972"]
["02CD03 Alcaldía Benito Juárez","O21NR0973"]
["02CD03 Alcaldía Benito Juárez","O21NR0974"]
["02CD03 Alcaldía Benito Juárez","O21NR0975"]
["02CD03 Alcaldía Benito Juárez","O21NR0976"]
["02CD03 Alcaldía Benito Juárez","O21NR0978"]
["02CD03 Alcaldía Benito Juárez","O21NR0979"]
["02CD03 Alcaldía Benito Juárez","O21NR0980"]
["02CD03 Alcaldía Benito Juárez","O21NR0981"]
["02CD03 Alcaldía Benito Juárez","O21NR0983"]
["02CD03 Alcaldía Benito Juárez","O21NR0984"]
["02CD03 Alcaldía Benito Juárez","O21NR0985"]
["02CD03 Alcaldía Benito Juárez","O21NR0986"]
["02CD04 Alcaldía Coyoacán","A21NR0013"]
["02CD04 Alcaldía Coyoacán","A21NR0014"]
["02CD04 Alcaldía Coyoacán","A21NR0015"]
["02CD04 Alcaldía Coyoacán","A21NR0016"]
["02CD04 Alcaldía Coyoacán","A21NR0018"]
["02CD04 Alcaldía Coyoacán","A21NR0019"]
["02CD04 Alcaldía Coyoacán","A21NR0020"]
["02CD04 Alcaldía Coyoacán","A21NR0023"]
["02CD04 Alcaldía Coyoacán","A21NR0039"]
["02CD04 Alcaldía Coyoacán","A21NR0055"]
["02CD04 Alcaldía Coyoacán","A21NR0064"]
["02CD04 Alcaldía Coyoacán","A21NR0073"]
["02CD04 Alcaldía Coyoacán","A21NR0080"]
["02CD04 Alcaldía Coyoacán","A21NR0081"]
["02CD04 Alcaldía Coyoacán","A21NR0088"]
["02CD04 Alcaldía Coyoacán","A21NR0089"]
["02CD04 Alcaldía Coyoacán","A21NR0098"]
["02CD04 Alcaldía Coyoacán","A21NR0099"]
["02CD04 Alcaldía Coyoacán","A21NR0100"]
["02CD04 Alcaldía Coyoacán","A21NR0111"]
["02CD04 Alcaldía Coyoacán","A21NR0194"]
["02CD04 Alcaldía Coyoacán","A21NR0195"]
["02CD04 Alcaldía Coyoacán","A21NR0196"]
["02CD04 Alcaldía Coyoacán","A21NR0197"]
["02CD04 Alcaldía Coyoacán","A21NR0287"]
["02CD04 Alcaldía Coyoacán","A21NR0319"]
["02CD04 Alcaldía Coyoacán","A21NR0327"]
["02CD04 Alcaldía Coyoacán","A21NR0328"]
["02CD04 Alcaldía Coyoacán","A21NR0336"]
["02CD04 Alcaldía Coyoacán","A21NR0349"]
["02CD04 Alcaldía Coyoacán","A21NR0393"]
["02CD04 Alcaldía Coyoacán","A21NR0433"]
["02CD04 Alcaldía Coyoacán","A21NR0435"]
["02CD04 Alcaldía Coyoacán","A21NR0437"]
["02CD04 Alcaldía Coyoacán","A21NR0438"]
["02CD04 Alcaldía Coyoacán","A21NR0451"]
["02CD04 Alcaldía Coyoacán","A21NR0454"]
["02CD04 Alcaldía Coyoacán","A21NR0455"]
["02CD04 Alcaldía Coyoacán","A21NR0464"]
["02CD04 Alcaldía Coyoacán","A21NR0475"]
["02CD04 Alcaldía Coyoacán","A21NR0539"]
["02CD04 Alcaldía Coyoacán","A21NR0540"]
["02CD04 Alcaldía Coyoacán","O21NR0049"]
["02CD04 Alcaldía Coyoacán","O21NR0067"]
["02CD04 Alcaldía Coyoacán","O21NR0082"]
["02CD04 Alcaldía Coyoacán","O21NR0097"]
["02CD04 Alcaldía Coyoacán","O21NR0108"]
["02CD04 Alcaldía Coyoacán","O21NR0118"]
["02CD04 Alcaldía Coyoacán","O21NR0128"]
["02CD04 Alcaldía Coyoacán","O21NR0138"]
["02CD04 Alcaldía Coyoacán","O21NR0147"]
["02CD04 Alcaldía Coyoacán","O21NR0156"]
["02CD04 Alcaldía Coyoacán","O21NR0165"]
["02CD04 Alcaldía Coyoacán","O21NR0570"]
["02CD04 Alcaldía Coyoacán","O21NR1310"]
["02CD04 Alcaldía Coyoacán","O21NR1311"]
["02CD04 Alcaldía Coyoacán","O21NR1312"]
["02CD04 Alcaldía Coyoacán","O21NR1313"]
["02CD04 Alcaldía Coyoacán","O21NR1314"]
["02CD04 Alcaldía Coyoacán","O21NR1334"]
["02CD04 Alcaldía Coyoacán","O21NR1336"]
["02CD04 Alcaldía Coyoacán","O21NR1337"]
["02CD04 Alcaldía Coyoacán","O21NR1338"]
["02CD04 Alcaldía Coyoacán","O21NR1339"]
["02CD04 Alcaldía Coyoacán","O21NR1381"]
["02CD04 Alcaldía Coyoacán","O21NR1404"]
["02CD04 Alcaldía Coyoacán","O21NR1405"]
["02CD04 Alcaldía Coyoacán","O21NR1406"]
["02CD05 Alcaldía Cuajimalpa de Morelos","A21NR0024"]
["02CD05 Alcaldía Cuajimalpa de Morelos","A21NR0040"]
["02CD05 Alcaldía Cuajimalpa de Morelos","A21NR0240"]
["02CD05 Alcaldía Cuajimalpa de Morelos","A21NR0345"]
["02CD05 Alcaldía Cuajimalpa de Morelos","A21NR0415"]
["02CD05 Alcaldía Cuajimalpa de Morelos","A21NR0416"]
["02CD05 Alcaldía Cuajimalpa de Morelos","A21NR0417"]
["02CD05 Alcaldía Cuajimalpa de Morelos","A21NR0418"]
["02CD05 Alcaldía Cuajimalpa de Morelos","A21NR0420"]
["02CD05 Alcaldía Cuajimalpa de Morelos","A21NR0421"]
["02CD05 Alcaldía Cuajimalpa de Morelos","A21NR0424"]
["02CD05 Alcaldía Cuajimalpa de Morelos","A21NR0425"]
["02CD05 Alcaldía Cuajimalpa de Morelos","A21NR0426"]
["02CD05 Alcaldía Cuajimalpa de Morelos","A21NR0428"]
["02CD05 Alcaldía Cuajimalpa de Morelos","A21NR0429"]
["02CD05 Alcaldía Cuajimalpa de Morelos","O21NR0050"]
["02CD05 Alcaldía Cuajimalpa de Morelos","O21NR0068"]
["02CD05 Alcaldía Cuajimalpa de Morelos","O21NR0083"]
["02CD05 Alcaldía Cuajimalpa de Morelos","O21NR0294"]
["02CD05 Alcaldía Cuajimalpa de Morelos","O21NR0295"]
["02CD05 Alcaldía Cuajimalpa de Morelos","O21NR0296"]
["02CD05 Alcaldía Cuajimalpa de Morelos","O21NR0297"]
["02CD05 Alcaldía Cuajimalpa de Morelos","O21NR0298"]
["02CD05 Alcaldía Cuajimalpa de Morelos","O21NR0299"]
["02CD05 Alcaldía Cuajimalpa de Morelos","O21NR0300"]
["02CD05 Alcaldía Cuajimalpa de Morelos","O21NR0301"]
["02CD05 Alcaldía Cuajimalpa de Morelos","O21NR0302"]
["02CD05 Alcaldía Cuajimalpa de Morelos","O21NR0303"]
["02CD05 Alcaldía Cuajimalpa de Morelos","O21NR0304"]
["02CD05 Alcaldía Cuajimalpa de Morelos","O21NR0305"]
["02CD05 Alcaldía Cuajimalpa de Morelos","O21NR0306"]
["02CD05 Alcaldía Cuajimalpa de Morelos","O21NR0307"]
["02CD05 Alcaldía Cuajimalpa de Morelos","O21NR0324"]
["02CD05 Alcaldía Cuajimalpa de Morelos","O21NR0590"]
["02CD05 Alcaldía Cuajimalpa de Morelos","O21NR0591"]
["02CD05 Alcaldía Cuajimalpa de Morelos","O21NR0592"]
["02CD05 Alcaldía Cuajimalpa de Morelos","O21NR0784"]
["02CD05 Alcaldía Cuajimalpa de Morelos","O21NR0785"]
["02CD05 Alcaldía Cuajimalpa de Morelos","O21NR0786"]
["02CD05 Alcaldía Cuajimalpa de Morelos","O21NR0787"]
["02CD05 Alcaldía Cuajimalpa de Morelos","O21NR0788"]
["02CD05 Alcaldía Cuajimalpa de Morelos","O21NR0789"]
["02CD05 Alcaldía Cuajimalpa de Morelos","O21NR0790"]
["02CD05 Alcaldía Cuajimalpa de Morelos","O21NR0791"]
["02CD05 Alcaldía Cuajimalpa de Morelos","O21NR0792"]
["02CD05 Alcaldía Cuajimalpa de Morelos","O21NR0793"]
["02CD05 Alcaldía Cuajimalpa de Morelos","O21NR0794"]
["02CD05 Alcaldía Cuajimalpa de Morelos","O21NR0795"]
["02CD05 Alcaldía Cuajimalpa de Morelos","O21NR0796"]
["02CD05 Alcaldía Cuajimalpa de Morelos","O21NR0797"]
["02CD05 Alcaldía Cuajimalpa de Morelos","O21NR0798"]
["02CD05 Alcaldía Cuajimalpa de Morelos","O21NR0799"]
["02CD05 Alcaldía Cuajimalpa de Morelos","O21NR0800"]
["02CD05 Alcaldía Cuajimalpa de Morelos","O21NR0801"]
["02CD05 Alcaldía Cuajimalpa de Morelos","O21NR0802"]
["02CD05 Alcaldía Cuajimalpa de Morelos","O21NR0895"]
["02CD05 Alcaldía Cuajimalpa de Morelos","O21NR0896"]
["02CD06 Alcaldía Cuauhtémoc","A21NR0188"]
["02CD06 Alcaldía Cuauhtémoc","A21NR0231"]
["02CD06 Alcaldía Cuauhtémoc","A21NR0251"]
["02CD06 Alcaldía Cuauhtémoc","A21NR0342"]
["02CD06 Alcaldía Cuauhtémoc","A21NR0441"]
["02CD06 Alcaldía Cuauhtémoc","A21NR0442"]
["02CD06 Alcaldía Cuauhtémoc","A21NR0477"]
["02CD06 Alcaldía Cuauhtémoc","O21NR0051"]
["02CD06 Alcaldía Cuauhtémoc","O21NR0069"]
["02CD06 Alcaldía Cuauhtémoc","O21NR0084"]
["02CD07 Alcaldía Gustavo A. Madero","A21NR0025"]
["02CD07 Alcaldía Gustavo A. Madero","A21NR0041"]
["02CD07 Alcaldía Gustavo A. Madero","A21NR0056"]
["02CD07 Alcaldía Gustavo A. Madero","A21NR0065"]
["02CD07 Alcaldía Gustavo A. Madero","O21NR0052"]
["02CD07 Alcaldía Gustavo A. Madero","O21NR0070"]
["02CD07 Alcaldía Gustavo A. Madero","O21NR0085"]
["02CD07 Alcaldía Gustavo A. Madero","O21NR0098"]
["02CD07 Alcaldía Gustavo A. Madero","O21NR0109"]
["02CD07 Alcaldía Gustavo A. Madero","O21NR0119"]
["02CD07 Alcaldía Gustavo A. Madero","O21NR0129"]
["02CD07 Alcaldía Gustavo A. Madero","O21NR0139"]
["02CD07 Alcaldía Gustavo A. Madero","O21NR0148"]
["02CD07 Alcaldía Gustavo A. Madero","O21NR0157"]
["02CD07 Alcaldía Gustavo A. Madero","O21NR0166"]
["02CD07 Alcaldía Gustavo A. Madero","O21NR0173"]
["02CD07 Alcaldía Gustavo A. Madero","O21NR0180"]
["02CD07 Alcaldía Gustavo A. Madero","O21NR0292"]
["02CD08 Alcaldía Iztacalco","A21NR0042"]
["02CD08 Alcaldía Iztacalco","A21NR0177"]
["02CD08 Alcaldía Iztacalco","A21NR0268"]
["02CD08 Alcaldía Iztacalco","A21NR0269"]
["02CD08 Alcaldía Iztacalco","A21NR0300"]
["02CD08 Alcaldía Iztacalco","A21NR0369"]
["02CD08 Alcaldía Iztacalco","A21NR0403"]
["02CD08 Alcaldía Iztacalco","A21NR0404"]
["02CD08 Alcaldía Iztacalco","A21NR0405"]
["02CD08 Alcaldía Iztacalco","A21NR0457"]
["02CD08 Alcaldía Iztacalco","A21NR0560"]
["02CD08 Alcaldía Iztacalco","O21NR0025"]
["02CD08 Alcaldía Iztacalco","O21NR0027"]
["02CD08 Alcaldía Iztacalco","O21NR0028"]
["02CD08 Alcaldía Iztacalco","O21NR0029"]
["02CD08 Alcaldía Iztacalco","O21NR0030"]
["02CD08 Alcaldía Iztacalco","O21NR0031"]
["02CD08 Alcaldía Iztacalco","O21NR0032"]
["02CD08 Alcaldía Iztacalco","O21NR0033"]
["02CD08 Alcaldía Iztacalco","O21NR0034"]
["02CD08 Alcaldía Iztacalco","O21NR0035"]
["02CD08 Alcaldía Iztacalco","O21NR0046"]
["02CD08 Alcaldía Iztacalco","O21NR0053"]
["02CD08 Alcaldía Iztacalco","O21NR0064"]
["02CD08 Alcaldía Iztacalco","O21NR0071"]
["02CD08 Alcaldía Iztacalco","O21NR0086"]
["02CD08 Alcaldía Iztacalco","O21NR0099"]
["02CD08 Alcaldía Iztacalco","O21NR0110"]
["02CD08 Alcaldía Iztacalco","O21NR0120"]
["02CD08 Alcaldía Iztacalco","O21NR0130"]
["02CD08 Alcaldía Iztacalco","O21NR0140"]
["02CD08 Alcaldía Iztacalco","O21NR0149"]
["02CD08 Alcaldía Iztacalco","O21NR0158"]
["02CD08 Alcaldía Iztacalco","O21NR0167"]
["02CD08 Alcaldía Iztacalco","O21NR0174"]
["02CD08 Alcaldía Iztacalco","O21NR0181"]
["02CD08 Alcaldía Iztacalco","O21NR0192"]
["02CD08 Alcaldía Iztacalco","O21NR0193"]
["02CD08 Alcaldía Iztacalco","O21NR0194"]
["02CD08 Alcaldía Iztacalco","O21NR0195"]
["02CD08 Alcaldía Iztacalco","O21NR0196"]
["02CD08 Alcaldía Iztacalco","O21NR0197"]
["02CD08 Alcaldía Iztacalco","O21NR0222"]
["02CD08 Alcaldía Iztacalco","O21NR0231"]
["02CD08 Alcaldía Iztacalco","O21NR0232"]
["02CD08 Alcaldía Iztacalco","O21NR0238"]
["02CD08 Alcaldía Iztacalco","O21NR0280"]
["02CD08 Alcaldía Iztacalco","O21NR0312"]
["02CD08 Alcaldía Iztacalco","O21NR0313"]
["02CD08 Alcaldía Iztacalco","O21NR0314"]
["02CD08 Alcaldía Iztacalco","O21NR0316"]
["02CD08 Alcaldía Iztacalco","O21NR0532"]
["02CD08 Alcaldía Iztacalco","O21NR0533"]
["02CD08 Alcaldía Iztacalco","O21NR0730"]
["02CD08 Alcaldía Iztacalco","O21NR0734"]
["02CD08 Alcaldía Iztacalco","O21NR0742"]
["02CD08 Alcaldía Iztacalco","O21NR0744"]
["02CD08 Alcaldía Iztacalco","O21NR0764"]
["02CD08 Alcaldía Iztacalco","O21NR0940"]
["02CD08 Alcaldía Iztacalco","O21NR0941"]
["02CD08 Alcaldía Iztacalco","O21NR0942"]
["02CD08 Alcaldía Iztacalco","O21NR0943"]
["02CD08 Alcaldía Iztacalco","O21NR0944"]
["02CD08 Alcaldía Iztacalco","O21NR0945"]
["02CD08 Alcaldía Iztacalco","O21NR0946"]
["02CD08 Alcaldía Iztacalco","O21NR0947"]
["02CD08 Alcaldía Iztacalco","O21NR0948"]
["02CD08 Alcaldía Iztacalco","O21NR0949"]
["02CD08 Alcaldía Iztacalco","O21NR0950"]
["02CD08 Alcaldía Iztacalco","O21NR0951"]
["02CD08 Alcaldía Iztacalco","O21NR0952"]
["02CD08 Alcaldía Iztacalco","O21NR0953"]
["02CD08 Alcaldía Iztacalco","O21NR0954"]
["02CD08 Alcaldía Iztacalco","O21NR0955"]
["02CD08 Alcaldía Iztacalco","O21NR0956"]
["02CD08 Alcaldía Iztacalco","O21NR0960"]
["02CD08 Alcaldía Iztacalco","O21NR0961"]
["02CD08 Alcaldía Iztacalco","O21NR0962"]
["02CD08 Alcaldía Iztacalco","O21NR0963"]
["02CD08 Alcaldía Iztacalco","O21NR0964"]
["02CD08 Alcaldía Iztacalco","O21NR1343"]
["02CD08 Alcaldía Iztacalco","O21NR1344"]
["02CD09 Alcaldía Iztapalapa","A21NR0125"]
["02CD09 Alcaldía Iztapalapa","A21NR0140"]
["02CD09 Alcaldía Iztapalapa","A21NR0142"]
["02CD09 Alcaldía Iztapalapa","A21NR0143"]
["02CD09 Alcaldía Iztapalapa","A21NR0171"]
["02CD09 Alcaldía Iztapalapa","A21NR0172"]
["02CD09 Alcaldía Iztapalapa","A21NR0174"]
["02CD09 Alcaldía Iztapalapa","A21NR0186"]
["02CD09 Alcaldía Iztapalapa","A21NR0198"]
["02CD09 Alcaldía Iztapalapa","A21NR0199"]
["02CD09 Alcaldía Iztapalapa","A21NR0201"]
["02CD09 Alcaldía Iztapalapa","A21NR0237"]
["02CD09 Alcaldía Iztapalapa","A21NR0238"]
["02CD09 Alcaldía Iztapalapa","A21NR0256"]
["02CD09 Alcaldía Iztapalapa","A21NR0257"]
["02CD09 Alcaldía Iztapalapa","A21NR0283"]
["02CD09 Alcaldía Iztapalapa","A21NR0407"]
["02CD09 Alcaldía Iztapalapa","A21NR0535"]
["02CD09 Alcaldía Iztapalapa","O20ML0039"]
["02CD09 Alcaldía Iztapalapa","O20ML0040"]
["02CD09 Alcaldía Iztapalapa","O20ML0041"]
["02CD09 Alcaldía Iztapalapa","O21NR0054"]
["02CD09 Alcaldía Iztapalapa","O21NR0072"]
["02CD09 Alcaldía Iztapalapa","O21NR0489"]
["02CD09 Alcaldía Iztapalapa","O21NR0511"]
["02CD09 Alcaldía Iztapalapa","O21NR0512"]
["02CD09 Alcaldía Iztapalapa","O21NR0513"]
["02CD09 Alcaldía Iztapalapa","O21NR0514"]
["02CD09 Alcaldía Iztapalapa","O21NR0517"]
["02CD09 Alcaldía Iztapalapa","O21NR0530"]
["02CD09 Alcaldía Iztapalapa","O21NR0534"]
["02CD09 Alcaldía Iztapalapa","O21NR0535"]
["02CD09 Alcaldía Iztapalapa","O21NR0536"]
["02CD09 Alcaldía Iztapalapa","O21NR0545"]
["02CD09 Alcaldía Iztapalapa","O21NR0557"]
["02CD09 Alcaldía Iztapalapa","O21NR0558"]
["02CD09 Alcaldía Iztapalapa","O21NR0585"]
["02CD09 Alcaldía Iztapalapa","O21NR0756"]
["02CD09 Alcaldía Iztapalapa","O21NR1238"]
["02CD09 Alcaldía Iztapalapa","O21NR1341"]
["02CD09 Alcaldía Iztapalapa","O21NR1342"]
["02CD10 Alcaldía La Magdalena Contreras","A21NR0026"]
["02CD10 Alcaldía La Magdalena Contreras","A21NR0043"]
["02CD10 Alcaldía La Magdalena Contreras","A21NR0057"]
["02CD10 Alcaldía La Magdalena Contreras","A21NR0066"]
["02CD10 Alcaldía La Magdalena Contreras","A21NR0074"]
["02CD10 Alcaldía La Magdalena Contreras","A21NR0082"]
["02CD10 Alcaldía La Magdalena Contreras","A21NR0090"]
["02CD10 Alcaldía La Magdalena Contreras","A21NR0471"]
["02CD10 Alcaldía La Magdalena Contreras","A21NR0524"]
["02CD10 Alcaldía La Magdalena Contreras","A21NR0543"]
["02CD10 Alcaldía La Magdalena Contreras","A21NR0547"]
["02CD10 Alcaldía La Magdalena Contreras","A21NR0548"]
["02CD10 Alcaldía La Magdalena Contreras","A21NR0550"]
["02CD10 Alcaldía La Magdalena Contreras","O21NR0055"]
["02CD10 Alcaldía La Magdalena Contreras","O21NR0073"]
["02CD10 Alcaldía La Magdalena Contreras","O21NR0087"]
["02CD10 Alcaldía La Magdalena Contreras","O21NR0100"]
["02CD10 Alcaldía La Magdalena Contreras","O21NR0111"]
["02CD10 Alcaldía La Magdalena Contreras","O21NR0121"]
["02CD10 Alcaldía La Magdalena Contreras","O21NR0131"]
["02CD10 Alcaldía La Magdalena Contreras","O21NR0141"]
["02CD10 Alcaldía La Magdalena Contreras","O21NR0150"]
["02CD10 Alcaldía La Magdalena Contreras","O21NR0159"]
["02CD10 Alcaldía La Magdalena Contreras","O21NR0168"]
["02CD10 Alcaldía La Magdalena Contreras","O21NR0175"]
["02CD10 Alcaldía La Magdalena Contreras","O21NR0182"]
["02CD10 Alcaldía La Magdalena Contreras","O21NR0198"]
["02CD10 Alcaldía La Magdalena Contreras","O21NR0199"]
["02CD10 Alcaldía La Magdalena Contreras","O21NR0200"]
["02CD10 Alcaldía La Magdalena Contreras","O21NR0201"]
["02CD10 Alcaldía La Magdalena Contreras","O21NR0202"]
["02CD10 Alcaldía La Magdalena Contreras","O21NR0203"]
["02CD10 Alcaldía La Magdalena Contreras","O21NR0223"]
["02CD10 Alcaldía La Magdalena Contreras","O21NR0224"]
["02CD10 Alcaldía La Magdalena Contreras","O21NR0883"]
["02CD10 Alcaldía La Magdalena Contreras","O21NR0884"]
["02CD10 Alcaldía La Magdalena Contreras","O21NR0885"]
["02CD10 Alcaldía La Magdalena Contreras","O21NR0886"]
["02CD10 Alcaldía La Magdalena Contreras","O21NR0887"]
["02CD10 Alcaldía La Magdalena Contreras","O21NR0888"]
["02CD10 Alcaldía La Magdalena Contreras","O21NR0889"]
["02CD10 Alcaldía La Magdalena Contreras","O21NR0890"]
["02CD10 Alcaldía La Magdalena Contreras","O21NR0891"]
["02CD10 Alcaldía La Magdalena Contreras","O21NR0892"]
["02CD10 Alcaldía La Magdalena Contreras","O21NR0893"]
["02CD10 Alcaldía La Magdalena Contreras","O21NR0894"]
["02CD10 Alcaldía La Magdalena Contreras","O21NR0897"]
["02CD10 Alcaldía La Magdalena Contreras","O21NR0898"]
["02CD10 Alcaldía La Magdalena Contreras","O21NR0899"]
["02CD10 Alcaldía La Magdalena Contreras","O21NR0900"]
["02CD10 Alcaldía La Magdalena Contreras","O21NR0901"]
["02CD10 Alcaldía La Magdalena Contreras","O21NR0902"]
["02CD10 Alcaldía La Magdalena Contreras","O21NR0903"]
["02CD10 Alcaldía La Magdalena Contreras","O21NR0904"]
["02CD10 Alcaldía La Magdalena Contreras","O21NR0926"]
["02CD10 Alcaldía La Magdalena Contreras","O21NR0927"]
["02CD10 Alcaldía La Magdalena Contreras","O21NR0928"]
["02CD10 Alcaldía La Magdalena Contreras","O21NR0929"]
["02CD10 Alcaldía La Magdalena Contreras","O21NR1340"]
["02CD10 Alcaldía La Magdalena Contreras","O21NR1346"]
["02CD10 Alcaldía La Magdalena Contreras","O21NR1347"]
["02CD10 Alcaldía La Magdalena Contreras","O21NR1348"]
["02CD10 Alcaldía La Magdalena Contreras","O21NR1349"]
["02CD10 Alcaldía La Magdalena Contreras","O21NR1350"]
["02CD10 Alcaldía La Magdalena Contreras","O21NR1351"]
["02CD10 Alcaldía La Magdalena Contreras","O21NR1353"]
["02CD10 Alcaldía La Magdalena Contreras","O21NR1354"]
["02CD10 Alcaldía La Magdalena Contreras","O21NR1408"]
["02CD11 Alcaldía Miguel Hidalgo","A21NR0027"]
["02CD11 Alcaldía Miguel Hidalgo","A21NR0044"]
["02CD11 Alcaldía Miguel Hidalgo","A21NR0058"]
["02CD11 Alcaldía Miguel Hidalgo","A21NR0067"]
["02CD11 Alcaldía Miguel Hidalgo","A21NR0075"]
["02CD11 Alcaldía Miguel Hidalgo","A21NR0083"]
["02CD11 Alcaldía Miguel Hidalgo","A21NR0091"]
["02CD11 Alcaldía Miguel Hidalgo","A21NR0176"]
["02CD11 Alcaldía Miguel Hidalgo","A21NR0192"]
["02CD11 Alcaldía Miguel Hidalgo","A21NR0334"]
["02CD11 Alcaldía Miguel Hidalgo","O20ML0061"]
["02CD11 Alcaldía Miguel Hidalgo","O21NR0020"]
["02CD11 Alcaldía Miguel Hidalgo","O21NR0021"]
["02CD11 Alcaldía Miguel Hidalgo","O21NR0022"]
["02CD11 Alcaldía Miguel Hidalgo","O21NR0023"]
["02CD11 Alcaldía Miguel Hidalgo","O21NR0074"]
["02CD11 Alcaldía Miguel Hidalgo","O21NR0088"]
["02CD11 Alcaldía Miguel Hidalgo","O21NR0101"]
["02CD11 Alcaldía Miguel Hidalgo","O21NR0112"]
["02CD11 Alcaldía Miguel Hidalgo","O21NR0122"]
["02CD11 Alcaldía Miguel Hidalgo","O21NR0132"]
["02CD11 Alcaldía Miguel Hidalgo","O21NR0142"]
["02CD11 Alcaldía Miguel Hidalgo","O21NR0151"]
["02CD11 Alcaldía Miguel Hidalgo","O21NR0160"]
["02CD11 Alcaldía Miguel Hidalgo","O21NR0169"]
["02CD11 Alcaldía Miguel Hidalgo","O21NR0176"]
["02CD11 Alcaldía Miguel Hidalgo","O21NR0183"]
["02CD11 Alcaldía Miguel Hidalgo","O21NR0204"]
["02CD11 Alcaldía Miguel Hidalgo","O21NR0205"]
["02CD11 Alcaldía Miguel Hidalgo","O21NR0206"]
["02CD11 Alcaldía Miguel Hidalgo","O21NR0207"]
["02CD11 Alcaldía Miguel Hidalgo","O21NR0208"]
["02CD11 Alcaldía Miguel Hidalgo","O21NR0209"]
["02CD11 Alcaldía Miguel Hidalgo","O21NR0293"]
["02CD11 Alcaldía Miguel Hidalgo","O21NR0518"]
["02CD11 Alcaldía Miguel Hidalgo","O21NR0579"]
["02CD11 Alcaldía Miguel Hidalgo","O21NR0580"]
["02CD11 Alcaldía Miguel Hidalgo","O21NR0581"]
["02CD11 Alcaldía Miguel Hidalgo","O21NR1308"]
["02CD11 Alcaldía Miguel Hidalgo","O21NR1309"]
["02CD12 Alcaldía Milpa Alta","O21NR0056"]
["02CD12 Alcaldía Milpa Alta","O21NR0075"]
["02CD12 Alcaldía Milpa Alta","O21NR0089"]
["02CD12 Alcaldía Milpa Alta","O21NR0523"]
["02CD12 Alcaldía Milpa Alta","O21NR0524"]
["02CD12 Alcaldía Milpa Alta","O21NR0525"]
["02CD12 Alcaldía Milpa Alta","O21NR0526"]
["02CD12 Alcaldía Milpa Alta","O21NR0527"]
["02CD12 Alcaldía Milpa Alta","O21NR0584"]
["02CD12 Alcaldía Milpa Alta","O21NR0913"]
["02CD12 Alcaldía Milpa Alta","O21NR0914"]
["02CD12 Alcaldía Milpa Alta","O21NR0966"]
["02CD12 Alcaldía Milpa Alta","O21NR0967"]
["02CD12 Alcaldía Milpa Alta","O21NR0968"]
["02CD12 Alcaldía Milpa Alta","O21NR0969"]
["02CD12 Alcaldía Milpa Alta","O21NR0970"]
["02CD12 Alcaldía Milpa Alta","O21NR0971"]
["02CD12 Alcaldía Milpa Alta","O21NR1318"]
["02CD12 Alcaldía Milpa Alta","O21NR1319"]
["02CD12 Alcaldía Milpa Alta","O21NR1320"]
["02CD12 Alcaldía Milpa Alta","O21NR1321"]
["02CD12 Alcaldía Milpa Alta","O21NR1322"]
["02CD12 Alcaldía Milpa Alta","O21NR1323"]
["02CD12 Alcaldía Milpa Alta","O21NR1324"]
["02CD12 Alcaldía Milpa Alta","O21NR1325"]
["02CD12 Alcaldía Milpa Alta","O21NR1326"]
["02CD12 Alcaldía Milpa Alta","O21NR1327"]
["02CD12 Alcaldía Milpa Alta","O21NR1328"]
["02CD12 Alcaldía Milpa Alta","O21NR1329"]
["02CD12 Alcaldía Milpa Alta","O21NR1330"]
["02CD12 Alcaldía Milpa Alta","O21NR1331"]
["02CD12 Alcaldía Milpa Alta","O21NR1332"]
["02CD12 Alcaldía Milpa Alta","O21NR1335"]
["02CD13 Alcaldía Tláhuac","A21NR0406"]
["02CD13 Alcaldía Tláhuac","O21NR0057"]
["02CD13 Alcaldía Tláhuac","O21NR0263"]
["02CD13 Alcaldía Tláhuac","O21NR0264"]
["02CD13 Alcaldía Tláhuac","O21NR0721"]
["02CD13 Alcaldía Tláhuac","O21NR0722"]
["02CD13 Alcaldía Tláhuac","O21NR0723"]
["02CD13 Alcaldía Tláhuac","O21NR0724"]
["02CD13 Alcaldía Tláhuac","O21NR0725"]
["02CD13 Alcaldía Tláhuac","O21NR0804"]
["02CD13 Alcaldía Tláhuac","O21NR0805"]
["02CD13 Alcaldía Tláhuac","O21NR0806"]
["02CD13 Alcaldía Tláhuac","O21NR0807"]
["02CD13 Alcaldía Tláhuac","O21NR0808"]
["02CD13 Alcaldía Tláhuac","O21NR0909"]
["02CD13 Alcaldía Tláhuac","O21NR1355"]
["02CD13 Alcaldía Tláhuac","O21NR1373"]
["02CD13 Alcaldía Tláhuac","O21NR1374"]
["02CD14 Alcaldía Tlalpan","A21NR0045"]
["02CD14 Alcaldía Tlalpan","A21NR0187"]
["02CD14 Alcaldía Tlalpan","A21NR0207"]
["02CD14 Alcaldía Tlalpan","A21NR0208"]
["02CD14 Alcaldía Tlalpan","A21NR0227"]
["02CD14 Alcaldía Tlalpan","A21NR0339"]
["02CD14 Alcaldía Tlalpan","A21NR0350"]
["02CD14 Alcaldía Tlalpan","O21NR0058"]
["02CD14 Alcaldía Tlalpan","O21NR0076"]
["02CD14 Alcaldía Tlalpan","O21NR0079"]
["02CD14 Alcaldía Tlalpan","O21NR0090"]
["02CD14 Alcaldía Tlalpan","O21NR0094"]
["02CD14 Alcaldía Tlalpan","O21NR0102"]
["02CD14 Alcaldía Tlalpan","O21NR0113"]
["02CD14 Alcaldía Tlalpan","O21NR0123"]
["02CD14 Alcaldía Tlalpan","O21NR0133"]
["02CD14 Alcaldía Tlalpan","O21NR0143"]
["02CD14 Alcaldía Tlalpan","O21NR0152"]
["02CD14 Alcaldía Tlalpan","O21NR0161"]
["02CD14 Alcaldía Tlalpan","O21NR0170"]
["02CD14 Alcaldía Tlalpan","O21NR0177"]
["02CD14 Alcaldía Tlalpan","O21NR0184"]
["02CD14 Alcaldía Tlalpan","O21NR0210"]
["02CD14 Alcaldía Tlalpan","O21NR0211"]
["02CD14 Alcaldía Tlalpan","O21NR0212"]
["02CD14 Alcaldía Tlalpan","O21NR0213"]
["02CD14 Alcaldía Tlalpan","O21NR0214"]
["02CD14 Alcaldía Tlalpan","O21NR0215"]
["02CD14 Alcaldía Tlalpan","O21NR0227"]
["02CD14 Alcaldía Tlalpan","O21NR0228"]
["02CD14 Alcaldía Tlalpan","O21NR0235"]
["02CD14 Alcaldía Tlalpan","O21NR0236"]
["02CD14 Alcaldía Tlalpan","O21NR0560"]
["02CD14 Alcaldía Tlalpan","O21NR0561"]
["02CD14 Alcaldía Tlalpan","O21NR0562"]
["02CD14 Alcaldía Tlalpan","O21NR1154"]
["02CD14 Alcaldía Tlalpan","O21NR1155"]
["02CD14 Alcaldía Tlalpan","O21NR1156"]
["02CD14 Alcaldía Tlalpan","O21NR1157"]
["02CD14 Alcaldía Tlalpan","O21NR1158"]
["02CD14 Alcaldía Tlalpan","O21NR1159"]
["02CD14 Alcaldía Tlalpan","O21NR1160"]
["02CD14 Alcaldía Tlalpan","O21NR1161"]
["02CD14 Alcaldía Tlalpan","O21NR1162"]
["02CD14 Alcaldía Tlalpan","O21NR1163"]
["02CD14 Alcaldía Tlalpan","O21NR1164"]
["02CD14 Alcaldía Tlalpan","O21NR1165"]
["02CD14 Alcaldía Tlalpan","O21NR1166"]
["02CD14 Alcaldía Tlalpan","O21NR1167"]
["02CD14 Alcaldía Tlalpan","O21NR1168"]
["02CD14 Alcaldía Tlalpan","O21NR1169"]
["02CD14 Alcaldía Tlalpan","O21NR1170"]
["02CD14 Alcaldía Tlalpan","O21NR1171"]
["02CD14 Alcaldía Tlalpan","O21NR1172"]
["02CD14 Alcaldía Tlalpan","O21NR1173"]
["02CD14 Alcaldía Tlalpan","O21NR1174"]
["02CD14 Alcaldía Tlalpan","O21NR1175"]
["02CD14 Alcaldía Tlalpan","O21NR1176"]
["02CD14 Alcaldía Tlalpan","O21NR1177"]
["02CD14 Alcaldía Tlalpan","O21NR1178"]
["02CD14 Alcaldía Tlalpan","O21NR1179"]
["02CD14 Alcaldía Tlalpan","O21NR1180"]
["02CD14 Alcaldía Tlalpan","O21NR1181"]
["02CD14 Alcaldía Tlalpan","O21NR1182"]
["02CD14 Alcaldía Tlalpan","O21NR1183"]
["02CD14 Alcaldía Tlalpan","O21NR1184"]
["02CD14 Alcaldía Tlalpan","O21NR1185"]
["02CD14 Alcaldía Tlalpan","O21NR1186"]
["02CD14 Alcaldía Tlalpan","O21NR1187"]
["02CD14 Alcaldía Tlalpan","O21NR1188"]
["02CD14 Alcaldía Tlalpan","O21NR1189"]
["02CD14 Alcaldía Tlalpan","O21NR1190"]
["02CD14 Alcaldía Tlalpan","O21NR1191"]
["02CD14 Alcaldía Tlalpan","O21NR1192"]
["02CD14 Alcaldía Tlalpan","O21NR1193"]
["02CD14 Alcaldía Tlalpan","O21NR1194"]
["02CD14 Alcaldía Tlalpan","O21NR1195"]
["02CD14 Alcaldía Tlalpan","O21NR1196"]
["02CD14 Alcaldía Tlalpan","O21NR1197"]
["02CD14 Alcaldía Tlalpan","O21NR1198"]
["02CD14 Alcaldía Tlalpan","O21NR1199"]
["02CD14 Alcaldía Tlalpan","O21NR1200"]
["02CD14 Alcaldía Tlalpan","O21NR1201"]
["02CD14 Alcaldía Tlalpan","O21NR1202"]
["02CD14 Alcaldía Tlalpan","O21NR1203"]
["02CD14 Alcaldía Tlalpan","O21NR1204"]
["02CD14 Alcaldía Tlalpan","O21NR1205"]
["02CD14 Alcaldía Tlalpan","O21NR1206"]
["02CD14 Alcaldía Tlalpan","O21NR1207"]
["02CD14 Alcaldía Tlalpan","O21NR1208"]
["02CD14 Alcaldía Tlalpan","O21NR1209"]
["02CD14 Alcaldía Tlalpan","O21NR1210"]
["02CD14 Alcaldía Tlalpan","O21NR1211"]
["02CD14 Alcaldía Tlalpan","O21NR1212"]
["02CD14 Alcaldía Tlalpan","O21NR1213"]
["02CD14 Alcaldía Tlalpan","O21NR1214"]
["02CD14 Alcaldía Tlalpan","O21NR1215"]
["02CD14 Alcaldía Tlalpan","O21NR1216"]
["02CD14 Alcaldía Tlalpan","O21NR1217"]
["02CD14 Alcaldía Tlalpan","O21NR1218"]
["02CD14 Alcaldía Tlalpan","O21NR1219"]
["02CD14 Alcaldía Tlalpan","O21NR1220"]
["02CD14 Alcaldía Tlalpan","O21NR1221"]
["02CD14 Alcaldía Tlalpan","O21NR1222"]
["02CD14 Alcaldía Tlalpan","O21NR1223"]
["02CD14 Alcaldía Tlalpan","O21NR1224"]
["02CD14 Alcaldía Tlalpan","O21NR1225"]
["02CD14 Alcaldía Tlalpan","O21NR1226"]
["02CD14 Alcaldía Tlalpan","O21NR1227"]
["02CD14 Alcaldía Tlalpan","O21NR1228"]
["02CD14 Alcaldía Tlalpan","O21NR1229"]
["02CD14 Alcaldía Tlalpan","O21NR1230"]
["02CD14 Alcaldía Tlalpan","O21NR1231"]
["02CD14 Alcaldía Tlalpan","O21NR1239"]
["02CD14 Alcaldía Tlalpan","O21NR1240"]
["02CD14 Alcaldía Tlalpan","O21NR1241"]
["02CD14 Alcaldía Tlalpan","O21NR1242"]
["02CD14 Alcaldía Tlalpan","O21NR1243"]
["02CD14 Alcaldía Tlalpan","O21NR1244"]
["02CD14 Alcaldía Tlalpan","O21NR1245"]
["02CD14 Alcaldía Tlalpan","O21NR1246"]
["02CD14 Alcaldía Tlalpan","O21NR1247"]
["02CD14 Alcaldía Tlalpan","O21NR1248"]
["02CD14 Alcaldía Tlalpan","O21NR1249"]
["02CD14 Alcaldía Tlalpan","O21NR1250"]
["02CD14 Alcaldía Tlalpan","O21NR1251"]
["02CD14 Alcaldía Tlalpan","O21NR1252"]
["02CD14 Alcaldía Tlalpan","O21NR1253"]
["02CD14 Alcaldía Tlalpan","O21NR1254"]
["02CD14 Alcaldía Tlalpan","O21NR1255"]
["02CD14 Alcaldía Tlalpan","O21NR1256"]
["02CD14 Alcaldía Tlalpan","O21NR1257"]
["02CD14 Alcaldía Tlalpan","O21NR1258"]
["02CD14 Alcaldía Tlalpan","O21NR1259"]
["02CD14 Alcaldía Tlalpan","O21NR1260"]
["02CD14 Alcaldía Tlalpan","O21NR1261"]
["02CD14 Alcaldía Tlalpan","O21NR1262"]
["02CD14 Alcaldía Tlalpan","O21NR1263"]
["02CD14 Alcaldía Tlalpan","O21NR1264"]
["02CD14 Alcaldía Tlalpan","O21NR1265"]
["02CD14 Alcaldía Tlalpan","O21NR1266"]
["02CD14 Alcaldía Tlalpan","O21NR1267"]
["02CD14 Alcaldía Tlalpan","O21NR1268"]
["02CD14 Alcaldía Tlalpan","O21NR1269"]
["02CD14 Alcaldía Tlalpan","O21NR1270"]
["02CD14 Alcaldía Tlalpan","O21NR1271"]
["02CD14 Alcaldía Tlalpan","O21NR1272"]
["02CD14 Alcaldía Tlalpan","O21NR1273"]
["02CD14 Alcaldía Tlalpan","O21NR1274"]
["02CD14 Alcaldía Tlalpan","O21NR1275"]
["02CD14 Alcaldía Tlalpan","O21NR1276"]
["02CD14 Alcaldía Tlalpan","O21NR1277"]
["02CD14 Alcaldía Tlalpan","O21NR1278"]
["02CD14 Alcaldía Tlalpan","O21NR1279"]
["02CD14 Alcaldía Tlalpan","O21NR1280"]
["02CD14 Alcaldía Tlalpan","O21NR1281"]
["02CD14 Alcaldía Tlalpan","O21NR1282"]
["02CD14 Alcaldía Tlalpan","O21NR1283"]
["02CD14 Alcaldía Tlalpan","O21NR1284"]
["02CD14 Alcaldía Tlalpan","O21NR1285"]
["02CD14 Alcaldía Tlalpan","O21NR1286"]
["02CD14 Alcaldía Tlalpan","O21NR1287"]
["02CD14 Alcaldía Tlalpan","O21NR1288"]
["02CD14 Alcaldía Tlalpan","O21NR1289"]
["02CD14 Alcaldía Tlalpan","O21NR1290"]
["02CD14 Alcaldía Tlalpan","O21NR1291"]
["02CD14 Alcaldía Tlalpan","O21NR1292"]
["02CD14 Alcaldía Tlalpan","O21NR1293"]
["02CD14 Alcaldía Tlalpan","O21NR1294"]
["02CD14 Alcaldía Tlalpan","O21NR1295"]
["02CD14 Alcaldía Tlalpan","O21NR1296"]
["02CD14 Alcaldía Tlalpan","O21NR1297"]
["02CD14 Alcaldía Tlalpan","O21NR1298"]
["02CD14 Alcaldía Tlalpan","O21NR1299"]
["02CD14 Alcaldía Tlalpan","O21NR1300"]
["02CD14 Alcaldía Tlalpan","O21NR1301"]
["02CD14 Alcaldía Tlalpan","O21NR1302"]
["02CD14 Alcaldía Tlalpan","O21NR1303"]
["02CD15 Alcaldía Venustiano Carranza","A21NR0028"]
["02CD15 Alcaldía Venustiano Carranza","A21NR0046"]
["02CD15 Alcaldía Venustiano Carranza","A21NR0127"]
["02CD15 Alcaldía Venustiano Carranza","A21NR0145"]
["02CD15 Alcaldía Venustiano Carranza","A21NR0166"]
["02CD15 Alcaldía Venustiano Carranza","O21NR0059"]
["02CD15 Alcaldía Venustiano Carranza","O21NR0077"]
["02CD15 Alcaldía Venustiano Carranza","O21NR0091"]
["02CD15 Alcaldía Venustiano Carranza","O21NR0103"]
["02CD15 Alcaldía Venustiano Carranza","O21NR0114"]
["02CD15 Alcaldía Venustiano Carranza","O21NR0124"]
["02CD15 Alcaldía Venustiano Carranza","O21NR0134"]
["02CD15 Alcaldía Venustiano Carranza","O21NR0144"]
["02CD15 Alcaldía Venustiano Carranza","O21NR0153"]
["02CD15 Alcaldía Venustiano Carranza","O21NR0162"]
["02CD15 Alcaldía Venustiano Carranza","O21NR0260"]
["02CD15 Alcaldía Venustiano Carranza","O21NR0261"]
["02CD15 Alcaldía Venustiano Carranza","O21NR0568"]
["02CD15 Alcaldía Venustiano Carranza","O21NR0601"]
["02CD15 Alcaldía Venustiano Carranza","O21NR0602"]
["02CD15 Alcaldía Venustiano Carranza","O21NR0603"]
["02CD15 Alcaldía Venustiano Carranza","O21NR0604"]
["02CD15 Alcaldía Venustiano Carranza","O21NR0605"]
["02CD15 Alcaldía Venustiano Carranza","O21NR0606"]
["02CD16 Alcaldía Xochimilco","A21NR0029"]
["02CD16 Alcaldía Xochimilco","A21NR0047"]
["02CD16 Alcaldía Xochimilco","A21NR0059"]
["02CD16 Alcaldía Xochimilco","A21NR0068"]
["02CD16 Alcaldía Xochimilco","A21NR0076"]
["02CD16 Alcaldía Xochimilco","A21NR0084"]
["02CD16 Alcaldía Xochimilco","A21NR0092"]
["02CD16 Alcaldía Xochimilco","A21NR0095"]
["02CD16 Alcaldía Xochimilco","A21NR0096"]
["02CD16 Alcaldía Xochimilco","A21NR0101"]
["02CD16 Alcaldía Xochimilco","A21NR0102"]
["02CD16 Alcaldía Xochimilco","A21NR0103"]
["02CD16 Alcaldía Xochimilco","A21NR0110"]
["02CD16 Alcaldía Xochimilco","O21NR0060"]
["02CD16 Alcaldía Xochimilco","O21NR0078"]
["02CD16 Alcaldía Xochimilco","O21NR0092"]
["02CD16 Alcaldía Xochimilco","O21NR0104"]
["02CD16 Alcaldía Xochimilco","O21NR0265"]
["02CD16 Alcaldía Xochimilco","O21NR0520"]
["02CD16 Alcaldía Xochimilco","O21NR0521"]
["02CD16 Alcaldía Xochimilco","O21NR0522"]
["02CD16 Alcaldía Xochimilco","O21NR0607"]
["02CD16 Alcaldía Xochimilco","O21NR0609"]
["02CD16 Alcaldía Xochimilco","O21NR0610"]
["02CD16 Alcaldía Xochimilco","O21NR0611"]
["02CD16 Alcaldía Xochimilco","O21NR0612"]
["02CD16 Alcaldía Xochimilco","O21NR0613"]
["02CD16 Alcaldía Xochimilco","O21NR0614"]
["02CD16 Alcaldía Xochimilco","O21NR0615"]
["02CD16 Alcaldía Xochimilco","O21NR0616"]
["02CD16 Alcaldía Xochimilco","O21NR0618"]
["02CD16 Alcaldía Xochimilco","O21NR0619"]
["02CD16 Alcaldía Xochimilco","O21NR0621"]
["02CD16 Alcaldía Xochimilco","O21NR0622"]
["02CD16 Alcaldía Xochimilco","O21NR0623"]
["02CD16 Alcaldía Xochimilco","O21NR0624"]
["02CD16 Alcaldía Xochimilco","O21NR0625"]
["02CD16 Alcaldía Xochimilco","O21NR0626"]
["02CD16 Alcaldía Xochimilco","O21NR0627"]
["02CD16 Alcaldía Xochimilco","O21NR0628"]
["02CD16 Alcaldía Xochimilco","O21NR0629"]
["02CD16 Alcaldía Xochimilco","O21NR0630"]
["02CD16 Alcaldía Xochimilco","O21NR0631"]
["02CD16 Alcaldía Xochimilco","O21NR0632"]
["02CD16 Alcaldía Xochimilco","O21NR0633"]
["02CD16 Alcaldía Xochimilco","O21NR0634"]
["02CD16 Alcaldía Xochimilco","O21NR0635"]
["02CD16 Alcaldía Xochimilco","O21NR0636"]
["02CD16 Alcaldía Xochimilco","O21NR0637"]
["02CD16 Alcaldía Xochimilco","O21NR0639"]
["02CD16 Alcaldía Xochimilco","O21NR0640"]
["02CD16 Alcaldía Xochimilco","O21NR0641"]
["02CD16 Alcaldía Xochimilco","O21NR0642"]
["02CD16 Alcaldía Xochimilco","O21NR0643"]
["02CD16 Alcaldía Xochimilco","O21NR0757"]
["02CD16 Alcaldía Xochimilco","O21NR0758"]
["02CD16 Alcaldía Xochimilco","O21NR0759"]
["02CD16 Alcaldía Xochimilco","O21NR0760"]
["02CD16 Alcaldía Xochimilco","O21NR0761"]
["02CD16 Alcaldía Xochimilco","O21NR0762"]
["02CD16 Alcaldía Xochimilco","O21NR0763"]
["02CD16 Alcaldía Xochimilco","O21NR0765"]
["02CD16 Alcaldía Xochimilco","O21NR0766"]
["02CD16 Alcaldía Xochimilco","O21NR0767"]
["02CD16 Alcaldía Xochimilco","O21NR0768"]
["02CD16 Alcaldía Xochimilco","O21NR0769"]
["02CD16 Alcaldía Xochimilco","O21NR0770"]
["02CD16 Alcaldía Xochimilco","O21NR0771"]
["02CD16 Alcaldía Xochimilco","O21NR0772"]
["02CD16 Alcaldía Xochimilco","O21NR0773"]
["02CD16 Alcaldía Xochimilco","O21NR0774"]
["02CD16 Alcaldía Xochimilco","O21NR0775"]
["02CD16 Alcaldía Xochimilco","O21NR0776"]
["02CD16 Alcaldía Xochimilco","O21NR0777"]
["02CD16 Alcaldía Xochimilco","O21NR0778"]
["02CD16 Alcaldía Xochimilco","O21NR0779"]
["02CD16 Alcaldía Xochimilco","O21NR0780"]
["02CD16 Alcaldía Xochimilco","O21NR0781"]
["02CD16 Alcaldía Xochimilco","O21NR0809"]
["02CD16 Alcaldía Xochimilco","O21NR0810"]
["02CD16 Alcaldía Xochimilco","O21NR0811"]
["02CD16 Alcaldía Xochimilco","O21NR0812"]
["02CD16 Alcaldía Xochimilco","O21NR0813"]
["02CD16 Alcaldía Xochimilco","O21NR0814"]
["02CD16 Alcaldía Xochimilco","O21NR0815"]
["02CD16 Alcaldía Xochimilco","O21NR0816"]
["02CD16 Alcaldía Xochimilco","O21NR0817"]
["02CD16 Alcaldía Xochimilco","O21NR0818"]
["02CD16 Alcaldía Xochimilco","O21NR0819"]
["02CD16 Alcaldía Xochimilco","O21NR0820"]
["02CD16 Alcaldía Xochimilco","O21NR0821"]
["02CD16 Alcaldía Xochimilco","O21NR0822"]
["02CD16 Alcaldía Xochimilco","O21NR0823"]
["02CD16 Alcaldía Xochimilco","O21NR0824"]
["02CD16 Alcaldía Xochimilco","O21NR0825"]
["02CD16 Alcaldía Xochimilco","O21NR0826"]
["02CD16 Alcaldía Xochimilco","O21NR0827"]
["02CD16 Alcaldía Xochimilco","O21NR0828"]
["02CD16 Alcaldía Xochimilco","O21NR0829"]
["02CD16 Alcaldía Xochimilco","O21NR0830"]
["02CD16 Alcaldía Xochimilco","O21NR0831"]
["02CD16 Alcaldía Xochimilco","O21NR0832"]
["02CD16 Alcaldía Xochimilco","O21NR0833"]
["02CD16 Alcaldía Xochimilco","O21NR0834"]
["02CD16 Alcaldía Xochimilco","O21NR0835"]
["02CD16 Alcaldía Xochimilco","O21NR0836"]
["02CD16 Alcaldía Xochimilco","O21NR0837"]
["02CD16 Alcaldía Xochimilco","O21NR0838"]
["02CD16 Alcaldía Xochimilco","O21NR0839"]
["02CD16 Alcaldía Xochimilco","O21NR0840"]
["02CD16 Alcaldía Xochimilco","O21NR0841"]
["02CD16 Alcaldía Xochimilco","O21NR0842"]
["02CD16 Alcaldía Xochimilco","O21NR0843"]
["02CD16 Alcaldía Xochimilco","O21NR0844"]
["02CD16 Alcaldía Xochimilco","O21NR0845"]
["02CD16 Alcaldía Xochimilco","O21NR0846"]
["02CD16 Alcaldía Xochimilco","O21NR0847"]
["02CD16 Alcaldía Xochimilco","O21NR0848"]
["02CD16 Alcaldía Xochimilco","O21NR0849"]
["02CD16 Alcaldía Xochimilco","O21NR0850"]
["02CD16 Alcaldía Xochimilco","O21NR0851"]
["02CD16 Alcaldía Xochimilco","O21NR0852"]
["02CD16 Alcaldía Xochimilco","O21NR0853"]
["02CD16 Alcaldía Xochimilco","O21NR0854"]
["02CD16 Alcaldía Xochimilco","O21NR0855"]
["02CD16 Alcaldía Xochimilco","O21NR0856"]
["02CD16 Alcaldía Xochimilco","O21NR0857"]
["02CD16 Alcaldía Xochimilco","O21NR0858"]
["02CD16 Alcaldía Xochimilco","O21NR0859"]
["02CD16 Alcaldía Xochimilco","O21NR0860"]
["02CD16 Alcaldía Xochimilco","O21NR0861"]
["02CD16 Alcaldía Xochimilco","O21NR0862"]
["02CD16 Alcaldía Xochimilco","O21NR0863"]
["02CD16 Alcaldía Xochimilco","O21NR0864"]
["02CD16 Alcaldía Xochimilco","O21NR0865"]
["02CD16 Alcaldía Xochimilco","O21NR0866"]
["02CD16 Alcaldía Xochimilco","O21NR0867"]
["02CD16 Alcaldía Xochimilco","O21NR0868"]
["02CD16 Alcaldía Xochimilco","O21NR0869"]
["02CD16 Alcaldía Xochimilco","O21NR0870"]
["02CD16 Alcaldía Xochimilco","O21NR0871"]
["02CD16 Alcaldía Xochimilco","O21NR0872"]
["02CD16 Alcaldía Xochimilco","O21NR0873"]
["02CD16 Alcaldía Xochimilco","O21NR0874"]
["02CD16 Alcaldía Xochimilco","O21NR0875"]
["02CD16 Alcaldía Xochimilco","O21NR0876"]
["02CD16 Alcaldía Xochimilco","O21NR0877"]
["02CD16 Alcaldía Xochimilco","O21NR0918"]
["02CD16 Alcaldía Xochimilco","O21NR0919"]
["02CD16 Alcaldía Xochimilco","O21NR0920"]
["02CD16 Alcaldía Xochimilco","O21NR0921"]
["02CD16 Alcaldía Xochimilco","O21NR0922"]
["02CD16 Alcaldía Xochimilco","O21NR0923"]
["02CD16 Alcaldía Xochimilco","O21NR0924"]
["02CD16 Alcaldía Xochimilco","O21NR0932"]
["02CD16 Alcaldía Xochimilco","O21NR1316"]
["02CD16 Alcaldía Xochimilco","O21NR1317"]
["02CDBP Comisión de Búsqueda de Personas de la Ciudad de México","A21NR0357"]
["02CDBP Comisión de Búsqueda de Personas de la Ciudad de México","A21NR0358"]
["02CDBP Comisión de Búsqueda de Personas de la Ciudad de México","A21NR0359"]
["02CDBP Comisión de Búsqueda de Personas de la Ciudad de México","A21NR0360"]
["02CDBP Comisión de Búsqueda de Personas de la Ciudad de México","A21NR0361"]
["02CDBP Comisión de Búsqueda de Personas de la Ciudad de México","A21NR0362"]
["02CDBP Comisión de Búsqueda de Personas de la Ciudad de México","A21NR0364"]
["02CDBP Comisión de Búsqueda de Personas de la Ciudad de México","A21NR0365"]
["02CDBP Comisión de Búsqueda de Personas de la Ciudad de México","A21NR0366"]
["02CDBP Comisión de Búsqueda de Personas de la Ciudad de México","A21NR0367"]
["02CDBP Comisión de Búsqueda de Personas de la Ciudad de México","A21NR0368"]
["02CDBP Comisión de Búsqueda de Personas de la Ciudad de México","A21NR0372"]
["02OD04 Autoridad del Centro Histórico","A21NR0489"]
["02PDAV Comisión Ejecutiva de Atención a Victímas de la Ciudad de México","A21NR0163"]
["02PDAV Comisión Ejecutiva de Atención a Victímas de la Ciudad de México","A21NR0164"]
["02PDAV Comisión Ejecutiva de Atención a Victímas de la Ciudad de México","A21NR0165"]
["03C001 Secretaría de Desarrollo Urbano y Vivienda","A21NR0316"]
["03PDIV Instituto de Vivienda","A21NR0175"]
["03PDIV Instituto de Vivienda","A21NR0249"]
["03PDIV Instituto de Vivienda","A21NR0250"]
["04C001 Secretaría de Desarrollo Económico","A21NR0531"]
["04C001 Secretaría de Desarrollo Económico","O21NR0061"]
["04P0DS Fondo para el Desarrollo Social","A21NR0266"]
["04P0DS Fondo para el Desarrollo Social","A21NR0267"]
["06C001 Secretaría del Medio Ambiente","A21NR0390"]
["06C001 Secretaría del Medio Ambiente","A21NR0391"]
["06C001 Secretaría del Medio Ambiente","A21NR0392"]
["06C001 Secretaría del Medio Ambiente","A21NR0453"]
["06C001 Secretaría del Medio Ambiente","O21NR0506"]
["06C001 Secretaría del Medio Ambiente","O21NR0507"]
["06C001 Secretaría del Medio Ambiente","O21NR0544"]
["06C001 Secretaría del Medio Ambiente","O21NR0567"]
["06CD03 Sistema de Aguas de la Ciudad de México","A21NR0021"]
["06CD03 Sistema de Aguas de la Ciudad de México","A21NR0030"]
["06CD03 Sistema de Aguas de la Ciudad de México","A21NR0048"]
["06CD03 Sistema de Aguas de la Ciudad de México","A21NR0060"]
["06CD03 Sistema de Aguas de la Ciudad de México","A21NR0069"]
["06CD03 Sistema de Aguas de la Ciudad de México","A21NR0077"]
["06CD03 Sistema de Aguas de la Ciudad de México","A21NR0085"]
["06CD03 Sistema de Aguas de la Ciudad de México","A21NR0093"]
["06CD03 Sistema de Aguas de la Ciudad de México","A21NR0097"]
["06CD03 Sistema de Aguas de la Ciudad de México","A21NR0104"]
["06CD03 Sistema de Aguas de la Ciudad de México","A21NR0105"]
["06CD03 Sistema de Aguas de la Ciudad de México","A21NR0106"]
["06CD03 Sistema de Aguas de la Ciudad de México","A21NR0278"]
["06CD03 Sistema de Aguas de la Ciudad de México","A21NR0341"]
["06CD03 Sistema de Aguas de la Ciudad de México","A21NR0348"]
["06CD03 Sistema de Aguas de la Ciudad de México","O20ML0001"]
["06CD03 Sistema de Aguas de la Ciudad de México","O20ML0002"]
["06CD03 Sistema de Aguas de la Ciudad de México","O20ML0004"]
["06CD03 Sistema de Aguas de la Ciudad de México","O20ML0005"]
["06CD03 Sistema de Aguas de la Ciudad de México","O20ML0006"]
["06CD03 Sistema de Aguas de la Ciudad de México","O20ML0008"]
["06CD03 Sistema de Aguas de la Ciudad de México","O20ML0009"]
["06CD03 Sistema de Aguas de la Ciudad de México","O20ML0010"]
["06CD03 Sistema de Aguas de la Ciudad de México","O20ML0011"]
["06CD03 Sistema de Aguas de la Ciudad de México","O20ML0012"]
["06CD03 Sistema de Aguas de la Ciudad de México","O20ML0013"]
["06CD03 Sistema de Aguas de la Ciudad de México","O20ML0014"]
["06CD03 Sistema de Aguas de la Ciudad de México","O20ML0015"]
["06CD03 Sistema de Aguas de la Ciudad de México","O20ML0016"]
["06CD03 Sistema de Aguas de la Ciudad de México","O20ML0020"]
["06CD03 Sistema de Aguas de la Ciudad de México","O20ML0021"]
["06CD03 Sistema de Aguas de la Ciudad de México","O20ML0023"]
["06CD03 Sistema de Aguas de la Ciudad de México","O20ML0024"]
["06CD03 Sistema de Aguas de la Ciudad de México","O20ML0028"]
["06CD03 Sistema de Aguas de la Ciudad de México","O20ML0029"]
["06CD03 Sistema de Aguas de la Ciudad de México","O21ML0003"]
["06CD03 Sistema de Aguas de la Ciudad de México","O21ML0004"]
["06CD03 Sistema de Aguas de la Ciudad de México","O21ML0005"]
["06CD03 Sistema de Aguas de la Ciudad de México","O21ML0006"]
["06CD03 Sistema de Aguas de la Ciudad de México","O21ML0007"]
["06CD03 Sistema de Aguas de la Ciudad de México","O21ML0008"]
["06CD03 Sistema de Aguas de la Ciudad de México","O21ML0009"]
["06CD03 Sistema de Aguas de la Ciudad de México","O21ML0010"]
["06CD03 Sistema de Aguas de la Ciudad de México","O21ML0011"]
["06CD03 Sistema de Aguas de la Ciudad de México","O21ML0012"]
["06CD03 Sistema de Aguas de la Ciudad de México","O21ML0013"]
["06CD03 Sistema de Aguas de la Ciudad de México","O21ML0014"]
["06CD03 Sistema de Aguas de la Ciudad de México","O21ML0016"]
["06CD03 Sistema de Aguas de la Ciudad de México","O21ML0017"]
["06CD03 Sistema de Aguas de la Ciudad de México","O21ML0018"]
["06CD03 Sistema de Aguas de la Ciudad de México","O21ML0019"]
["06CD03 Sistema de Aguas de la Ciudad de México","O21ML0020"]
["06CD03 Sistema de Aguas de la Ciudad de México","O21ML0021"]
["06CD03 Sistema de Aguas de la Ciudad de México","O21ML0022"]
["06CD03 Sistema de Aguas de la Ciudad de México","O21ML0023"]
["06CD03 Sistema de Aguas de la Ciudad de México","O21NR0024"]
["06CD03 Sistema de Aguas de la Ciudad de México","O21NR0026"]
["06CD03 Sistema de Aguas de la Ciudad de México","O21NR0045"]
["06CD03 Sistema de Aguas de la Ciudad de México","O21NR0105"]
["06CD03 Sistema de Aguas de la Ciudad de México","O21NR0115"]
["06CD03 Sistema de Aguas de la Ciudad de México","O21NR0125"]
["06CD03 Sistema de Aguas de la Ciudad de México","O21NR0135"]
["06CD03 Sistema de Aguas de la Ciudad de México","O21NR0145"]
["06CD03 Sistema de Aguas de la Ciudad de México","O21NR0154"]
["06CD03 Sistema de Aguas de la Ciudad de México","O21NR0163"]
["06CD03 Sistema de Aguas de la Ciudad de México","O21NR0171"]
["06CD03 Sistema de Aguas de la Ciudad de México","O21NR0172"]
["06CD03 Sistema de Aguas de la Ciudad de México","O21NR0178"]
["06CD03 Sistema de Aguas de la Ciudad de México","O21NR0179"]
["06CD03 Sistema de Aguas de la Ciudad de México","O21NR0185"]
["06CD03 Sistema de Aguas de la Ciudad de México","O21NR0186"]
["06CD03 Sistema de Aguas de la Ciudad de México","O21NR0216"]
["06CD03 Sistema de Aguas de la Ciudad de México","O21NR0217"]
["06CD03 Sistema de Aguas de la Ciudad de México","O21NR0218"]
["06CD03 Sistema de Aguas de la Ciudad de México","O21NR0219"]
["06CD03 Sistema de Aguas de la Ciudad de México","O21NR0220"]
["06CD03 Sistema de Aguas de la Ciudad de México","O21NR0221"]
["06CD03 Sistema de Aguas de la Ciudad de México","O21NR0229"]
["06CD03 Sistema de Aguas de la Ciudad de México","O21NR0230"]
["06CD03 Sistema de Aguas de la Ciudad de México","O21NR0237"]
["06CD03 Sistema de Aguas de la Ciudad de México","O21NR0239"]
["06CD03 Sistema de Aguas de la Ciudad de México","O21NR0240"]
["06CD03 Sistema de Aguas de la Ciudad de México","O21NR0241"]
["06CD03 Sistema de Aguas de la Ciudad de México","O21NR0242"]
["06CD03 Sistema de Aguas de la Ciudad de México","O21NR0243"]
["06CD03 Sistema de Aguas de la Ciudad de México","O21NR0244"]
["06CD03 Sistema de Aguas de la Ciudad de México","O21NR0245"]
["06CD03 Sistema de Aguas de la Ciudad de México","O21NR0246"]
["06CD03 Sistema de Aguas de la Ciudad de México","O21NR0247"]
["06CD03 Sistema de Aguas de la Ciudad de México","O21NR0248"]
["06CD03 Sistema de Aguas de la Ciudad de México","O21NR0273"]
["06CD03 Sistema de Aguas de la Ciudad de México","O21NR0563"]
["06CD03 Sistema de Aguas de la Ciudad de México","O21NR0564"]
["06CD03 Sistema de Aguas de la Ciudad de México","O21NR0565"]
["06P0FA Fondo Ambiental Público","A21NR0363"]
["06P0FA Fondo Ambiental Público","O21NR0569"]
["06PDPA Procuraduría Ambiental y del Ordenamiento Territorial","A21NR0346"]
["07C001 Secretaría de Obras y Servicios","A21NR0031"]
["07C001 Secretaría de Obras y Servicios","A21NR0049"]
["07C001 Secretaría de Obras y Servicios","A21NR0061"]
["07C001 Secretaría de Obras y Servicios","A21NR0070"]
["07C001 Secretaría de Obras y Servicios","A21NR0078"]
["07C001 Secretaría de Obras y Servicios","A21NR0086"]
["07C001 Secretaría de Obras y Servicios","A21NR0094"]
["07C001 Secretaría de Obras y Servicios","A21NR0107"]
["07C001 Secretaría de Obras y Servicios","A21NR0108"]
["07C001 Secretaría de Obras y Servicios","A21NR0109"]
["07C001 Secretaría de Obras y Servicios","A21NR0233"]
["07C001 Secretaría de Obras y Servicios","A21NR0317"]
["07C001 Secretaría de Obras y Servicios","A21NR0318"]
["07C001 Secretaría de Obras y Servicios","A21NR0378"]
["07C001 Secretaría de Obras y Servicios","A21NR0379"]
["07C001 Secretaría de Obras y Servicios","A21NR0380"]
["07C001 Secretaría de Obras y Servicios","A21NR0411"]
["07C001 Secretaría de Obras y Servicios","A21NR0502"]
["07C001 Secretaría de Obras y Servicios","I19ML0003"]
["07C001 Secretaría de Obras y Servicios","I19ML0004"]
["07C001 Secretaría de Obras y Servicios","O13ML0001"]
["07C001 Secretaría de Obras y Servicios","O13ML0002"]
["07C001 Secretaría de Obras y Servicios","O14ML0001"]
["07C001 Secretaría de Obras y Servicios","O16ML0002"]
["07C001 Secretaría de Obras y Servicios","O19ML0007"]
["07C001 Secretaría de Obras y Servicios","O19ML0009"]
["07C001 Secretaría de Obras y Servicios","O20ML0017"]
["07C001 Secretaría de Obras y Servicios","O20ML0019"]
["07C001 Secretaría de Obras y Servicios","O20ML0035"]
["07C001 Secretaría de Obras y Servicios","O20ML0036"]
["07C001 Secretaría de Obras y Servicios","O20ML0037"]
["07C001 Secretaría de Obras y Servicios","O20ML0038"]
["07C001 Secretaría de Obras y Servicios","O20ML0062"]
["07C001 Secretaría de Obras y Servicios","O20ML0063"]
["07C001 Secretaría de Obras y Servicios","O20ML0064"]
["07C001 Secretaría de Obras y Servicios","O20ML0065"]
["07C001 Secretaría de Obras y Servicios","O20ML0066"]
["07C001 Secretaría de Obras y Servicios","O20ML0067"]
["07C001 Secretaría de Obras y Servicios","O20ML0068"]
["07C001 Secretaría de Obras y Servicios","O20ML0069"]
["07C001 Secretaría de Obras y Servicios","O20ML0070"]
["07C001 Secretaría de Obras y Servicios","O20ML0071"]
["07C001 Secretaría de Obras y Servicios","O20ML0072"]
["07C001 Secretaría de Obras y Servicios","O20ML0073"]
["07C001 Secretaría de Obras y Servicios","O20ML0074"]
["07C001 Secretaría de Obras y Servicios","O20ML0075"]
["07C001 Secretaría de Obras y Servicios","O20ML0076"]
["07C001 Secretaría de Obras y Servicios","O20ML0077"]
["07C001 Secretaría de Obras y Servicios","O20ML0078"]
["07C001 Secretaría de Obras y Servicios","O21ML0024"]
["07C001 Secretaría de Obras y Servicios","O21NR0036"]
["07C001 Secretaría de Obras y Servicios","O21NR0037"]
["07C001 Secretaría de Obras y Servicios","O21NR0038"]
["07C001 Secretaría de Obras y Servicios","O21NR0039"]
["07C001 Secretaría de Obras y Servicios","O21NR0040"]
["07C001 Secretaría de Obras y Servicios","O21NR0041"]
["07C001 Secretaría de Obras y Servicios","O21NR0042"]
["07C001 Secretaría de Obras y Servicios","O21NR0043"]
["07C001 Secretaría de Obras y Servicios","O21NR0044"]
["07C001 Secretaría de Obras y Servicios","O21NR0187"]
["07C001 Secretaría de Obras y Servicios","O21NR0188"]
["07C001 Secretaría de Obras y Servicios","O21NR0189"]
["07C001 Secretaría de Obras y Servicios","O21NR0190"]
["07C001 Secretaría de Obras y Servicios","O21NR0191"]
["07C001 Secretaría de Obras y Servicios","O21NR0225"]
["07C001 Secretaría de Obras y Servicios","O21NR0226"]
["07C001 Secretaría de Obras y Servicios","O21NR0233"]
["07C001 Secretaría de Obras y Servicios","O21NR0234"]
["07C001 Secretaría de Obras y Servicios","O21NR0278"]
["07C001 Secretaría de Obras y Servicios","O21NR0279"]
["07C001 Secretaría de Obras y Servicios","O21NR0281"]
["07C001 Secretaría de Obras y Servicios","O21NR0282"]
["07C001 Secretaría de Obras y Servicios","O21NR0283"]
["07C001 Secretaría de Obras y Servicios","O21NR0284"]
["07C001 Secretaría de Obras y Servicios","O21NR0285"]
["07C001 Secretaría de Obras y Servicios","O21NR0286"]
["07C001 Secretaría de Obras y Servicios","O21NR0287"]
["07C001 Secretaría de Obras y Servicios","O21NR0288"]
["07C001 Secretaría de Obras y Servicios","O21NR0289"]
["07C001 Secretaría de Obras y Servicios","O21NR0290"]
["07C001 Secretaría de Obras y Servicios","O21NR0291"]
["07C001 Secretaría de Obras y Servicios","O21NR0308"]
["07C001 Secretaría de Obras y Servicios","O21NR0309"]
["07C001 Secretaría de Obras y Servicios","O21NR0310"]
["07C001 Secretaría de Obras y Servicios","O21NR0311"]
["07C001 Secretaría de Obras y Servicios","O21NR0325"]
["07C001 Secretaría de Obras y Servicios","O21NR0326"]
["07C001 Secretaría de Obras y Servicios","O21NR0327"]
["07C001 Secretaría de Obras y Servicios","O21NR0330"]
["07C001 Secretaría de Obras y Servicios","O21NR0331"]
["07C001 Secretaría de Obras y Servicios","O21NR0332"]
["07C001 Secretaría de Obras y Servicios","O21NR0333"]
["07C001 Secretaría de Obras y Servicios","O21NR0490"]
["07C001 Secretaría de Obras y Servicios","O21NR0491"]
["07C001 Secretaría de Obras y Servicios","O21NR0492"]
["07C001 Secretaría de Obras y Servicios","O21NR0493"]
["07C001 Secretaría de Obras y Servicios","O21NR0494"]
["07C001 Secretaría de Obras y Servicios","O21NR0495"]
["07C001 Secretaría de Obras y Servicios","O21NR0496"]
["07C001 Secretaría de Obras y Servicios","O21NR0497"]
["07C001 Secretaría de Obras y Servicios","O21NR0498"]
["07C001 Secretaría de Obras y Servicios","O21NR0499"]
["07C001 Secretaría de Obras y Servicios","O21NR0500"]
["07C001 Secretaría de Obras y Servicios","O21NR0501"]
["07C001 Secretaría de Obras y Servicios","O21NR0502"]
["07C001 Secretaría de Obras y Servicios","O21NR0503"]
["07C001 Secretaría de Obras y Servicios","O21NR0504"]
["07C001 Secretaría de Obras y Servicios","O21NR0505"]
["07C001 Secretaría de Obras y Servicios","O21NR0529"]
["07C001 Secretaría de Obras y Servicios","O21NR0531"]
["07C001 Secretaría de Obras y Servicios","O21NR0542"]
["07C001 Secretaría de Obras y Servicios","O21NR0546"]
["07C001 Secretaría de Obras y Servicios","O21NR0548"]
["07C001 Secretaría de Obras y Servicios","O21NR0549"]
["07C001 Secretaría de Obras y Servicios","O21NR0572"]
["07C001 Secretaría de Obras y Servicios","O21NR0573"]
["07C001 Secretaría de Obras y Servicios","O21NR0574"]
["07C001 Secretaría de Obras y Servicios","O21NR0575"]
["07C001 Secretaría de Obras y Servicios","O21NR0586"]
["07C001 Secretaría de Obras y Servicios","O21NR0587"]
["07C001 Secretaría de Obras y Servicios","O21NR0588"]
["07C001 Secretaría de Obras y Servicios","O21NR0803"]
["07C001 Secretaría de Obras y Servicios","O21NR0878"]
["07C001 Secretaría de Obras y Servicios","O21NR0879"]
["07C001 Secretaría de Obras y Servicios","O21NR0910"]
["07C001 Secretaría de Obras y Servicios","O21NR0911"]
["07C001 Secretaría de Obras y Servicios","O21NR0912"]
["07C001 Secretaría de Obras y Servicios","O21NR0938"]
["07C001 Secretaría de Obras y Servicios","O21NR0939"]
["07C001 Secretaría de Obras y Servicios","O21NR0957"]
["07C001 Secretaría de Obras y Servicios","O21NR0958"]
["07C001 Secretaría de Obras y Servicios","O21NR0959"]
["07C001 Secretaría de Obras y Servicios","O21NR1146"]
["07C001 Secretaría de Obras y Servicios","O21NR1147"]
["07C001 Secretaría de Obras y Servicios","O21NR1148"]
["07C001 Secretaría de Obras y Servicios","O21NR1149"]
["07C001 Secretaría de Obras y Servicios","O21NR1151"]
["07C001 Secretaría de Obras y Servicios","O21NR1152"]
["07C001 Secretaría de Obras y Servicios","O21NR1153"]
["07C001 Secretaría de Obras y Servicios","O21NR1232"]
["07C001 Secretaría de Obras y Servicios","O21NR1233"]
["07C001 Secretaría de Obras y Servicios","O21NR1234"]
["07C001 Secretaría de Obras y Servicios","O21NR1235"]
["07C001 Secretaría de Obras y Servicios","O21NR1236"]
["07C001 Secretaría de Obras y Servicios","O21NR1237"]
["07C001 Secretaría de Obras y Servicios","O21NR1333"]
["07C001 Secretaría de Obras y Servicios","O21NR1409"]
["07C001 Secretaría de Obras y Servicios","O21NR1413"]
["07C001 Secretaría de Obras y Servicios","O21NR1414"]
["07CD01 Planta Productora de Mezclas Asfalticas","A21NR0381"]
["07PDIF Instituto Local de la Infraestructura Física Educativa","A21NR0284"]
["07PDIF Instituto Local de la Infraestructura Física Educativa","A21NR0343"]
["07PDIF Instituto Local de la Infraestructura Física Educativa","A21NR0344"]
["07PDIF Instituto Local de la Infraestructura Física Educativa","A21NR0374"]
["07PDIF Instituto Local de la Infraestructura Física Educativa","A21NR0394"]
["07PDIF Instituto Local de la Infraestructura Física Educativa","A21NR0395"]
["07PDIF Instituto Local de la Infraestructura Física Educativa","A21NR0446"]
["07PDIF Instituto Local de la Infraestructura Física Educativa","A21NR0447"]
["07PDIF Instituto Local de la Infraestructura Física Educativa","A21NR0498"]
["07PDIF Instituto Local de la Infraestructura Física Educativa","O21NR0062"]
["07PDIF Instituto Local de la Infraestructura Física Educativa","O21NR0537"]
["07PDIF Instituto Local de la Infraestructura Física Educativa","O21NR0538"]
["07PDIF Instituto Local de la Infraestructura Física Educativa","O21NR0539"]
["07PDIF Instituto Local de la Infraestructura Física Educativa","O21NR0540"]
["07PDIF Instituto Local de la Infraestructura Física Educativa","O21NR0541"]
["07PDIF Instituto Local de la Infraestructura Física Educativa","O21NR0552"]
["07PDIF Instituto Local de la Infraestructura Física Educativa","O21NR0555"]
["07PDIF Instituto Local de la Infraestructura Física Educativa","O21NR0556"]
["07PDIF Instituto Local de la Infraestructura Física Educativa","O21NR0577"]
["07PDIF Instituto Local de la Infraestructura Física Educativa","O21NR0578"]
["07PDIF Instituto Local de la Infraestructura Física Educativa","O21NR0583"]
["07PDIF Instituto Local de la Infraestructura Física Educativa","O21NR0589"]
["07PDIF Instituto Local de la Infraestructura Física Educativa","O21NR0783"]
["07PDIF Instituto Local de la Infraestructura Física Educativa","O21NR0917"]
["07PDIF Instituto Local de la Infraestructura Física Educativa","O21NR0987"]
["07PDIF Instituto Local de la Infraestructura Física Educativa","O21NR1345"]
["07PDIS Instituto para la Seguridad de las Construcciones","A21NR0389"]
["08C001 Secretaría de Inclusión y Bienestar Social","A21NR0422"]
["08PDCE Consejo de Evaluación del Desarrollo Social","A21NR0330"]
["08PDCE Consejo de Evaluación del Desarrollo Social","A21NR0331"]
["08PDCE Consejo de Evaluación del Desarrollo Social","A21NR0332"]
["08PDCE Consejo de Evaluación del Desarrollo Social","A21NR0402"]
["08PDCP Consejo para Prevenir y Eliminar la Discriminación","A21NR0222"]
["08PDCP Consejo para Prevenir y Eliminar la Discriminación","A21NR0499"]
["09C001 Secretaría de Administración y Finanzas","A21NR0280"]
["09PDLR Caja de Previsión para Trabajadores a Lista de Raya","A21NR0235"]
["09PDLR Caja de Previsión para Trabajadores a Lista de Raya","A21NR0272"]
["09PECM Corporación Mexicana de Impresión, S.A. de C.V.","A21NR0260"]
["09PECM Corporación Mexicana de Impresión, S.A. de C.V.","A21NR0261"]
["09PECM Corporación Mexicana de Impresión, S.A. de C.V.","A21NR0469"]
["09PESM Servicios Metropolitanos, S.A. de C.V.","A21NR0265"]
["09PESM Servicios Metropolitanos, S.A. de C.V.","A21NR0279"]
["09PFCH Fideicomiso del Centro Histórico","O20ML0030"]
["09PFCH Fideicomiso del Centro Histórico","O20ML0031"]
["09PFCH Fideicomiso del Centro Histórico","O20ML0032"]
["09PFCH Fideicomiso del Centro Histórico","O20ML0033"]
["09PFCH Fideicomiso del Centro Histórico","O21NR0571"]
["09PFCH Fideicomiso del Centro Histórico","O21NR1150"]
["09PFRC Fideicomiso de Recuperación Crediticia","A21NR0123"]
["09PFRC Fideicomiso de Recuperación Crediticia","A21NR0124"]
["10C001 Secretaría de Movilidad","A21NR0167"]
["10C001 Secretaría de Movilidad","A21NR0204"]
["10C001 Secretaría de Movilidad","A21NR0226"]
["10C001 Secretaría de Movilidad","A21NR0274"]
["10C001 Secretaría de Movilidad","A21NR0445"]
["10C001 Secretaría de Movilidad","A21NR0507"]
["10CD01 Órgano Regulador de Transporte","I19ML0001"]
["10CD01 Órgano Regulador de Transporte","I19ML0002"]
["10P0AC Fondo Público de Atención al Ciclista y al Peatón","O21NR0063"]
["10P0AC Fondo Público de Atención al Ciclista y al Peatón","O21NR0551"]
["10P0TP Fideicomiso para el Fondo de Promoción para el Financiamiento del Transporte Público","A21NR0340"]
["10PDMB Metrobús","A21NR0149"]
["10PDMB Metrobús","A21NR0347"]
["10PDME Sistema de Transporte Colectivo Metro","A19ML0001"]
["10PDME Sistema de Transporte Colectivo Metro","A21NR0032"]
["10PDME Sistema de Transporte Colectivo Metro","A21NR0178"]
["10PDME Sistema de Transporte Colectivo Metro","A21NR0337"]
["10PDME Sistema de Transporte Colectivo Metro","A21NR0491"]
["10PDME Sistema de Transporte Colectivo Metro","O10ML0001"]
["10PDME Sistema de Transporte Colectivo Metro","O21ML0002"]
["10PDME Sistema de Transporte Colectivo Metro","O21ML0025"]
["10PDME Sistema de Transporte Colectivo Metro","O21ML0028"]
["10PDME Sistema de Transporte Colectivo Metro","O21NR0093"]
["10PDME Sistema de Transporte Colectivo Metro","O21NR0508"]
["10PDME Sistema de Transporte Colectivo Metro","O21NR0576"]
["10PDME Sistema de Transporte Colectivo Metro","O21NR1407"]
["10PDTE Servicio de Transportes Eléctricos","A21NR0223"]
["10PDTE Servicio de Transportes Eléctricos","A21NR0224"]
["10PDTE Servicio de Transportes Eléctricos","A21NR0225"]
["10PDTE Servicio de Transportes Eléctricos","A21NR0324"]
["10PDTE Servicio de Transportes Eléctricos","A21NR0325"]
["11C001 Secretaría de Seguridad Ciudadana","A21NR0148"]
["11C001 Secretaría de Seguridad Ciudadana","A21NR0179"]
["11C001 Secretaría de Seguridad Ciudadana","A21NR0299"]
["11C001 Secretaría de Seguridad Ciudadana","A21NR0371"]
["11C001 Secretaría de Seguridad Ciudadana","A21NR0461"]
["11C001 Secretaría de Seguridad Ciudadana","A21NR0533"]
["11C001 Secretaría de Seguridad Ciudadana","O21NR0519"]
["11CD01 Universidad de la Policía","A21NR0191"]
["11CD01 Universidad de la Policía","A21NR0258"]
["11CD03 Policía Bancaria e Industrial","A21NR0259"]
["13C001 Secretaría de la Contraloría General","A21NR0126"]
["13C001 Secretaría de la Contraloría General","A21NR0128"]
["13C001 Secretaría de la Contraloría General","A21NR0129"]
["13C001 Secretaría de la Contraloría General","A21NR0130"]
["13C001 Secretaría de la Contraloría General","A21NR0131"]
["13C001 Secretaría de la Contraloría General","A21NR0132"]
["13C001 Secretaría de la Contraloría General","A21NR0133"]
["13C001 Secretaría de la Contraloría General","A21NR0134"]
["13C001 Secretaría de la Contraloría General","A21NR0135"]
["13C001 Secretaría de la Contraloría General","A21NR0136"]
["13C001 Secretaría de la Contraloría General","A21NR0137"]
["25C001 Consejería Jurídica y de Servicios Legales","A21NR0528"]
["25C001 Consejería Jurídica y de Servicios Legales","A21NR0534"]
["26C001 Secretaría de Salud","A21NR0139"]
["26C001 Secretaría de Salud","A21NR0382"]
["26CD01 Agencia de Protección Sanitaria","A21NR0162"]
["26PDSP Servicios de Salud Pública","A21NR0205"]
["26PDSP Servicios de Salud Pública","A21NR0218"]
["26PDSP Servicios de Salud Pública","A21NR0219"]
["26PDSP Servicios de Salud Pública","A21NR0276"]
["26PDSP Servicios de Salud Pública","A21NR0277"]
["26PDSP Servicios de Salud Pública","A21NR0352"]
["26PDSP Servicios de Salud Pública","A21NR0353"]
["26PDSP Servicios de Salud Pública","A21NR0355"]
["26PDSP Servicios de Salud Pública","A21NR0356"]
["26PDSP Servicios de Salud Pública","A21NR0375"]
["26PDSP Servicios de Salud Pública","A21NR0385"]
["26PDSP Servicios de Salud Pública","A21NR0508"]
["31C000 Secretaría de Cultura","A21NR0458"]
["31C000 Secretaría de Cultura","A21NR0460"]
["33C001 Secretaría de Trabajo y Fomento Al Empleo","A21NR0262"]
["33C001 Secretaría de Trabajo y Fomento Al Empleo","A21NR0263"]
["34C001 Secretaría de Gestión Integral de Riesgos y Protección Civil","A21NR0351"]
["34PDHB Heroico Cuerpo de Bomberos","A21NR0033"]
["34PDHB Heroico Cuerpo de Bomberos","A21NR0050"]
["34PDHB Heroico Cuerpo de Bomberos","A21NR0436"]
["36C001 Secretaría de Educación, Ciencia, Tecnología e Innovación","A21NR0170"]
["36C001 Secretaría de Educación, Ciencia, Tecnología e Innovación","A21NR0229"]
["36C001 Secretaría de Educación, Ciencia, Tecnología e Innovación","A21NR0329"]
["36C001 Secretaría de Educación, Ciencia, Tecnología e Innovación","A21NR0476"]
["36C001 Secretaría de Educación, Ciencia, Tecnología e Innovación","A21NR0511"]
["36C001 Secretaría de Educación, Ciencia, Tecnología e Innovación","A21NR0512"]
["36C001 Secretaría de Educación, Ciencia, Tecnología e Innovación","A21NR0514"]
["36CD01 Universidad de la Salud","A21NR0034"]
["36CD01 Universidad de la Salud","A21NR0051"]
["36CD01 Universidad de la Salud","A21NR0062"]
["36CD01 Universidad de la Salud","A21NR0071"]
["36CD01 Universidad de la Salud","A21NR0079"]
["36CD01 Universidad de la Salud","A21NR0087"]
["36CDES Instituto de Estudios Superiores de la Ciudad de México \"Rosario Castellanos\"","A21NR0035"]
["36CDES Instituto de Estudios Superiores de la Ciudad de México \"Rosario Castellanos\"","A21NR0052"]
["36CDES Instituto de Estudios Superiores de la Ciudad de México \"Rosario Castellanos\"","A21NR0150"]
["36CDES Instituto de Estudios Superiores de la Ciudad de México \"Rosario Castellanos\"","A21NR0151"]
["36CDES Instituto de Estudios Superiores de la Ciudad de México \"Rosario Castellanos\"","A21NR0152"]
["36CDES Instituto de Estudios Superiores de la Ciudad de México \"Rosario Castellanos\"","A21NR0153"]
["36CDES Instituto de Estudios Superiores de la Ciudad de México \"Rosario Castellanos\"","A21NR0154"]
["36CDES Instituto de Estudios Superiores de la Ciudad de México \"Rosario Castellanos\"","A21NR0156"]
["36CDES Instituto de Estudios Superiores de la Ciudad de México \"Rosario Castellanos\"","A21NR0157"]
["36CDES Instituto de Estudios Superiores de la Ciudad de México \"Rosario Castellanos\"","A21NR0159"]
["36CDES Instituto de Estudios Superiores de la Ciudad de México \"Rosario Castellanos\"","A21NR0396"]
["36CDES Instituto de Estudios Superiores de la Ciudad de México \"Rosario Castellanos\"","A21NR0397"]
["36CDES Instituto de Estudios Superiores de la Ciudad de México \"Rosario Castellanos\"","A21NR0398"]
["36PDID Instituto del Deporte","A21NR0400"]
["36PDID Instituto del Deporte","A21NR0440"]
["36PDID Instituto del Deporte","A21NR0510"]
["36PFEG Fideicomiso Educación Garantizada","A21NR0144"]
["38C001 Secretaría de las Mujeres","A21NR0236"]
["38C001 Secretaría de las Mujeres","A21NR0285"]
["38C001 Secretaría de las Mujeres","A21NR0412"]
["38C001 Secretaría de las Mujeres","A21NR0413"]
["38C001 Secretaría de las Mujeres","A21NR0414"]

{"sheet":"CAT_PP","index":31,"n_rows":1056,"n_cols":2,"rows_kept":1056,"cut":false,"hidden":true,"merged":[]}
["N_UR","N_PP"]
["01C001 Jefatura de Gobierno","M001 ACTIVIDADES DE APOYO ADMINISTRATIVO"]
["01C001 Jefatura de Gobierno","N001 CUMPLIMIENTO DE LOS PROGRAMAS DE PROTECCIÓN CIVIL"]
["01C001 Jefatura de Gobierno","O001 ACTIVIDADES DE APOYO A LA FUNCIÓN PÚBLICA Y BUEN GOBIERNO"]
["01C001 Jefatura de Gobierno","P001 PROMOCIÓN INTEGRAL PARA EL CUMPLIMIENTO DE LOS DERECHOS HUMANOS DE LAS NIÑAS Y MUJERES"]
["01C001 Jefatura de Gobierno","P002 PROMOCIÓN INTEGRAL PARA EL CUMPLIMIENTO DE LOS DERECHOS HUMANOS"]
["01C001 Jefatura de Gobierno","P004 PROMOCIÓN INTEGRAL PARA EL CUMPLIMIENTO DE LOS DERECHOS DE LA NIÑEZ Y DE LA ADOLECENCIA"]
["01C001 Jefatura de Gobierno","P020 PLANEACIÓN Y SEGUIMIENTO DE LA POLÍTICA GUBERNAMENTAL"]
["01C001 Jefatura de Gobierno","U011 PROGRAMA PARA LA RECONSTRUCCIÓN"]
["01CD03 Centro de Comando, Control, Cómputo, Comunicaciones y Contacto Ciudadano","E065 SERVICIO INTEGRAL DE OPERACIÓN Y ATENCIÓN A EMERGENCIAS"]
["01CD03 Centro de Comando, Control, Cómputo, Comunicaciones y Contacto Ciudadano","M001 ACTIVIDADES DE APOYO ADMINISTRATIVO"]
["01CD03 Centro de Comando, Control, Cómputo, Comunicaciones y Contacto Ciudadano","N001 CUMPLIMIENTO DE LOS PROGRAMAS DE PROTECCIÓN CIVIL"]
["01CD03 Centro de Comando, Control, Cómputo, Comunicaciones y Contacto Ciudadano","O001 ACTIVIDADES DE APOYO A LA FUNCIÓN PÚBLICA Y BUEN GOBIERNO"]
["01CD03 Centro de Comando, Control, Cómputo, Comunicaciones y Contacto Ciudadano","P001 PROMOCIÓN INTEGRAL PARA EL CUMPLIMIENTO DE LOS DERECHOS HUMANOS DE LAS NIÑAS Y MUJERES"]
["01CD03 Centro de Comando, Control, Cómputo, Comunicaciones y Contacto Ciudadano","P002 PROMOCIÓN INTEGRAL PARA EL CUMPLIMIENTO DE LOS DERECHOS HUMANOS"]
["01CD03 Centro de Comando, Control, Cómputo, Comunicaciones y Contacto Ciudadano","P004 PROMOCIÓN INTEGRAL PARA EL CUMPLIMIENTO DE LOS DERECHOS DE LA NIÑEZ Y DE LA ADOLECENCIA"]
["01CD06 Agencia Digital de Innovación Pública","E005 ACCIONES PARA MEJORAR LA GOBERNANZA DIGITAL"]
["01CD06 Agencia Digital de Innovación Pública","E110 ATENCIÓN TELEFÓNICA SOBRE SERVICIOS DE NO EMERGENCIA"]
["01CD06 Agencia Digital de Innovación Pública","M001 ACTIVIDADES DE APOYO ADMINISTRATIVO"]
["01CD06 Agencia Digital de Innovación Pública","N001 CUMPLIMIENTO DE LOS PROGRAMAS DE PROTECCIÓN CIVIL"]
["01CD06 Agencia Digital de Innovación Pública","O001 ACTIVIDADES DE APOYO A LA FUNCIÓN PÚBLICA Y BUEN GOBIERNO"]
["01CD06 Agencia Digital de Innovación Pública","P001 PROMOCIÓN INTEGRAL PARA EL CUMPLIMIENTO DE LOS DERECHOS HUMANOS DE LAS NIÑAS Y MUJERES"]
["01CD06 Agencia Digital de Innovación Pública","P002 PROMOCIÓN INTEGRAL PARA EL CUMPLIMIENTO DE LOS DERECHOS HUMANOS"]
["01CD06 Agencia Digital de Innovación Pública","P004 PROMOCIÓN INTEGRAL PARA EL CUMPLIMIENTO DE LOS DERECHOS DE LA NIÑEZ Y DE LA ADOLECENCIA"]
["01P0ES Fondo para el Desarrollo Económico y Social","M001 ACTIVIDADES DE APOYO ADMINISTRATIVO"]
["01P0ES Fondo para el Desarrollo Económico y Social","N001 CUMPLIMIENTO DE LOS PROGRAMAS DE PROTECCIÓN CIVIL"]
["01P0ES Fondo para el Desarrollo Económico y Social","O001 ACTIVIDADES DE APOYO A LA FUNCIÓN PÚBLICA Y BUEN GOBIERNO"]
["01P0ES Fondo para el Desarrollo Económico y Social","P001 PROMOCIÓN INTEGRAL PARA EL CUMPLIMIENTO DE LOS DERECHOS HUMANOS DE LAS NIÑAS Y MUJERES"]
["01P0ES Fondo para el Desarrollo Económico y Social","P002 PROMOCIÓN INTEGRAL PARA EL CUMPLIMIENTO DE LOS DERECHOS HUMANOS"]
["01P0ES Fondo para el Desarrollo Económico y Social","P004 PROMOCIÓN INTEGRAL PARA EL CUMPLIMIENTO DE LOS DERECHOS DE LA NIÑEZ Y DE LA ADOLECENCIA"]
["01P0ES Fondo para el Desarrollo Económico y Social","P041 PLANEACIÓN, ELABORACIÓN,  SEGUIMIENTO  Y EVALUACIÓN DE LAS POLÍTICAS PÚBLICAS Y NORMATIVIDAD EN MATERIA DE DESARROLLO ECONÓMICO, SOCIAL Y AMBIENTAL"]
["02C001 Secretaría de Gobierno","E014 ATENCIÓN A PERSONAS ADULTAS PRIVADAS DE SU LIBERTAD Y EN PROCEDIMIENTO LEGAL"]
["02C001 Secretaría de Gobierno","E057 REINSERCIÓN POS PENITENCIARIA"]
["02C001 Secretaría de Gobierno","E063 SEGURIDAD PROCESAL"]
["02C001 Secretaría de Gobierno","E068 PREVENCIÓN Y ATENCIÓN A MENORES INFRACTORES"]
["02C001 Secretaría de Gobierno","E103 ACCIONES DE GABINETE DE SEGURIDAD"]
["02C001 Secretaría de Gobierno","M001 ACTIVIDADES DE APOYO ADMINISTRATIVO"]
["02C001 Secretaría de Gobierno","N001 CUMPLIMIENTO DE LOS PROGRAMAS DE PROTECCIÓN CIVIL"]
["02C001 Secretaría de Gobierno","O001 ACTIVIDADES DE APOYO A LA FUNCIÓN PÚBLICA Y BUEN GOBIERNO"]
["02C001 Secretaría de Gobierno","P001 PROMOCIÓN INTEGRAL PARA EL CUMPLIMIENTO DE LOS DERECHOS HUMANOS DE LAS NIÑAS Y MUJERES"]
["02C001 Secretaría de Gobierno","P002 PROMOCIÓN INTEGRAL PARA EL CUMPLIMIENTO DE LOS DERECHOS HUMANOS"]
["02C001 Secretaría de Gobierno","P007 GOBERNABILIDAD Y MEJORAMIENTO DE LOS NIVELES DE VIDA DE LOS HABITANTES DE LA CIUDAD DE MÉXICO"]
["02C001 Secretaría de Gobierno","P023 PLANEACIÓN Y GESTIÓN DEL ORDENAMIENTO TERRITORIAL Y ASENTAMIENTOS HUMANOS"]
["02C001 Secretaría de Gobierno","S005 ATENCIÓN PRIORITARIA A PERSONAS EGRESADAS DEL SISTEMA DE JUSTICIA PENAL"]
["02C001 Secretaría de Gobierno","S216 APOYO PARA EL IMPULSO LABORAL DE PERSONAS EGRESADAS DEL SISTEMA DE JUSTICIA PENAL DE LA CIUDAD DE MÉXICO (ATENCIÓN PRIORITARIA A PERSONAS LIBERADAS EN SITUACIÓN DE VULNERABILIDAD)"]
["02C001 Secretaría de Gobierno","U019 SÍ AL DESARME, SÍ A LA PAZ"]
["02CD01 Alcaldía Álvaro Obregón","E118 ACCIONES POLICIALES Y PREVENCIÓN DEL DELITO"]
["02CD01 Alcaldía Álvaro Obregón","E122 REFORESTACIÓN EN SUELO DE CONSERVACIÓN"]
["02CD01 Alcaldía Álvaro Obregón","E123 MANEJO INTEGRAL DE RESIDUOS SÓLIDOS URBANOS"]
["02CD01 Alcaldía Álvaro Obregón","E127 PREVENCIÓN Y CONTROL DE ENFERMEDADES"]
["02CD01 Alcaldía Álvaro Obregón","E130 OPERACIÓN DE PANTEONES PÚBLICOS"]
["02CD01 Alcaldía Álvaro Obregón","E137 OPERACIÓN DE CENTROS DE DESARROLLO INFANTIL"]
["02CD01 Alcaldía Álvaro Obregón","E152 PROMOCIÓN DE AUTOCUIDADO Y ENVEGECIMIENTO DIGNO DE LAS PERSONAS MAYORES Y GRUPOS DE ATENCIÓN PRIORITARIA"]
["02CD01 Alcaldía Álvaro Obregón","F031 ORGANIZACIÓN DE EVENTOS CÍVICOS, FESTIVIDADES PATRIAS Y TRADICIONES"]
["02CD01 Alcaldía Álvaro Obregón","F032 PROMOCIÓN DE LA CULTURA FÍSICA Y DEPORTIVA"]
["02CD01 Alcaldía Álvaro Obregón","F033 PROYECTOS DE DESARROLLO Y  FOMENTO AGROPECUARIO"]
["02CD01 Alcaldía Álvaro Obregón","K014 INFRAESTRUCTURA DE AGUA POTABLE, ALCANTARILLADO Y SANEAMIENTO"]
["02CD01 Alcaldía Álvaro Obregón","K016 REHABILITACIÓN Y MANTENIMIENTO DE INFRAESTRUCTURA PÚBLICA"]
["02CD01 Alcaldía Álvaro Obregón","K017 ACCIONES DE OBRAS Y SERVICIOS PARA LA REGENERACIÓN DE BARRIOS"]
["02CD01 Alcaldía Álvaro Obregón","M001 ACTIVIDADES DE APOYO ADMINISTRATIVO"]
["02CD01 Alcaldía Álvaro Obregón","N001 CUMPLIMIENTO DE LOS PROGRAMAS DE PROTECCIÓN CIVIL"]
["02CD01 Alcaldía Álvaro Obregón","O001 ACTIVIDADES DE APOYO A LA FUNCIÓN PÚBLICA Y BUEN GOBIERNO"]
["02CD01 Alcaldía Álvaro Obregón","P001 PROMOCIÓN INTEGRAL PARA EL CUMPLIMIENTO DE LOS DERECHOS HUMANOS DE LAS NIÑAS Y MUJERES"]
["02CD01 Alcaldía Álvaro Obregón","P002 PROMOCIÓN INTEGRAL PARA EL CUMPLIMIENTO DE LOS DERECHOS HUMANOS"]
["02CD01 Alcaldía Álvaro Obregón","P004 PROMOCIÓN INTEGRAL PARA EL CUMPLIMIENTO DE LOS DERECHOS DE LA NIÑEZ Y DE LA ADOLECENCIA"]
["02CD01 Alcaldía Álvaro Obregón","P049 PLANEACIÓN Y GESTIÓN DEL ORDENAMIENTO TERRITORIAL Y ASENTAMIENTOS HUMANOS"]
["02CD01 Alcaldía Álvaro Obregón","S076 PROMOTORES DEL DESARROLLO SOCIAL"]
["02CD01 Alcaldía Álvaro Obregón","U026 APOYOS ECONÓMICOS Y OTRAS AYUDAS SOCIALES"]
["02CD02 Alcaldía Azcapotzalco","E118 ACCIONES POLICIALES Y PREVENCIÓN DEL DELITO"]
["02CD02 Alcaldía Azcapotzalco","E119 FORTALECIMIENTO EN MATERIA JURÍDICA"]
["02CD02 Alcaldía Azcapotzalco","E120 ATENCIÓN VETERINARIA"]
["02CD02 Alcaldía Azcapotzalco","E123 MANEJO INTEGRAL DE RESIDUOS SÓLIDOS URBANOS"]
["02CD02 Alcaldía Azcapotzalco","E124 PROGRAMA INTEGRAL DE MOVILIDAD INTELIGENTE"]
["02CD02 Alcaldía Azcapotzalco","E127 PREVENCIÓN Y CONTROL DE ENFERMEDADES"]
["02CD02 Alcaldía Azcapotzalco","E128 MANTENIMIENTO Y REHABILITACIÓN DE ÁREAS VERDES"]
["02CD02 Alcaldía Azcapotzalco","E130 OPERACIÓN DE PANTEONES PÚBLICOS"]
["02CD02 Alcaldía Azcapotzalco","E138 ATENCIÓN Y PREVENCIÓN DE LA VIOLENCIA INTRAFAMILIAR"]
["02CD02 Alcaldía Azcapotzalco","E142 APOYO INTEGRAL PARA PERSONAS CON DISCAPACIDAD"]
["02CD02 Alcaldía Azcapotzalco","E150 FOMENTO Y MEJORAMIENTO DE LOS MERCADOS PÚBLICOS DE LA CIUDAD DE MÉXICO"]
["02CD02 Alcaldía Azcapotzalco","F029 FINANCIAMIENTO A LAS MIPYMES"]
["02CD02 Alcaldía Azcapotzalco","F031 ORGANIZACIÓN DE EVENTOS CÍVICOS, FESTIVIDADES PATRIAS Y TRADICIONES"]
["02CD02 Alcaldía Azcapotzalco","K014 INFRAESTRUCTURA DE AGUA POTABLE, ALCANTARILLADO Y SANEAMIENTO"]
["02CD02 Alcaldía Azcapotzalco","K016 REHABILITACIÓN Y MANTENIMIENTO DE INFRAESTRUCTURA PÚBLICA"]
["02CD02 Alcaldía Azcapotzalco","M001 ACTIVIDADES DE APOYO ADMINISTRATIVO"]
["02CD02 Alcaldía Azcapotzalco","N001 CUMPLIMIENTO DE LOS PROGRAMAS DE PROTECCIÓN CIVIL"]
["02CD02 Alcaldía Azcapotzalco","O001 ACTIVIDADES DE APOYO A LA FUNCIÓN PÚBLICA Y BUEN GOBIERNO"]
["02CD02 Alcaldía Azcapotzalco","P001 PROMOCIÓN INTEGRAL PARA EL CUMPLIMIENTO DE LOS DERECHOS HUMANOS DE LAS NIÑAS Y MUJERES"]
["02CD02 Alcaldía Azcapotzalco","P002 PROMOCIÓN INTEGRAL PARA EL CUMPLIMIENTO DE LOS DERECHOS HUMANOS"]
["02CD02 Alcaldía Azcapotzalco","P004 PROMOCIÓN INTEGRAL PARA EL CUMPLIMIENTO DE LOS DERECHOS DE LA NIÑEZ Y DE LA ADOLECENCIA"]
["02CD02 Alcaldía Azcapotzalco","P048 PLANEACIÓN, SEGUIMIENTO Y EVALUACIÓN A POLÍTICAS PÚBLICAS"]
["02CD02 Alcaldía Azcapotzalco","P050 PLANEACIÓN Y GESTIÓN  PARA EL DESARROLLO SOCIAL INTEGRAL E INCLUYENTE"]
["02CD02 Alcaldía Azcapotzalco","S079 APOYO A UNIDADES HABITACIONALES"]
["02CD02 Alcaldía Azcapotzalco","S080 APOYO  A CUIDADORAS  Y  CUIDADORES DE 58 A 64 AÑOS"]
["02CD02 Alcaldía Azcapotzalco","S081 ALIMENTACIÓN A NIÑAS, NIÑOS Y PERSONAL ADSCRITO A LA JEFATURA DE LOS CENTROS DE DESARROLLO INFANTIL ICENDIS"]
["02CD02 Alcaldía Azcapotzalco","S082 EMPODERAMIENTO MUJERES AZCAPOTZALCO"]
["02CD02 Alcaldía Azcapotzalco","S083 INICIATIVAS JUVENILES AZCAPOTZALCO"]
["02CD02 Alcaldía Azcapotzalco","S084 JUNTOS HAGAMOS DEPORTE"]
["02CD02 Alcaldía Azcapotzalco","S085 APOYO ECONÓMICO A MÚSICOS DE LA SINFÓNICA DE AZCAPOTZALCO"]
["02CD02 Alcaldía Azcapotzalco","U026 APOYOS ECONÓMICOS Y OTRAS AYUDAS SOCIALES"]
["02CD03 Alcaldía Benito Juárez","E119 FORTALECIMIENTO EN MATERIA JURÍDICA"]
["02CD03 Alcaldía Benito Juárez","E123 MANEJO INTEGRAL DE RESIDUOS SÓLIDOS URBANOS"]
["02CD03 Alcaldía Benito Juárez","E128 MANTENIMIENTO Y REHABILITACIÓN DE ÁREAS VERDES"]
["02CD03 Alcaldía Benito Juárez","E150 FOMENTO Y MEJORAMIENTO DE LOS MERCADOS PÚBLICOS DE LA CIUDAD DE MÉXICO"]
["02CD03 Alcaldía Benito Juárez","K016 REHABILITACIÓN Y MANTENIMIENTO DE INFRAESTRUCTURA PÚBLICA"]
["02CD03 Alcaldía Benito Juárez","M001 ACTIVIDADES DE APOYO ADMINISTRATIVO"]
["02CD03 Alcaldía Benito Juárez","N001 CUMPLIMIENTO DE LOS PROGRAMAS DE PROTECCIÓN CIVIL"]
["02CD03 Alcaldía Benito Juárez","O001 ACTIVIDADES DE APOYO A LA FUNCIÓN PÚBLICA Y BUEN GOBIERNO"]
["02CD03 Alcaldía Benito Juárez","P001 PROMOCIÓN INTEGRAL PARA EL CUMPLIMIENTO DE LOS DERECHOS HUMANOS DE LAS NIÑAS Y MUJERES"]
["02CD03 Alcaldía Benito Juárez","P002 PROMOCIÓN INTEGRAL PARA EL CUMPLIMIENTO DE LOS DERECHOS HUMANOS"]
["02CD03 Alcaldía Benito Juárez","P004 PROMOCIÓN INTEGRAL PARA EL CUMPLIMIENTO DE LOS DERECHOS DE LA NIÑEZ Y DE LA ADOLECENCIA"]
["02CD03 Alcaldía Benito Juárez","U026 APOYOS ECONÓMICOS Y OTRAS AYUDAS SOCIALES"]
["02CD04 Alcaldía Coyoacán","E120 ATENCIÓN VETERINARIA"]
["02CD04 Alcaldía Coyoacán","E123 MANEJO INTEGRAL DE RESIDUOS SÓLIDOS URBANOS"]
["02CD04 Alcaldía Coyoacán","E127 PREVENCIÓN Y CONTROL DE ENFERMEDADES"]
["02CD04 Alcaldía Coyoacán","E131 RESCATE, REHABILITACIÓN Y MANTENIMIENTO DE ESPACIOS DEPORTIVOS"]
["02CD04 Alcaldía Coyoacán","E150 FOMENTO Y MEJORAMIENTO DE LOS MERCADOS PÚBLICOS DE LA CIUDAD DE MÉXICO"]
["02CD04 Alcaldía Coyoacán","F031 ORGANIZACIÓN DE EVENTOS CÍVICOS, FESTIVIDADES PATRIAS Y TRADICIONES"]
["02CD04 Alcaldía Coyoacán","K014 INFRAESTRUCTURA DE AGUA POTABLE, ALCANTARILLADO Y SANEAMIENTO"]
["02CD04 Alcaldía Coyoacán","K015 CONSTRUCCIÓN DE INFRAESTRUCTURA PÚBLICA"]
["02CD04 Alcaldía Coyoacán","K016 REHABILITACIÓN Y MANTENIMIENTO DE INFRAESTRUCTURA PÚBLICA"]
["02CD04 Alcaldía Coyoacán","M001 ACTIVIDADES DE APOYO ADMINISTRATIVO"]
["02CD04 Alcaldía Coyoacán","N001 CUMPLIMIENTO DE LOS PROGRAMAS DE PROTECCIÓN CIVIL"]
["02CD04 Alcaldía Coyoacán","O001 ACTIVIDADES DE APOYO A LA FUNCIÓN PÚBLICA Y BUEN GOBIERNO"]
["02CD04 Alcaldía Coyoacán","P001 PROMOCIÓN INTEGRAL PARA EL CUMPLIMIENTO DE LOS DERECHOS HUMANOS DE LAS NIÑAS Y MUJERES"]
["02CD04 Alcaldía Coyoacán","P002 PROMOCIÓN INTEGRAL PARA EL CUMPLIMIENTO DE LOS DERECHOS HUMANOS"]
["02CD04 Alcaldía Coyoacán","P046 PLANEACIÓN INTEGRAL DE LAS POLÍTICAS PÚBLICAS DE LA ALCALDÍA"]
["02CD04 Alcaldía Coyoacán","S196 OPERACIÓN DE LOS CENTROS DE ATENCIÓN Y CUIDADO INFANTIL DE LA ALCALDÍA DE COYOACÁN"]
["02CD04 Alcaldía Coyoacán","U026 APOYOS ECONÓMICOS Y OTRAS AYUDAS SOCIALES"]
["02CD05 Alcaldía Cuajimalpa de Morelos","E118 ACCIONES POLICIALES Y PREVENCIÓN DEL DELITO"]
["02CD05 Alcaldía Cuajimalpa de Morelos","E119 FORTALECIMIENTO EN MATERIA JURÍDICA"]
["02CD05 Alcaldía Cuajimalpa de Morelos","E138 ATENCIÓN Y PREVENCIÓN DE LA VIOLENCIA INTRAFAMILIAR"]
["02CD05 Alcaldía Cuajimalpa de Morelos","F032 PROMOCIÓN DE LA CULTURA FÍSICA Y DEPORTIVA"]
["02CD05 Alcaldía Cuajimalpa de Morelos","K014 INFRAESTRUCTURA DE AGUA POTABLE, ALCANTARILLADO Y SANEAMIENTO"]
["02CD05 Alcaldía Cuajimalpa de Morelos","K016 REHABILITACIÓN Y MANTENIMIENTO DE INFRAESTRUCTURA PÚBLICA"]
["02CD05 Alcaldía Cuajimalpa de Morelos","M001 ACTIVIDADES DE APOYO ADMINISTRATIVO"]
["02CD05 Alcaldía Cuajimalpa de Morelos","N001 CUMPLIMIENTO DE LOS PROGRAMAS DE PROTECCIÓN CIVIL"]
["02CD05 Alcaldía Cuajimalpa de Morelos","O001 ACTIVIDADES DE APOYO A LA FUNCIÓN PÚBLICA Y BUEN GOBIERNO"]
["02CD05 Alcaldía Cuajimalpa de Morelos","P001 PROMOCIÓN INTEGRAL PARA EL CUMPLIMIENTO DE LOS DERECHOS HUMANOS DE LAS NIÑAS Y MUJERES"]
["02CD05 Alcaldía Cuajimalpa de Morelos","P002 PROMOCIÓN INTEGRAL PARA EL CUMPLIMIENTO DE LOS DERECHOS HUMANOS"]
["02CD05 Alcaldía Cuajimalpa de Morelos","P004 PROMOCIÓN INTEGRAL PARA EL CUMPLIMIENTO DE LOS DERECHOS DE LA NIÑEZ Y DE LA ADOLECENCIA"]
["02CD05 Alcaldía Cuajimalpa de Morelos","U026 APOYOS ECONÓMICOS Y OTRAS AYUDAS SOCIALES"]
["02CD06 Alcaldía Cuauhtémoc","E117 MANTENIMIENTO DE ESPACIOS PÚBLICOS"]
["02CD06 Alcaldía Cuauhtémoc","E118 ACCIONES POLICIALES Y PREVENCIÓN DEL DELITO"]
["02CD06 Alcaldía Cuauhtémoc","E119 FORTALECIMIENTO EN MATERIA JURÍDICA"]
["02CD06 Alcaldía Cuauhtémoc","E123 MANEJO INTEGRAL DE RESIDUOS SÓLIDOS URBANOS"]
["02CD06 Alcaldía Cuauhtémoc","E125 ACCIONES PARA PROYECTOS AMBIENTALES"]
["02CD06 Alcaldía Cuauhtémoc","E126 PRODUCCIÓN DE CONTENIDO CULTURAL Y ARTÍSTICO"]
["02CD06 Alcaldía Cuauhtémoc","E137 OPERACIÓN DE CENTROS DE DESARROLLO INFANTIL"]
["02CD06 Alcaldía Cuauhtémoc","K016 REHABILITACIÓN Y MANTENIMIENTO DE INFRAESTRUCTURA PÚBLICA"]
["02CD06 Alcaldía Cuauhtémoc","M001 ACTIVIDADES DE APOYO ADMINISTRATIVO"]
["02CD06 Alcaldía Cuauhtémoc","N001 CUMPLIMIENTO DE LOS PROGRAMAS DE PROTECCIÓN CIVIL"]
["02CD06 Alcaldía Cuauhtémoc","O001 ACTIVIDADES DE APOYO A LA FUNCIÓN PÚBLICA Y BUEN GOBIERNO"]
["02CD06 Alcaldía Cuauhtémoc","P001 PROMOCIÓN INTEGRAL PARA EL CUMPLIMIENTO DE LOS DERECHOS HUMANOS DE LAS NIÑAS Y MUJERES"]
["02CD06 Alcaldía Cuauhtémoc","P002 PROMOCIÓN INTEGRAL PARA EL CUMPLIMIENTO DE LOS DERECHOS HUMANOS"]
["02CD06 Alcaldía Cuauhtémoc","P004 PROMOCIÓN INTEGRAL PARA EL CUMPLIMIENTO DE LOS DERECHOS DE LA NIÑEZ Y DE LA ADOLECENCIA"]
["02CD06 Alcaldía Cuauhtémoc","P046 PLANEACIÓN INTEGRAL DE LAS POLÍTICAS PÚBLICAS DE LA ALCALDÍA"]
["02CD06 Alcaldía Cuauhtémoc","S092 PONGAMOS  EL  EJEMPLO  CON  DEPORTE  EN  CUAUHTÉMOC"]
["02CD06 Alcaldía Cuauhtémoc","S093 APOYO  ECONÓMICO  PARA  EL  RECONOCIMIENTO  DE  LAS  PERSONAS CUIDADORAS"]
["02CD06 Alcaldía Cuauhtémoc","S095 APOYO ECONÓMICO PARA EL COMBATE AL REZAGO EDUCATIVO DE LAS INFANCIAS INDÍGENAS"]
["02CD06 Alcaldía Cuauhtémoc","S097 APOYO  ECONÓM.  A PNAS  NO ASALARIADAS  QUE  POR  MOTIVO DE SECUELAS DE ENF. CRÓNICO DEGENERATIVAS NO TRANSM. Y/O TERMINALES., ESTÉN IMPOSIB. DE TRAB. Y RESIDAN EN LA A. CUAUHTÉMOC"]
["02CD06 Alcaldía Cuauhtémoc","S098 APOYO  ECONÓMICO A JEFAS DE FAMILIA PARA SU INCLUSIÓN LABORAL"]
["02CD06 Alcaldía Cuauhtémoc","S100 PARTICIPACIÓN, ARTE Y CULTURA INCLUYENTE"]
["02CD06 Alcaldía Cuauhtémoc","S101 APOYO ECONÓMICO PARA LA ATENCIÓN  EMERGENTE EN MATERIA DE SALUD DE LAS PERSONAS TRANS"]
["02CD06 Alcaldía Cuauhtémoc","U026 APOYOS ECONÓMICOS Y OTRAS AYUDAS SOCIALES"]
["02CD07 Alcaldía Gustavo A. Madero","E118 ACCIONES POLICIALES Y PREVENCIÓN DEL DELITO"]
["02CD07 Alcaldía Gustavo A. Madero","E119 FORTALECIMIENTO EN MATERIA JURÍDICA"]
["02CD07 Alcaldía Gustavo A. Madero","E123 MANEJO INTEGRAL DE RESIDUOS SÓLIDOS URBANOS"]
["02CD07 Alcaldía Gustavo A. Madero","E127 PREVENCIÓN Y CONTROL DE ENFERMEDADES"]
["02CD07 Alcaldía Gustavo A. Madero","E130 OPERACIÓN DE PANTEONES PÚBLICOS"]
["02CD07 Alcaldía Gustavo A. Madero","E150 FOMENTO Y MEJORAMIENTO DE LOS MERCADOS PÚBLICOS DE LA CIUDAD DE MÉXICO"]
["02CD07 Alcaldía Gustavo A. Madero","F027 PROMOCIÓN Y FORTALECIMIENTO DE LA PARTICIPACIÓN CIUDADANA"]
["02CD07 Alcaldía Gustavo A. Madero","F029 FINANCIAMIENTO A LAS MIPYMES"]
["02CD07 Alcaldía Gustavo A. Madero","F031 ORGANIZACIÓN DE EVENTOS CÍVICOS, FESTIVIDADES PATRIAS Y TRADICIONES"]
["02CD07 Alcaldía Gustavo A. Madero","F032 PROMOCIÓN DE LA CULTURA FÍSICA Y DEPORTIVA"]
["02CD07 Alcaldía Gustavo A. Madero","K014 INFRAESTRUCTURA DE AGUA POTABLE, ALCANTARILLADO Y SANEAMIENTO"]
["02CD07 Alcaldía Gustavo A. Madero","K015 CONSTRUCCIÓN DE INFRAESTRUCTURA PÚBLICA"]
["02CD07 Alcaldía Gustavo A. Madero","K016 REHABILITACIÓN Y MANTENIMIENTO DE INFRAESTRUCTURA PÚBLICA"]
["02CD07 Alcaldía Gustavo A. Madero","M001 ACTIVIDADES DE APOYO ADMINISTRATIVO"]
["02CD07 Alcaldía Gustavo A. Madero","N001 CUMPLIMIENTO DE LOS PROGRAMAS DE PROTECCIÓN CIVIL"]
["02CD07 Alcaldía Gustavo A. Madero","O001 ACTIVIDADES DE APOYO A LA FUNCIÓN PÚBLICA Y BUEN GOBIERNO"]
["02CD07 Alcaldía Gustavo A. Madero","P001 PROMOCIÓN INTEGRAL PARA EL CUMPLIMIENTO DE LOS DERECHOS HUMANOS DE LAS NIÑAS Y MUJERES"]
["02CD07 Alcaldía Gustavo A. Madero","P002 PROMOCIÓN INTEGRAL PARA EL CUMPLIMIENTO DE LOS DERECHOS HUMANOS"]
["02CD07 Alcaldía Gustavo A. Madero","P004 PROMOCIÓN INTEGRAL PARA EL CUMPLIMIENTO DE LOS DERECHOS DE LA NIÑEZ Y DE LA ADOLECENCIA"]
["02CD07 Alcaldía Gustavo A. Madero","P048 PLANEACIÓN, SEGUIMIENTO Y EVALUACIÓN A POLÍTICAS PÚBLICAS"]
["02CD07 Alcaldía Gustavo A. Madero","U026 APOYOS ECONÓMICOS Y OTRAS AYUDAS SOCIALES"]
["02CD08 Alcaldía Iztacalco","E123 MANEJO INTEGRAL DE RESIDUOS SÓLIDOS URBANOS"]
["02CD08 Alcaldía Iztacalco","E127 PREVENCIÓN Y CONTROL DE ENFERMEDADES"]
["02CD08 Alcaldía Iztacalco","E150 FOMENTO Y MEJORAMIENTO DE LOS MERCADOS PÚBLICOS DE LA CIUDAD DE MÉXICO"]
["02CD08 Alcaldía Iztacalco","F032 PROMOCIÓN DE LA CULTURA FÍSICA Y DEPORTIVA"]
["02CD08 Alcaldía Iztacalco","K014 INFRAESTRUCTURA DE AGUA POTABLE, ALCANTARILLADO Y SANEAMIENTO"]
["02CD08 Alcaldía Iztacalco","K015 CONSTRUCCIÓN DE INFRAESTRUCTURA PÚBLICA"]
["02CD08 Alcaldía Iztacalco","K016 REHABILITACIÓN Y MANTENIMIENTO DE INFRAESTRUCTURA PÚBLICA"]
["02CD08 Alcaldía Iztacalco","M001 ACTIVIDADES DE APOYO ADMINISTRATIVO"]
["02CD08 Alcaldía Iztacalco","N001 CUMPLIMIENTO DE LOS PROGRAMAS DE PROTECCIÓN CIVIL"]
["02CD08 Alcaldía Iztacalco","O001 ACTIVIDADES DE APOYO A LA FUNCIÓN PÚBLICA Y BUEN GOBIERNO"]
["02CD08 Alcaldía Iztacalco","P001 PROMOCIÓN INTEGRAL PARA EL CUMPLIMIENTO DE LOS DERECHOS HUMANOS DE LAS NIÑAS Y MUJERES"]
["02CD08 Alcaldía Iztacalco","P002 PROMOCIÓN INTEGRAL PARA EL CUMPLIMIENTO DE LOS DERECHOS HUMANOS"]
["02CD08 Alcaldía Iztacalco","P004 PROMOCIÓN INTEGRAL PARA EL CUMPLIMIENTO DE LOS DERECHOS DE LA NIÑEZ Y DE LA ADOLECENCIA"]
["02CD08 Alcaldía Iztacalco","P046 PLANEACIÓN INTEGRAL DE LAS POLÍTICAS PÚBLICAS DE LA ALCALDÍA"]
["02CD08 Alcaldía Iztacalco","S102 FACILITADORES CULTURALES Y DEPORTIVOS"]
["02CD08 Alcaldía Iztacalco","S184 COMPAÑÍA DE DANZA CLÁSICA, MODERNA Y FOLCLÓRICA DE LA ALCALDÍA IZTACALCO"]
["02CD08 Alcaldía Iztacalco","S185 ESCUELAS DE MÚSICA DE LA  ALCALDÍA IZTACALCO "]
["02CD08 Alcaldía Iztacalco","S186 PROGRAMA DE APOYO INTEGRAL A LA MUJER PARA LA EQUIDAD (PAIME)"]
["02CD08 Alcaldía Iztacalco","U026 APOYOS ECONÓMICOS Y OTRAS AYUDAS SOCIALES"]
["02CD09 Alcaldía Iztapalapa","E117 MANTENIMIENTO DE ESPACIOS PÚBLICOS"]
["02CD09 Alcaldía Iztapalapa","E119 FORTALECIMIENTO EN MATERIA JURÍDICA"]
["02CD09 Alcaldía Iztapalapa","E120 ATENCIÓN VETERINARIA"]
["02CD09 Alcaldía Iztapalapa","E122 REFORESTACIÓN EN SUELO DE CONSERVACIÓN"]
["02CD09 Alcaldía Iztapalapa","E123 MANEJO INTEGRAL DE RESIDUOS SÓLIDOS URBANOS"]
["02CD09 Alcaldía Iztapalapa","E127 PREVENCIÓN Y CONTROL DE ENFERMEDADES"]
["02CD09 Alcaldía Iztapalapa","E150 FOMENTO Y MEJORAMIENTO DE LOS MERCADOS PÚBLICOS DE LA CIUDAD DE MÉXICO"]
["02CD09 Alcaldía Iztapalapa","F031 ORGANIZACIÓN DE EVENTOS CÍVICOS, FESTIVIDADES PATRIAS Y TRADICIONES"]
["02CD09 Alcaldía Iztapalapa","K015 CONSTRUCCIÓN DE INFRAESTRUCTURA PÚBLICA"]
["02CD09 Alcaldía Iztapalapa","K016 REHABILITACIÓN Y MANTENIMIENTO DE INFRAESTRUCTURA PÚBLICA"]
["02CD09 Alcaldía Iztapalapa","M001 ACTIVIDADES DE APOYO ADMINISTRATIVO"]
["02CD09 Alcaldía Iztapalapa","N001 CUMPLIMIENTO DE LOS PROGRAMAS DE PROTECCIÓN CIVIL"]
["02CD09 Alcaldía Iztapalapa","O001 ACTIVIDADES DE APOYO A LA FUNCIÓN PÚBLICA Y BUEN GOBIERNO"]
["02CD09 Alcaldía Iztapalapa","P001 PROMOCIÓN INTEGRAL PARA EL CUMPLIMIENTO DE LOS DERECHOS HUMANOS DE LAS NIÑAS Y MUJERES"]
["02CD09 Alcaldía Iztapalapa","P002 PROMOCIÓN INTEGRAL PARA EL CUMPLIMIENTO DE LOS DERECHOS HUMANOS"]
["02CD09 Alcaldía Iztapalapa","P004 PROMOCIÓN INTEGRAL PARA EL CUMPLIMIENTO DE LOS DERECHOS DE LA NIÑEZ Y DE LA ADOLECENCIA"]
["02CD09 Alcaldía Iztapalapa","P046 PLANEACIÓN INTEGRAL DE LAS POLÍTICAS PÚBLICAS DE LA ALCALDÍA"]
["02CD09 Alcaldía Iztapalapa","S103 AYUDA ECONÓMICA Y BIENESTAR INTEGRAL PARA PERSONAS ADULTAS MAYORES DE 60 A 64 AÑOS QUE RESIDEN EN IZTAPALAPA"]
["02CD09 Alcaldía Iztapalapa","S107 MUJERES ESTUDIANDO EN LA ALCALDÍA DE IZTAPALAPA"]
["02CD09 Alcaldía Iztapalapa","S109 DIÁLOGOS POR EL BIENESTAR Y LA PAZ EN IZTAPALAPA"]
["02CD09 Alcaldía Iztapalapa","S110 SISTEMA PÚBLICO DE CUIDADO, ALCALDÍA DE IZTAPALAPA"]
["02CD09 Alcaldía Iztapalapa","S111 IZTAPALAPA LA MÁS DEPORTIVA"]
["02CD09 Alcaldía Iztapalapa","U026 APOYOS ECONÓMICOS Y OTRAS AYUDAS SOCIALES"]
["02CD10 Alcaldía La Magdalena Contreras","E118 ACCIONES POLICIALES Y PREVENCIÓN DEL DELITO"]
["02CD10 Alcaldía La Magdalena Contreras","E119 FORTALECIMIENTO EN MATERIA JURÍDICA"]
["02CD10 Alcaldía La Magdalena Contreras","E122 REFORESTACIÓN EN SUELO DE CONSERVACIÓN"]
["02CD10 Alcaldía La Magdalena Contreras","E124 PROGRAMA INTEGRAL DE MOVILIDAD INTELIGENTE"]
["02CD10 Alcaldía La Magdalena Contreras","E127 PREVENCIÓN Y CONTROL DE ENFERMEDADES"]
["02CD10 Alcaldía La Magdalena Contreras","E136 OPERACIÓN DE VIVEROS"]
["02CD10 Alcaldía La Magdalena Contreras","E144 APOYO INTEGRAL PARA MUJERES EMBARAZADAS Y MADRES EN SITUACIÓN DE VULNERABILIDAD"]
["02CD10 Alcaldía La Magdalena Contreras","E150 FOMENTO Y MEJORAMIENTO DE LOS MERCADOS PÚBLICOS DE LA CIUDAD DE MÉXICO"]
["02CD10 Alcaldía La Magdalena Contreras","F031 ORGANIZACIÓN DE EVENTOS CÍVICOS, FESTIVIDADES PATRIAS Y TRADICIONES"]
["02CD10 Alcaldía La Magdalena Contreras","F033 PROYECTOS DE DESARROLLO Y  FOMENTO AGROPECUARIO"]
["02CD10 Alcaldía La Magdalena Contreras","G021 VERIFICACIÓN, INSPECCIÓN  Y VIGILANCIA AMBIENTAL"]
["02CD10 Alcaldía La Magdalena Contreras","G023 PROTECCIÓN Y REGULACIÓN ANIMAL"]
["02CD10 Alcaldía La Magdalena Contreras","K014 INFRAESTRUCTURA DE AGUA POTABLE, ALCANTARILLADO Y SANEAMIENTO"]
["02CD10 Alcaldía La Magdalena Contreras","K015 CONSTRUCCIÓN DE INFRAESTRUCTURA PÚBLICA"]
["02CD10 Alcaldía La Magdalena Contreras","K016 REHABILITACIÓN Y MANTENIMIENTO DE INFRAESTRUCTURA PÚBLICA"]
["02CD10 Alcaldía La Magdalena Contreras","M001 ACTIVIDADES DE APOYO ADMINISTRATIVO"]
["02CD10 Alcaldía La Magdalena Contreras","N001 CUMPLIMIENTO DE LOS PROGRAMAS DE PROTECCIÓN CIVIL"]
["02CD10 Alcaldía La Magdalena Contreras","O001 ACTIVIDADES DE APOYO A LA FUNCIÓN PÚBLICA Y BUEN GOBIERNO"]
["02CD10 Alcaldía La Magdalena Contreras","P001 PROMOCIÓN INTEGRAL PARA EL CUMPLIMIENTO DE LOS DERECHOS HUMANOS DE LAS NIÑAS Y MUJERES"]
["02CD10 Alcaldía La Magdalena Contreras","P002 PROMOCIÓN INTEGRAL PARA EL CUMPLIMIENTO DE LOS DERECHOS HUMANOS"]
["02CD10 Alcaldía La Magdalena Contreras","P004 PROMOCIÓN INTEGRAL PARA EL CUMPLIMIENTO DE LOS DERECHOS DE LA NIÑEZ Y DE LA ADOLECENCIA"]
["02CD10 Alcaldía La Magdalena Contreras","P049 PLANEACIÓN Y GESTIÓN DEL ORDENAMIENTO TERRITORIAL Y ASENTAMIENTOS HUMANOS"]
["02CD10 Alcaldía La Magdalena Contreras","S113 EN  COMUNIDAD   LA FAMILIA ES PRIMERO  "]
["02CD10 Alcaldía La Magdalena Contreras","S116 APOYO A LA FORMACIÓN ARTÍSTICA DE NIÑAS, NIÑOS, ADOLESCENTES  Y"]
["02CD10 Alcaldía La Magdalena Contreras","S151 PROGRAMA DE APOYO A PERSONAS CON DISCAPACIDAD"]
["02CD10 Alcaldía La Magdalena Contreras","U026 APOYOS ECONÓMICOS Y OTRAS AYUDAS SOCIALES"]
["02CD11 Alcaldía Miguel Hidalgo","E117 MANTENIMIENTO DE ESPACIOS PÚBLICOS"]
["02CD11 Alcaldía Miguel Hidalgo","E118 ACCIONES POLICIALES Y PREVENCIÓN DEL DELITO"]
["02CD11 Alcaldía Miguel Hidalgo","E120 ATENCIÓN VETERINARIA"]
["02CD11 Alcaldía Miguel Hidalgo","E123 MANEJO INTEGRAL DE RESIDUOS SÓLIDOS URBANOS"]
["02CD11 Alcaldía Miguel Hidalgo","E127 PREVENCIÓN Y CONTROL DE ENFERMEDADES"]
["02CD11 Alcaldía Miguel Hidalgo","E137 OPERACIÓN DE CENTROS DE DESARROLLO INFANTIL"]
["02CD11 Alcaldía Miguel Hidalgo","F031 ORGANIZACIÓN DE EVENTOS CÍVICOS, FESTIVIDADES PATRIAS Y TRADICIONES"]
["02CD11 Alcaldía Miguel Hidalgo","F032 PROMOCIÓN DE LA CULTURA FÍSICA Y DEPORTIVA"]
["02CD11 Alcaldía Miguel Hidalgo","K015 CONSTRUCCIÓN DE INFRAESTRUCTURA PÚBLICA"]
["02CD11 Alcaldía Miguel Hidalgo","K016 REHABILITACIÓN Y MANTENIMIENTO DE INFRAESTRUCTURA PÚBLICA"]
["02CD11 Alcaldía Miguel Hidalgo","M001 ACTIVIDADES DE APOYO ADMINISTRATIVO"]
["02CD11 Alcaldía Miguel Hidalgo","N001 CUMPLIMIENTO DE LOS PROGRAMAS DE PROTECCIÓN CIVIL"]
["02CD11 Alcaldía Miguel Hidalgo","O001 ACTIVIDADES DE APOYO A LA FUNCIÓN PÚBLICA Y BUEN GOBIERNO"]
["02CD11 Alcaldía Miguel Hidalgo","P001 PROMOCIÓN INTEGRAL PARA EL CUMPLIMIENTO DE LOS DERECHOS HUMANOS DE LAS NIÑAS Y MUJERES"]
["02CD11 Alcaldía Miguel Hidalgo","P002 PROMOCIÓN INTEGRAL PARA EL CUMPLIMIENTO DE LOS DERECHOS HUMANOS"]
["02CD11 Alcaldía Miguel Hidalgo","P004 PROMOCIÓN INTEGRAL PARA EL CUMPLIMIENTO DE LOS DERECHOS DE LA NIÑEZ Y DE LA ADOLECENCIA"]
["02CD11 Alcaldía Miguel Hidalgo","P046 PLANEACIÓN INTEGRAL DE LAS POLÍTICAS PÚBLICAS DE LA ALCALDÍA"]
["02CD11 Alcaldía Miguel Hidalgo","S187 LA EMPLEADORA"]
["02CD11 Alcaldía Miguel Hidalgo","S188 PA´QUE TE CUIDEMOS"]
["02CD11 Alcaldía Miguel Hidalgo","S189 PROTECTORA DE LA MOVILIDAD"]
["02CD11 Alcaldía Miguel Hidalgo","U026 APOYOS ECONÓMICOS Y OTRAS AYUDAS SOCIALES"]
["02CD12 Alcaldía Milpa Alta","E118 ACCIONES POLICIALES Y PREVENCIÓN DEL DELITO"]
["02CD12 Alcaldía Milpa Alta","E122 REFORESTACIÓN EN SUELO DE CONSERVACIÓN"]
["02CD12 Alcaldía Milpa Alta","E123 MANEJO INTEGRAL DE RESIDUOS SÓLIDOS URBANOS"]
["02CD12 Alcaldía Milpa Alta","E130 OPERACIÓN DE PANTEONES PÚBLICOS"]
["02CD12 Alcaldía Milpa Alta","E137 OPERACIÓN DE CENTROS DE DESARROLLO INFANTIL"]
["02CD12 Alcaldía Milpa Alta","F031 ORGANIZACIÓN DE EVENTOS CÍVICOS, FESTIVIDADES PATRIAS Y TRADICIONES"]
["02CD12 Alcaldía Milpa Alta","F032 PROMOCIÓN DE LA CULTURA FÍSICA Y DEPORTIVA"]
["02CD12 Alcaldía Milpa Alta","F033 PROYECTOS DE DESARROLLO Y  FOMENTO AGROPECUARIO"]
["02CD12 Alcaldía Milpa Alta","G022 ACCIONES PARA EL CUMPLIMIENTO  DE LAS DISPOSICIONES MERCANTILES, JURÍDICAS Y ADMINISTRATIVAS"]
["02CD12 Alcaldía Milpa Alta","G023 PROTECCIÓN Y REGULACIÓN ANIMAL"]
["02CD12 Alcaldía Milpa Alta","K014 INFRAESTRUCTURA DE AGUA POTABLE, ALCANTARILLADO Y SANEAMIENTO"]
["02CD12 Alcaldía Milpa Alta","K015 CONSTRUCCIÓN DE INFRAESTRUCTURA PÚBLICA"]
["02CD12 Alcaldía Milpa Alta","K016 REHABILITACIÓN Y MANTENIMIENTO DE INFRAESTRUCTURA PÚBLICA"]
["02CD12 Alcaldía Milpa Alta","M001 ACTIVIDADES DE APOYO ADMINISTRATIVO"]
["02CD12 Alcaldía Milpa Alta","N001 CUMPLIMIENTO DE LOS PROGRAMAS DE PROTECCIÓN CIVIL"]
["02CD12 Alcaldía Milpa Alta","O001 ACTIVIDADES DE APOYO A LA FUNCIÓN PÚBLICA Y BUEN GOBIERNO"]
["02CD12 Alcaldía Milpa Alta","P001 PROMOCIÓN INTEGRAL PARA EL CUMPLIMIENTO DE LOS DERECHOS HUMANOS DE LAS NIÑAS Y MUJERES"]
["02CD12 Alcaldía Milpa Alta","P002 PROMOCIÓN INTEGRAL PARA EL CUMPLIMIENTO DE LOS DERECHOS HUMANOS"]
["02CD12 Alcaldía Milpa Alta","P004 PROMOCIÓN INTEGRAL PARA EL CUMPLIMIENTO DE LOS DERECHOS DE LA NIÑEZ Y DE LA ADOLECENCIA"]
["02CD12 Alcaldía Milpa Alta","P047 PLANEACIÓN DE LA POLÍTICA DE TURISMO EN LAS ALCALDÍAS"]
["02CD12 Alcaldía Milpa Alta","S117 EL GOBIERNO DE LOS PUEBLOS EN APOYO A UNIVERSITARIOS"]
["02CD12 Alcaldía Milpa Alta","S119 ALIMÉNTATE BIEN"]
["02CD12 Alcaldía Milpa Alta","S121 PROGRAMA    DE    MEJORAMIENTO    SUSTENTABLE    EN    SUELO    DE CONSERVACIÓN DE MILPA ALTA"]
["02CD12 Alcaldía Milpa Alta","S122 PROGRAMA  INTEGRAL  DE  APOYO  A  LOS  PRODUCTORES  DE  NOPAL PIAPRON"]
["02CD12 Alcaldía Milpa Alta","S123 PROGRAMA DE FORTALECIMIENTO SECTORIAL (PROFOSEC)"]
["02CD12 Alcaldía Milpa Alta","S180 PROGRAMA DE DESARROLLO TURÍSTICO PRODETUR"]
["02CD12 Alcaldía Milpa Alta","S181 FONDO PARA EMPRENDEDORES DE MILPA ALTA FONEMA"]
["02CD12 Alcaldía Milpa Alta","S182 APOYO A ESTANCIAS INFANTILES"]
["02CD12 Alcaldía Milpa Alta","U026 APOYOS ECONÓMICOS Y OTRAS AYUDAS SOCIALES"]
["02CD13 Alcaldía Tláhuac","E118 ACCIONES POLICIALES Y PREVENCIÓN DEL DELITO"]
["02CD13 Alcaldía Tláhuac","E119 FORTALECIMIENTO EN MATERIA JURÍDICA"]
["02CD13 Alcaldía Tláhuac","E120 ATENCIÓN VETERINARIA"]
["02CD13 Alcaldía Tláhuac","E122 REFORESTACIÓN EN SUELO DE CONSERVACIÓN"]
["02CD13 Alcaldía Tláhuac","E123 MANEJO INTEGRAL DE RESIDUOS SÓLIDOS URBANOS"]
["02CD13 Alcaldía Tláhuac","E124 PROGRAMA INTEGRAL DE MOVILIDAD INTELIGENTE"]
["02CD13 Alcaldía Tláhuac","E127 PREVENCIÓN Y CONTROL DE ENFERMEDADES"]
["02CD13 Alcaldía Tláhuac","E130 OPERACIÓN DE PANTEONES PÚBLICOS"]
["02CD13 Alcaldía Tláhuac","E137 OPERACIÓN DE CENTROS DE DESARROLLO INFANTIL"]
["02CD13 Alcaldía Tláhuac","E150 FOMENTO Y MEJORAMIENTO DE LOS MERCADOS PÚBLICOS DE LA CIUDAD DE MÉXICO"]
["02CD13 Alcaldía Tláhuac","F027 PROMOCIÓN Y FORTALECIMIENTO DE LA PARTICIPACIÓN CIUDADANA"]
["02CD13 Alcaldía Tláhuac","F029 FINANCIAMIENTO A LAS MIPYMES"]
["02CD13 Alcaldía Tláhuac","F031 ORGANIZACIÓN DE EVENTOS CÍVICOS, FESTIVIDADES PATRIAS Y TRADICIONES"]
["02CD13 Alcaldía Tláhuac","F032 PROMOCIÓN DE LA CULTURA FÍSICA Y DEPORTIVA"]
["02CD13 Alcaldía Tláhuac","F033 PROYECTOS DE DESARROLLO Y  FOMENTO AGROPECUARIO"]
["02CD13 Alcaldía Tláhuac","K014 INFRAESTRUCTURA DE AGUA POTABLE, ALCANTARILLADO Y SANEAMIENTO"]
["02CD13 Alcaldía Tláhuac","K015 CONSTRUCCIÓN DE INFRAESTRUCTURA PÚBLICA"]
["02CD13 Alcaldía Tláhuac","K016 REHABILITACIÓN Y MANTENIMIENTO DE INFRAESTRUCTURA PÚBLICA"]
["02CD13 Alcaldía Tláhuac","M001 ACTIVIDADES DE APOYO ADMINISTRATIVO"]
["02CD13 Alcaldía Tláhuac","N001 CUMPLIMIENTO DE LOS PROGRAMAS DE PROTECCIÓN CIVIL"]
["02CD13 Alcaldía Tláhuac","O001 ACTIVIDADES DE APOYO A LA FUNCIÓN PÚBLICA Y BUEN GOBIERNO"]
["02CD13 Alcaldía Tláhuac","P001 PROMOCIÓN INTEGRAL PARA EL CUMPLIMIENTO DE LOS DERECHOS HUMANOS DE LAS NIÑAS Y MUJERES"]
["02CD13 Alcaldía Tláhuac","P002 PROMOCIÓN INTEGRAL PARA EL CUMPLIMIENTO DE LOS DERECHOS HUMANOS"]
["02CD13 Alcaldía Tláhuac","P004 PROMOCIÓN INTEGRAL PARA EL CUMPLIMIENTO DE LOS DERECHOS DE LA NIÑEZ Y DE LA ADOLECENCIA"]
["02CD13 Alcaldía Tláhuac","U026 APOYOS ECONÓMICOS Y OTRAS AYUDAS SOCIALES"]
["02CD14 Alcaldía Tlalpan","E118 ACCIONES POLICIALES Y PREVENCIÓN DEL DELITO"]
["02CD14 Alcaldía Tlalpan","E122 REFORESTACIÓN EN SUELO DE CONSERVACIÓN"]
["02CD14 Alcaldía Tlalpan","E123 MANEJO INTEGRAL DE RESIDUOS SÓLIDOS URBANOS"]
["02CD14 Alcaldía Tlalpan","E124 PROGRAMA INTEGRAL DE MOVILIDAD INTELIGENTE"]
["02CD14 Alcaldía Tlalpan","E134 ATENCIÓN INTEGRAL PARA EL DESARROLLO INFANTIL"]
["02CD14 Alcaldía Tlalpan","E150 FOMENTO Y MEJORAMIENTO DE LOS MERCADOS PÚBLICOS DE LA CIUDAD DE MÉXICO"]
["02CD14 Alcaldía Tlalpan","F032 PROMOCIÓN DE LA CULTURA FÍSICA Y DEPORTIVA"]
["02CD14 Alcaldía Tlalpan","K014 INFRAESTRUCTURA DE AGUA POTABLE, ALCANTARILLADO Y SANEAMIENTO"]
["02CD14 Alcaldía Tlalpan","K015 CONSTRUCCIÓN DE INFRAESTRUCTURA PÚBLICA"]
["02CD14 Alcaldía Tlalpan","K016 REHABILITACIÓN Y MANTENIMIENTO DE INFRAESTRUCTURA PÚBLICA"]
["02CD14 Alcaldía Tlalpan","M001 ACTIVIDADES DE APOYO ADMINISTRATIVO"]
["02CD14 Alcaldía Tlalpan","N001 CUMPLIMIENTO DE LOS PROGRAMAS DE PROTECCIÓN CIVIL"]
["02CD14 Alcaldía Tlalpan","O001 ACTIVIDADES DE APOYO A LA FUNCIÓN PÚBLICA Y BUEN GOBIERNO"]
["02CD14 Alcaldía Tlalpan","P001 PROMOCIÓN INTEGRAL PARA EL CUMPLIMIENTO DE LOS DERECHOS HUMANOS DE LAS NIÑAS Y MUJERES"]
["02CD14 Alcaldía Tlalpan","P002 PROMOCIÓN INTEGRAL PARA EL CUMPLIMIENTO DE LOS DERECHOS HUMANOS"]
["02CD14 Alcaldía Tlalpan","P004 PROMOCIÓN INTEGRAL PARA EL CUMPLIMIENTO DE LOS DERECHOS DE LA NIÑEZ Y DE LA ADOLECENCIA"]
["02CD14 Alcaldía Tlalpan","S126 COMUNIDAD   HUEHUEYOTL,  APOYO   A  COLECTIVOS   DE  PERSONAS ADULTAS MAYORES"]
["02CD14 Alcaldía Tlalpan","S127 MOCHILA DE DERECHOS"]
["02CD14 Alcaldía Tlalpan","S128 DEFENSORÍA  DE  LOS  DERECHOS  Y  APOYOS  ECONÓMICOS  A NIÑAS  Y NIÑOS DE TLALPAN"]
["02CD14 Alcaldía Tlalpan","S129 ASESORÍAS   PARA  EL   EXAMEN  DE   INGRESO  A   LA   EDUCACIÓN  MEDIA SUPERIOR"]
["02CD14 Alcaldía Tlalpan","S130 EDUCARNOS EN COMUNIDAD PARA EL BIENESTAR SOCIAL"]
["02CD14 Alcaldía Tlalpan","S132 APOYO  PROFESIONAL A LA POBLACIÓN EN SUS TAREAS EDUCATIVAS EN LAS BIBLIOTECAS PÚBLICAS"]
["02CD14 Alcaldía Tlalpan","S133 IMAGEN URBANA PARA CULTIVAR COMUNIDAD"]
["02CD14 Alcaldía Tlalpan","S134 HUELLAS: SEMBRANDO COMPAÑÍA EN COMUNIDAD"]
["02CD14 Alcaldía Tlalpan","S135 UNIDAD-ES TLALPAN"]
["02CD14 Alcaldía Tlalpan","S136 JÓVENES CULTIVANDO LA MOVILIDAD"]
["02CD14 Alcaldía Tlalpan","S137 CULTIVANDO COMUNIDAD CON LA PARTICIPACIÓN CIUDADANA"]
["02CD14 Alcaldía Tlalpan","S138 CULTIVANDO ACTIVIDADES DEPORTIVAS"]
["02CD14 Alcaldía Tlalpan","S139 APOYO AL DESARROLLO AGROPECUARIO  SUSTENTABLE"]
["02CD14 Alcaldía Tlalpan","S140 PREVENCIÓN DEL DELITO, TLALPAN"]
["02CD14 Alcaldía Tlalpan","S200 CULTIVANDO RAÍCES DE IDENTIDAD"]
["02CD14 Alcaldía Tlalpan","S205 PREVENCIÓN DEL EMBARAZO ADOLESCENTE, TLALPAN"]
["02CD14 Alcaldía Tlalpan","S206 FORMACIÓN MUSICAL, TLALPAN"]
["02CD14 Alcaldía Tlalpan","S207 CULTIVANDO ARTE EN TLALPAN"]
["02CD14 Alcaldía Tlalpan","S208 CULTIVANDO PAZ, ARTE Y CULTURA EN TLALPAN"]
["02CD14 Alcaldía Tlalpan","U024 SEAMOS MEJORES ESTUDIANTES"]
["02CD14 Alcaldía Tlalpan","U026 APOYOS ECONÓMICOS Y OTRAS AYUDAS SOCIALES"]
["02CD15 Alcaldía Venustiano Carranza","E118 ACCIONES POLICIALES Y PREVENCIÓN DEL DELITO"]
["02CD15 Alcaldía Venustiano Carranza","E123 MANEJO INTEGRAL DE RESIDUOS SÓLIDOS URBANOS"]
["02CD15 Alcaldía Venustiano Carranza","E129 PROVISIÓN EMERGENTE DE AGUA POTABLE"]
["02CD15 Alcaldía Venustiano Carranza","K016 REHABILITACIÓN Y MANTENIMIENTO DE INFRAESTRUCTURA PÚBLICA"]
["02CD15 Alcaldía Venustiano Carranza","M001 ACTIVIDADES DE APOYO ADMINISTRATIVO"]
["02CD15 Alcaldía Venustiano Carranza","N001 CUMPLIMIENTO DE LOS PROGRAMAS DE PROTECCIÓN CIVIL"]
["02CD15 Alcaldía Venustiano Carranza","O001 ACTIVIDADES DE APOYO A LA FUNCIÓN PÚBLICA Y BUEN GOBIERNO"]
["02CD15 Alcaldía Venustiano Carranza","P001 PROMOCIÓN INTEGRAL PARA EL CUMPLIMIENTO DE LOS DERECHOS HUMANOS DE LAS NIÑAS Y MUJERES"]
["02CD15 Alcaldía Venustiano Carranza","P002 PROMOCIÓN INTEGRAL PARA EL CUMPLIMIENTO DE LOS DERECHOS HUMANOS"]
["02CD15 Alcaldía Venustiano Carranza","P004 PROMOCIÓN INTEGRAL PARA EL CUMPLIMIENTO DE LOS DERECHOS DE LA NIÑEZ Y DE LA ADOLECENCIA"]
["02CD15 Alcaldía Venustiano Carranza","P048 PLANEACIÓN, SEGUIMIENTO Y EVALUACIÓN A POLÍTICAS PÚBLICAS"]
["02CD15 Alcaldía Venustiano Carranza","U026 APOYOS ECONÓMICOS Y OTRAS AYUDAS SOCIALES"]
["02CD16 Alcaldía Xochimilco","E118 ACCIONES POLICIALES Y PREVENCIÓN DEL DELITO"]
["02CD16 Alcaldía Xochimilco","E123 MANEJO INTEGRAL DE RESIDUOS SÓLIDOS URBANOS"]
["02CD16 Alcaldía Xochimilco","E127 PREVENCIÓN Y CONTROL DE ENFERMEDADES"]
["02CD16 Alcaldía Xochimilco","E128 MANTENIMIENTO Y REHABILITACIÓN DE ÁREAS VERDES"]
["02CD16 Alcaldía Xochimilco","E129 PROVISIÓN EMERGENTE DE AGUA POTABLE"]
["02CD16 Alcaldía Xochimilco","E150 FOMENTO Y MEJORAMIENTO DE LOS MERCADOS PÚBLICOS DE LA CIUDAD DE MÉXICO"]
["02CD16 Alcaldía Xochimilco","F027 PROMOCIÓN Y FORTALECIMIENTO DE LA PARTICIPACIÓN CIUDADANA"]
["02CD16 Alcaldía Xochimilco","F031 ORGANIZACIÓN DE EVENTOS CÍVICOS, FESTIVIDADES PATRIAS Y TRADICIONES"]
["02CD16 Alcaldía Xochimilco","K016 REHABILITACIÓN Y MANTENIMIENTO DE INFRAESTRUCTURA PÚBLICA"]
["02CD16 Alcaldía Xochimilco","M001 ACTIVIDADES DE APOYO ADMINISTRATIVO"]
["02CD16 Alcaldía Xochimilco","N001 CUMPLIMIENTO DE LOS PROGRAMAS DE PROTECCIÓN CIVIL"]
["02CD16 Alcaldía Xochimilco","O001 ACTIVIDADES DE APOYO A LA FUNCIÓN PÚBLICA Y BUEN GOBIERNO"]
["02CD16 Alcaldía Xochimilco","P001 PROMOCIÓN INTEGRAL PARA EL CUMPLIMIENTO DE LOS DERECHOS HUMANOS DE LAS NIÑAS Y MUJERES"]
["02CD16 Alcaldía Xochimilco","P047 PLANEACIÓN DE LA POLÍTICA DE TURISMO EN LAS ALCALDÍAS"]
["02CD16 Alcaldía Xochimilco","S144 ALIMENTOS A CENTROS DE DESARROLLO INFANTIL"]
["02CD16 Alcaldía Xochimilco","S145 APOYO   ECONÓMICO  A   PERSONAS  QUE   PRESTAN  SUS  INMUEBLES COMO ESPACIOS  PARA CENTROS DE DESARROLLO INFANTIL"]
["02CD16 Alcaldía Xochimilco","S146 AYUDA  A  PERSONAS  DE  ESCASOS  RECURSOS  Y PARA  TRATAMIENTOS MÉDICOS DE ENFERMEDADES CRÓNICO-DEGENERATIVAS, TERMINALES Y DISCAPACIDADES"]
["02CD16 Alcaldía Xochimilco","S147 AYUDA  ECONÓMICA PARA PROMOVER  EL DEPORTE COMPETITIVO EN JÓVENES      "]
["02CD16 Alcaldía Xochimilco","S148 ANIMALES DE CORRAL Y DE TRASPATIO"]
["02CD16 Alcaldía Xochimilco","S149 ENTREGA  DE  SEMILLAS  Y  MATERIAL  VEGETATIVO    PARA FOMENTAR   LA PRODUCCIÓN AGRÍCOLA"]
["02CD16 Alcaldía Xochimilco","U026 APOYOS ECONÓMICOS Y OTRAS AYUDAS SOCIALES"]
["02CDBP Comisión de Búsqueda de Personas de la Ciudad de México","E097 ACCIONES DE BÚSQUEDA, LOCALIZACIÓN E IDENTIFICACIÓN DE PERSONAS"]
["02CDBP Comisión de Búsqueda de Personas de la Ciudad de México","M001 ACTIVIDADES DE APOYO ADMINISTRATIVO"]
["02OD04 Autoridad del Centro Histórico","E034 MANTENIMIENTO DE ESPACIOS PÚBLICOS"]
["02OD04 Autoridad del Centro Histórico","M001 ACTIVIDADES DE APOYO ADMINISTRATIVO"]
["02OD04 Autoridad del Centro Histórico","N001 CUMPLIMIENTO DE LOS PROGRAMAS DE PROTECCIÓN CIVIL"]
["02OD04 Autoridad del Centro Histórico","O001 ACTIVIDADES DE APOYO A LA FUNCIÓN PÚBLICA Y BUEN GOBIERNO"]
["02OD04 Autoridad del Centro Histórico","P001 PROMOCIÓN INTEGRAL PARA EL CUMPLIMIENTO DE LOS DERECHOS HUMANOS DE LAS NIÑAS Y MUJERES"]
["02OD04 Autoridad del Centro Histórico","P002 PROMOCIÓN INTEGRAL PARA EL CUMPLIMIENTO DE LOS DERECHOS HUMANOS"]
["02OD04 Autoridad del Centro Histórico","P004 PROMOCIÓN INTEGRAL PARA EL CUMPLIMIENTO DE LOS DERECHOS DE LA NIÑEZ Y DE LA ADOLECENCIA"]
["02OD04 Autoridad del Centro Histórico","U026 APOYOS ECONÓMICOS Y OTRAS AYUDAS SOCIALES"]
["02OD06 Instancia Ejecutora del Sistema Integral de Derechos Humanos","M001 ACTIVIDADES DE APOYO ADMINISTRATIVO"]
["02OD06 Instancia Ejecutora del Sistema Integral de Derechos Humanos","N001 CUMPLIMIENTO DE LOS PROGRAMAS DE PROTECCIÓN CIVIL"]
["02OD06 Instancia Ejecutora del Sistema Integral de Derechos Humanos","O001 ACTIVIDADES DE APOYO A LA FUNCIÓN PÚBLICA Y BUEN GOBIERNO"]
["02OD06 Instancia Ejecutora del Sistema Integral de Derechos Humanos","P001 PROMOCIÓN INTEGRAL PARA EL CUMPLIMIENTO DE LOS DERECHOS HUMANOS DE LAS NIÑAS Y MUJERES"]
["02OD06 Instancia Ejecutora del Sistema Integral de Derechos Humanos","P002 PROMOCIÓN INTEGRAL PARA EL CUMPLIMIENTO DE LOS DERECHOS HUMANOS"]
["02OD06 Instancia Ejecutora del Sistema Integral de Derechos Humanos","P004 PROMOCIÓN INTEGRAL PARA EL CUMPLIMIENTO DE LOS DERECHOS DE LA NIÑEZ Y DE LA ADOLECENCIA"]
["02OD06 Instancia Ejecutora del Sistema Integral de Derechos Humanos","P017  ACCIONES PARA LA TRANSVERSALIZACIÓN DEL ENFOQUE DE DERECHOS HUMANOS"]
["02PDAV Comisión Ejecutiva de Atención a Victímas de la Ciudad de México","E109 APOYO INTEGRAL A VICTIMAS"]
["02PDAV Comisión Ejecutiva de Atención a Victímas de la Ciudad de México","M001 ACTIVIDADES DE APOYO ADMINISTRATIVO"]
["02PDDP Mecanismo para la Protección Integral de Personas Defensoras de Derechos Humanos y Periodistas","E038 MEDIDAS DE PREVENCIÓN Y PROTECCIÓN DE LOS DEFENSORES DE DERECHOS HUMANOS Y PERIODISTAS"]
["02PDDP Mecanismo para la Protección Integral de Personas Defensoras de Derechos Humanos y Periodistas","M001 ACTIVIDADES DE APOYO ADMINISTRATIVO"]
["02PDDP Mecanismo para la Protección Integral de Personas Defensoras de Derechos Humanos y Periodistas","N001 CUMPLIMIENTO DE LOS PROGRAMAS DE PROTECCIÓN CIVIL"]
["02PDDP Mecanismo para la Protección Integral de Personas Defensoras de Derechos Humanos y Periodistas","O001 ACTIVIDADES DE APOYO A LA FUNCIÓN PÚBLICA Y BUEN GOBIERNO"]
["02PDDP Mecanismo para la Protección Integral de Personas Defensoras de Derechos Humanos y Periodistas","P001 PROMOCIÓN INTEGRAL PARA EL CUMPLIMIENTO DE LOS DERECHOS HUMANOS DE LAS NIÑAS Y MUJERES"]
["02PDDP Mecanismo para la Protección Integral de Personas Defensoras de Derechos Humanos y Periodistas","P002 PROMOCIÓN INTEGRAL PARA EL CUMPLIMIENTO DE LOS DERECHOS HUMANOS"]
["02PDDP Mecanismo para la Protección Integral de Personas Defensoras de Derechos Humanos y Periodistas","P004 PROMOCIÓN INTEGRAL PARA EL CUMPLIMIENTO DE LOS DERECHOS DE LA NIÑEZ Y DE LA ADOLECENCIA"]
["03C001 Secretaría de Desarrollo Urbano y Vivienda","G002 DISEÑO URBANO Y REGULACIÓN DE LOS ESPACIOS PÚBLICOS"]
["03C001 Secretaría de Desarrollo Urbano y Vivienda","M001 ACTIVIDADES DE APOYO ADMINISTRATIVO"]
["03C001 Secretaría de Desarrollo Urbano y Vivienda","N001 CUMPLIMIENTO DE LOS PROGRAMAS DE PROTECCIÓN CIVIL"]
["03C001 Secretaría de Desarrollo Urbano y Vivienda","O001 ACTIVIDADES DE APOYO A LA FUNCIÓN PÚBLICA Y BUEN GOBIERNO"]
["03C001 Secretaría de Desarrollo Urbano y Vivienda","P001 PROMOCIÓN INTEGRAL PARA EL CUMPLIMIENTO DE LOS DERECHOS HUMANOS DE LAS NIÑAS Y MUJERES"]
["03C001 Secretaría de Desarrollo Urbano y Vivienda","P002 PROMOCIÓN INTEGRAL PARA EL CUMPLIMIENTO DE LOS DERECHOS HUMANOS"]
["03C001 Secretaría de Desarrollo Urbano y Vivienda","P004 PROMOCIÓN INTEGRAL PARA EL CUMPLIMIENTO DE LOS DERECHOS DE LA NIÑEZ Y DE LA ADOLECENCIA"]
["03C001 Secretaría de Desarrollo Urbano y Vivienda","P023 PLANEACIÓN Y GESTIÓN DEL ORDENAMIENTO TERRITORIAL Y ASENTAMIENTOS HUMANOS"]
["03PDIV Instituto de Vivienda","E154 ACCESO A LA JUSTICIA AMBIENTAL, URBANA Y DE PROTECCIÓN Y BIENESTAR ANIMAL"]
["03PDIV Instituto de Vivienda","M001 ACTIVIDADES DE APOYO ADMINISTRATIVO"]
["03PDIV Instituto de Vivienda","N001 CUMPLIMIENTO DE LOS PROGRAMAS DE PROTECCIÓN CIVIL"]
["03PDIV Instituto de Vivienda","O001 ACTIVIDADES DE APOYO A LA FUNCIÓN PÚBLICA Y BUEN GOBIERNO"]
["03PDIV Instituto de Vivienda","P001 PROMOCIÓN INTEGRAL PARA EL CUMPLIMIENTO DE LOS DERECHOS HUMANOS DE LAS NIÑAS Y MUJERES"]
["03PDIV Instituto de Vivienda","P002 PROMOCIÓN INTEGRAL PARA EL CUMPLIMIENTO DE LOS DERECHOS HUMANOS"]
["03PDIV Instituto de Vivienda","P004 PROMOCIÓN INTEGRAL PARA EL CUMPLIMIENTO DE LOS DERECHOS DE LA NIÑEZ Y DE LA ADOLECENCIA"]
["03PDIV Instituto de Vivienda","S027 MEJORAMIENTO DE LA VIVIENDA"]
["03PDIV Instituto de Vivienda","S061 VIVIENDA  EN CONJUNTO"]
["03PDIV Instituto de Vivienda","U007 FINANCIAMIENTO PARA EL ACCESO A LA VIVIENDA"]
["03PDIV Instituto de Vivienda","E155"]
["04C001 Secretaría de Desarrollo Económico","E091 OPERACIÓN Y MANTENIMIENTO DE LA CENTRAL DE ABASTOS"]
["04C001 Secretaría de Desarrollo Económico","E092 OPERACIÓN Y MANTENIMIENTO DE MERCADOS PÚBLICOS"]
["04C001 Secretaría de Desarrollo Económico","E150 FOMENTO Y MEJORAMIENTO DE LOS MERCADOS PÚBLICOS DE LA CIUDAD DE MÉXICO"]
["04C001 Secretaría de Desarrollo Económico","F008 PROMOCIÓN DE LA INVERSIÓN, EL DESARROLLO, COMPETITIVIDAD E INNOVACIÓN DE LOS SECTORES INDUSTRIAL, COMERCIAL Y DE SERVICIOS"]
["04C001 Secretaría de Desarrollo Económico","F034 FORTALECIMIENTO DE COMPETENCIAS EN ENERGÍA SOLAR"]
["04C001 Secretaría de Desarrollo Económico","G014 REGULACIÓN Y REGISTRO DE ESTABLECIMIENTOS MERCANTILES EN MATERIA ECONÓMICA"]
["04C001 Secretaría de Desarrollo Económico","M001 ACTIVIDADES DE APOYO ADMINISTRATIVO"]
["04C001 Secretaría de Desarrollo Económico","N001 CUMPLIMIENTO DE LOS PROGRAMAS DE PROTECCIÓN CIVIL"]
["04C001 Secretaría de Desarrollo Económico","O001 ACTIVIDADES DE APOYO A LA FUNCIÓN PÚBLICA Y BUEN GOBIERNO"]
["04C001 Secretaría de Desarrollo Económico","P001 PROMOCIÓN INTEGRAL PARA EL CUMPLIMIENTO DE LOS DERECHOS HUMANOS DE LAS NIÑAS Y MUJERES"]
["04C001 Secretaría de Desarrollo Económico","P002 PROMOCIÓN INTEGRAL PARA EL CUMPLIMIENTO DE LOS DERECHOS HUMANOS"]
["04C001 Secretaría de Desarrollo Económico","P004 PROMOCIÓN INTEGRAL PARA EL CUMPLIMIENTO DE LOS DERECHOS DE LA NIÑEZ Y DE LA ADOLECENCIA"]
["04C001 Secretaría de Desarrollo Económico","P016 DISEÑO E INSTRUMENTACIÓN DE ACCIONES EN MATERIA DE COMPETITIVIDAD, EMPRENDIMIENTO, COMPETENCIA Y POLÍTICA REGULATORIA"]
["04P0DE Fondo de Desarrollo Económico","P025 PLANEACIÓN, ELABORACIÓN Y SEGUIMIENTO DE LA POLÍTICA DE DESARROLLO ECONÓMICO"]
["04P0DS Fondo para el Desarrollo Social","F006 FINANCIAMIENTO A MICROCRÉDITOS PARA EL AUTOEMPLEO, ATENCIÓN A LAS MEDIANAS Y PEQUEÑAS EMPRESAS Y COMERCIALIZACIÓN DE PRODUCTOS RURALES"]
["04P0DS Fondo para el Desarrollo Social","M001 ACTIVIDADES DE APOYO ADMINISTRATIVO"]
["04P0DS Fondo para el Desarrollo Social","N001 CUMPLIMIENTO DE LOS PROGRAMAS DE PROTECCIÓN CIVIL"]
["04P0DS Fondo para el Desarrollo Social","O001 ACTIVIDADES DE APOYO A LA FUNCIÓN PÚBLICA Y BUEN GOBIERNO"]
["04P0DS Fondo para el Desarrollo Social","P001 PROMOCIÓN INTEGRAL PARA EL CUMPLIMIENTO DE LOS DERECHOS HUMANOS DE LAS NIÑAS Y MUJERES"]
["04P0DS Fondo para el Desarrollo Social","P002 PROMOCIÓN INTEGRAL PARA EL CUMPLIMIENTO DE LOS DERECHOS HUMANOS"]
["04P0DS Fondo para el Desarrollo Social","P004 PROMOCIÓN INTEGRAL PARA EL CUMPLIMIENTO DE LOS DERECHOS DE LA NIÑEZ Y DE LA ADOLECENCIA"]
["05C001 Secretaría de Turismo","F005 DESARROLLO Y PROMOCIÓN DE PRODUCTOS Y PROYECTOS TURÍSTICOS SUSTENTABLES"]
["05C001 Secretaría de Turismo","M001 ACTIVIDADES DE APOYO ADMINISTRATIVO"]
["05C001 Secretaría de Turismo","N001 CUMPLIMIENTO DE LOS PROGRAMAS DE PROTECCIÓN CIVIL"]
["05C001 Secretaría de Turismo","O001 ACTIVIDADES DE APOYO A LA FUNCIÓN PÚBLICA Y BUEN GOBIERNO"]
["05C001 Secretaría de Turismo","P001 PROMOCIÓN INTEGRAL PARA EL CUMPLIMIENTO DE LOS DERECHOS HUMANOS DE LAS NIÑAS Y MUJERES"]
["05C001 Secretaría de Turismo","P002 PROMOCIÓN INTEGRAL PARA EL CUMPLIMIENTO DE LOS DERECHOS HUMANOS"]
["05C001 Secretaría de Turismo","P004 PROMOCIÓN INTEGRAL PARA EL CUMPLIMIENTO DE LOS DERECHOS DE LA NIÑEZ Y DE LA ADOLECENCIA"]
["05C001 Secretaría de Turismo","P019 PLANEACIÓN DE LA POLÍTICA DE TURISMO"]
["05P0PT Fondo Mixto de Promoción Turística","F022 DESARROLLO, PROMOCIÓN Y POSICIONAMIENTO DE LA CIUDAD DE MÉXICO Y SU MARCA CDMX"]
["05P0PT Fondo Mixto de Promoción Turística","M001 ACTIVIDADES DE APOYO ADMINISTRATIVO"]
["05P0PT Fondo Mixto de Promoción Turística","N001 CUMPLIMIENTO DE LOS PROGRAMAS DE PROTECCIÓN CIVIL"]
["05P0PT Fondo Mixto de Promoción Turística","O001 ACTIVIDADES DE APOYO A LA FUNCIÓN PÚBLICA Y BUEN GOBIERNO"]
["05P0PT Fondo Mixto de Promoción Turística","P001 PROMOCIÓN INTEGRAL PARA EL CUMPLIMIENTO DE LOS DERECHOS HUMANOS DE LAS NIÑAS Y MUJERES"]
["05P0PT Fondo Mixto de Promoción Turística","P002 PROMOCIÓN INTEGRAL PARA EL CUMPLIMIENTO DE LOS DERECHOS HUMANOS"]
["05P0PT Fondo Mixto de Promoción Turística","P004 PROMOCIÓN INTEGRAL PARA EL CUMPLIMIENTO DE LOS DERECHOS DE LA NIÑEZ Y DE LA ADOLECENCIA"]
["06C001 Secretaría del Medio Ambiente","E022 CUIDADO Y CONSERVACIÓN DE LOS BOSQUES, ÁREAS  DE VALOR AMBIENTAL Y SUELO DE CONSERVACIÓN"]
["06C001 Secretaría del Medio Ambiente","E075 GESTIÓN Y OPERACIÓN DEL MUSEO DE HISTORIA NATURAL Y CULTURA AMBIENTAL"]
["06C001 Secretaría del Medio Ambiente","E107 CONSERVACIÓN Y OPERACIÓN DE ZOOLÓGICOS"]
["06C001 Secretaría del Medio Ambiente","F001 ALIANZA PARA LA PRESERVACIÓN DEL PATRIMONIO CULTURAL DE LA CIUDAD DE MÉXICO"]
["06C001 Secretaría del Medio Ambiente","G013 INSPECCIÓN Y VIGILANCIA MEDIOAMBIENTAL"]
["06C001 Secretaría del Medio Ambiente","M001 ACTIVIDADES DE APOYO ADMINISTRATIVO"]
["06C001 Secretaría del Medio Ambiente","N001 CUMPLIMIENTO DE LOS PROGRAMAS DE PROTECCIÓN CIVIL"]
["06C001 Secretaría del Medio Ambiente","O001 ACTIVIDADES DE APOYO A LA FUNCIÓN PÚBLICA Y BUEN GOBIERNO"]
["06C001 Secretaría del Medio Ambiente","P001 PROMOCIÓN INTEGRAL PARA EL CUMPLIMIENTO DE LOS DERECHOS HUMANOS DE LAS NIÑAS Y MUJERES"]
["06C001 Secretaría del Medio Ambiente","P002 PROMOCIÓN INTEGRAL PARA EL CUMPLIMIENTO DE LOS DERECHOS HUMANOS"]
["06C001 Secretaría del Medio Ambiente","P004 PROMOCIÓN INTEGRAL PARA EL CUMPLIMIENTO DE LOS DERECHOS DE LA NIÑEZ Y DE LA ADOLECENCIA"]
["06C001 Secretaría del Medio Ambiente","P005 CALIDAD DEL AIRE"]
["06C001 Secretaría del Medio Ambiente","P020 PLANEACIÓN Y SEGUIMIENTO DE LA POLÍTICA GUBERNAMENTAL"]
["06CD03 Sistema de Aguas de la Ciudad de México","K003 INFRAESTRUCTURA DE AGUA POTABLE, ALCANTARILLADO Y SANEAMIENTO"]
["06CD03 Sistema de Aguas de la Ciudad de México","M001 ACTIVIDADES DE APOYO ADMINISTRATIVO"]
["06CD03 Sistema de Aguas de la Ciudad de México","N001 CUMPLIMIENTO DE LOS PROGRAMAS DE PROTECCIÓN CIVIL"]
["06CD03 Sistema de Aguas de la Ciudad de México","O001 ACTIVIDADES DE APOYO A LA FUNCIÓN PÚBLICA Y BUEN GOBIERNO"]
["06CD03 Sistema de Aguas de la Ciudad de México","P001 PROMOCIÓN INTEGRAL PARA EL CUMPLIMIENTO DE LOS DERECHOS HUMANOS DE LAS NIÑAS Y MUJERES"]
["06CD03 Sistema de Aguas de la Ciudad de México","P002 PROMOCIÓN INTEGRAL PARA EL CUMPLIMIENTO DE LOS DERECHOS HUMANOS"]
["06CD03 Sistema de Aguas de la Ciudad de México","P004 PROMOCIÓN INTEGRAL PARA EL CUMPLIMIENTO DE LOS DERECHOS DE LA NIÑEZ Y DE LA ADOLECENCIA"]
["06CD03 Sistema de Aguas de la Ciudad de México","U002 AGUA POTABLE, DRENAJE Y SANEAMIENTO"]
["06CD05 Agencia de Atención Animal","E018 ATENCIÓN VETERINARIA"]
["06CD05 Agencia de Atención Animal","E090 ACCIONES PARA EL BIENESTAR ANIMAL"]
["06CD05 Agencia de Atención Animal","M001 ACTIVIDADES DE APOYO ADMINISTRATIVO"]
["06CD05 Agencia de Atención Animal","N001 CUMPLIMIENTO DE LOS PROGRAMAS DE PROTECCIÓN CIVIL"]
["06CD05 Agencia de Atención Animal","O001 ACTIVIDADES DE APOYO A LA FUNCIÓN PÚBLICA Y BUEN GOBIERNO"]
["06CD05 Agencia de Atención Animal","P001 PROMOCIÓN INTEGRAL PARA EL CUMPLIMIENTO DE LOS DERECHOS HUMANOS DE LAS NIÑAS Y MUJERES"]
["06CD05 Agencia de Atención Animal","P002 PROMOCIÓN INTEGRAL PARA EL CUMPLIMIENTO DE LOS DERECHOS HUMANOS"]
["06CD05 Agencia de Atención Animal","P004 PROMOCIÓN INTEGRAL PARA EL CUMPLIMIENTO DE LOS DERECHOS DE LA NIÑEZ Y DE LA ADOLECENCIA"]
["06P0FA Fondo Ambiental Público","E006 ACCIONES PARA PROYECTOS AMBIENTALES"]
["06P0FA Fondo Ambiental Público","S034 PROGRAMA SISTEMAS DE CAPTACIÓN DE AGUA DE LLUVIA EN VIVIENDAS DE LA CIUDAD DE MÉXICO"]
["06P0FA Fondo Ambiental Público","S036 PROGRAMA ALTEPETL"]
["06P0FA Fondo Ambiental Público","U026 APOYOS ECONÓMICOS Y OTRAS AYUDAS SOCIALES"]
["06PDPA Procuraduría Ambiental y del Ordenamiento Territorial","E154 ACCESO A LA JUSTICIA AMBIENTAL, URBANA Y DE PROTECCIÓN Y BIENESTAR ANIMAL"]
["06PDPA Procuraduría Ambiental y del Ordenamiento Territorial","M001 ACTIVIDADES DE APOYO ADMINISTRATIVO"]
["06PDPA Procuraduría Ambiental y del Ordenamiento Territorial","N001 CUMPLIMIENTO DE LOS PROGRAMAS DE PROTECCIÓN CIVIL"]
["06PDPA Procuraduría Ambiental y del Ordenamiento Territorial","O001 ACTIVIDADES DE APOYO A LA FUNCIÓN PÚBLICA Y BUEN GOBIERNO"]
["06PDPA Procuraduría Ambiental y del Ordenamiento Territorial","P001 PROMOCIÓN INTEGRAL PARA EL CUMPLIMIENTO DE LOS DERECHOS HUMANOS DE LAS NIÑAS Y MUJERES"]
["06PDPA Procuraduría Ambiental y del Ordenamiento Territorial","P002 PROMOCIÓN INTEGRAL PARA EL CUMPLIMIENTO DE LOS DERECHOS HUMANOS"]
["06PDPA Procuraduría Ambiental y del Ordenamiento Territorial","P004 PROMOCIÓN INTEGRAL PARA EL CUMPLIMIENTO DE LOS DERECHOS DE LA NIÑEZ Y DE LA ADOLECENCIA"]
["07C001 Secretaría de Obras y Servicios","E042 OPERACIÓN Y MANTENIMIENTO DEL TRANSPORTE PÚBLICO MASIVO, CONCESIONADO Y ALTERNO"]
["07C001 Secretaría de Obras y Servicios","E093 MANEJO INTEGRAL DE RESIDUOS SÓLIDOS URBANOS"]
["07C001 Secretaría de Obras y Servicios","E116 PROGRAMA PILARES"]
["07C001 Secretaría de Obras y Servicios","K001 CONSTRUCCIÓN Y MEJORAMIENTO DE LA INFRAESTRUCTURA DE SALUD"]
["07C001 Secretaría de Obras y Servicios","K002 CONSTRUCCIÓN Y MEJORAMIENTO DE LA INFRAESTRUCTURA EDUCATIVA"]
["07C001 Secretaría de Obras y Servicios","K004 INFRAESTRUCTURA DE TRANSPORTE PÚBLICO"]
["07C001 Secretaría de Obras y Servicios","K005 MEJORAMIENTO Y MANTENIMIENTO DE LA INFRAESTRUCTURA URBANA"]
["07C001 Secretaría de Obras y Servicios","K006 MEJORAMIENTO Y MANTENIMIENTO DE LA INFRAESTRUCTURA VIAL"]
["07C001 Secretaría de Obras y Servicios","K007 SISTEMA DE TRANSPORTE PÚBLICO CABLEBÚS"]
["07C001 Secretaría de Obras y Servicios","K008 AMPLIACIÓN, OPERACIÓN Y MANTENIMIENTO DEL ALUMBRADO PÚBLICO"]
["07C001 Secretaría de Obras y Servicios","K010 CONSTRUCCIÓN, MANTENIMIENTO Y AMPLIACIÓN DE EDIFICIOS PÚBLICOS"]
["07C001 Secretaría de Obras y Servicios","M001 ACTIVIDADES DE APOYO ADMINISTRATIVO"]
["07C001 Secretaría de Obras y Servicios","N001 CUMPLIMIENTO DE LOS PROGRAMAS DE PROTECCIÓN CIVIL"]
["07C001 Secretaría de Obras y Servicios","O001 ACTIVIDADES DE APOYO A LA FUNCIÓN PÚBLICA Y BUEN GOBIERNO"]
["07C001 Secretaría de Obras y Servicios","P001 PROMOCIÓN INTEGRAL PARA EL CUMPLIMIENTO DE LOS DERECHOS HUMANOS DE LAS NIÑAS Y MUJERES"]
["07C001 Secretaría de Obras y Servicios","P002 PROMOCIÓN INTEGRAL PARA EL CUMPLIMIENTO DE LOS DERECHOS HUMANOS"]
["07C001 Secretaría de Obras y Servicios","P004 PROMOCIÓN INTEGRAL PARA EL CUMPLIMIENTO DE LOS DERECHOS DE LA NIÑEZ Y DE LA ADOLECENCIA"]
["07CD01 Planta Productora de Mezclas Asfalticas","B001 PRODUCCIÓN Y COMERCIALIZACIÓN DE MEZCLAS ASFÁLTICAS"]
["07CD01 Planta Productora de Mezclas Asfalticas","M001 ACTIVIDADES DE APOYO ADMINISTRATIVO"]
["07CD01 Planta Productora de Mezclas Asfalticas","N001 CUMPLIMIENTO DE LOS PROGRAMAS DE PROTECCIÓN CIVIL"]
["07CD01 Planta Productora de Mezclas Asfalticas","O001 ACTIVIDADES DE APOYO A LA FUNCIÓN PÚBLICA Y BUEN GOBIERNO"]
["07CD01 Planta Productora de Mezclas Asfalticas","P001 PROMOCIÓN INTEGRAL PARA EL CUMPLIMIENTO DE LOS DERECHOS HUMANOS DE LAS NIÑAS Y MUJERES"]
["07CD01 Planta Productora de Mezclas Asfalticas","P002 PROMOCIÓN INTEGRAL PARA EL CUMPLIMIENTO DE LOS DERECHOS HUMANOS"]
["07CD01 Planta Productora de Mezclas Asfalticas","P004 PROMOCIÓN INTEGRAL PARA EL CUMPLIMIENTO DE LOS DERECHOS DE LA NIÑEZ Y DE LA ADOLECENCIA"]
["07PDIF Instituto Local de la Infraestructura Física Educativa","K012 REHABILITACIÓN, EQUIPAMIENTO Y CONSTRUCCIÓN DE INFRAESTRUCTURA EDUCATIVA"]
["07PDIF Instituto Local de la Infraestructura Física Educativa","M001 ACTIVIDADES DE APOYO ADMINISTRATIVO"]
["07PDIF Instituto Local de la Infraestructura Física Educativa","N001 CUMPLIMIENTO DE LOS PROGRAMAS DE PROTECCIÓN CIVIL"]
["07PDIF Instituto Local de la Infraestructura Física Educativa","O001 ACTIVIDADES DE APOYO A LA FUNCIÓN PÚBLICA Y BUEN GOBIERNO"]
["07PDIF Instituto Local de la Infraestructura Física Educativa","P001 PROMOCIÓN INTEGRAL PARA EL CUMPLIMIENTO DE LOS DERECHOS HUMANOS DE LAS NIÑAS Y MUJERES"]
["07PDIF Instituto Local de la Infraestructura Física Educativa","P002 PROMOCIÓN INTEGRAL PARA EL CUMPLIMIENTO DE LOS DERECHOS HUMANOS"]
["07PDIF Instituto Local de la Infraestructura Física Educativa","P004 PROMOCIÓN INTEGRAL PARA EL CUMPLIMIENTO DE LOS DERECHOS DE LA NIÑEZ Y DE LA ADOLECENCIA"]
["07PDIS Instituto para la Seguridad de las Construcciones","E067 OPERACIÓN DEL  SISTEMA PARA LA SEGURIDAD DE LAS CONSTRUCCIONES DE LA CIUDAD DE MÉXICO"]
["07PDIS Instituto para la Seguridad de las Construcciones","M001 ACTIVIDADES DE APOYO ADMINISTRATIVO"]
["07PDIS Instituto para la Seguridad de las Construcciones","N001 CUMPLIMIENTO DE LOS PROGRAMAS DE PROTECCIÓN CIVIL"]
["07PDIS Instituto para la Seguridad de las Construcciones","O001 ACTIVIDADES DE APOYO A LA FUNCIÓN PÚBLICA Y BUEN GOBIERNO"]
["07PDIS Instituto para la Seguridad de las Construcciones","P001 PROMOCIÓN INTEGRAL PARA EL CUMPLIMIENTO DE LOS DERECHOS HUMANOS DE LAS NIÑAS Y MUJERES"]
["07PDIS Instituto para la Seguridad de las Construcciones","P002 PROMOCIÓN INTEGRAL PARA EL CUMPLIMIENTO DE LOS DERECHOS HUMANOS"]
["07PDIS Instituto para la Seguridad de las Construcciones","P004 PROMOCIÓN INTEGRAL PARA EL CUMPLIMIENTO DE LOS DERECHOS DE LA NIÑEZ Y DE LA ADOLECENCIA"]
["08C001 Secretaría de Inclusión y Bienestar Social","E081 SERVICIOS INTEGRALES DE ASISTENCIA SOCIAL"]
["08C001 Secretaría de Inclusión y Bienestar Social","E147 ATENCIÓN SOCIAL INMEDIATA A POBLACIONES PRIORITARIAS (ASIPP)"]
["08C001 Secretaría de Inclusión y Bienestar Social","E148 ENTRE LA CALLE Y EL HOGAR"]
["08C001 Secretaría de Inclusión y Bienestar Social","F016 PROMOCIÓN Y FORTALECIMIENTO DE LA PARTICIPACIÓN CIUDADANA"]
["08C001 Secretaría de Inclusión y Bienestar Social","M001 ACTIVIDADES DE APOYO ADMINISTRATIVO"]
["08C001 Secretaría de Inclusión y Bienestar Social","N001 CUMPLIMIENTO DE LOS PROGRAMAS DE PROTECCIÓN CIVIL"]
["08C001 Secretaría de Inclusión y Bienestar Social","O001 ACTIVIDADES DE APOYO A LA FUNCIÓN PÚBLICA Y BUEN GOBIERNO"]
["08C001 Secretaría de Inclusión y Bienestar Social","P001 PROMOCIÓN INTEGRAL PARA EL CUMPLIMIENTO DE LOS DERECHOS HUMANOS DE LAS NIÑAS Y MUJERES"]
["08C001 Secretaría de Inclusión y Bienestar Social","P002 PROMOCIÓN INTEGRAL PARA EL CUMPLIMIENTO DE LOS DERECHOS HUMANOS"]
["08C001 Secretaría de Inclusión y Bienestar Social","P004 PROMOCIÓN INTEGRAL PARA EL CUMPLIMIENTO DE LOS DERECHOS DE LA NIÑEZ Y DE LA ADOLECENCIA"]
["08C001 Secretaría de Inclusión y Bienestar Social","S013 COMEDORES SOCIALES DE LA CIUDAD DE MÉXICO"]
["08C001 Secretaría de Inclusión y Bienestar Social","S014 COMIDA PARA LOS CAI'S"]
["08C001 Secretaría de Inclusión y Bienestar Social","S047 PROGRAMA MEJORAMIENTO BARRIAL Y COMUNITARIO, TEQUIO BARRIO"]
["08C001 Secretaría de Inclusión y Bienestar Social","S071 SERVIDORES DE LA CIUDAD (SERCDMX)"]
["08C001 Secretaría de Inclusión y Bienestar Social","S072 ATENCIÓN INTEGRAL AL ADULTO MAYOR"]
["08C001 Secretaría de Inclusión y Bienestar Social","U026 APOYOS ECONÓMICOS Y OTRAS AYUDAS SOCIALES"]
["08PDCE Consejo de Evaluación del Desarrollo Social","M001 ACTIVIDADES DE APOYO ADMINISTRATIVO"]
["08PDCE Consejo de Evaluación del Desarrollo Social","N001 CUMPLIMIENTO DE LOS PROGRAMAS DE PROTECCIÓN CIVIL"]
["08PDCE Consejo de Evaluación del Desarrollo Social","O001 ACTIVIDADES DE APOYO A LA FUNCIÓN PÚBLICA Y BUEN GOBIERNO"]
["08PDCE Consejo de Evaluación del Desarrollo Social","P001 PROMOCIÓN INTEGRAL PARA EL CUMPLIMIENTO DE LOS DERECHOS HUMANOS DE LAS NIÑAS Y MUJERES"]
["08PDCE Consejo de Evaluación del Desarrollo Social","P002 PROMOCIÓN INTEGRAL PARA EL CUMPLIMIENTO DE LOS DERECHOS HUMANOS"]
["08PDCE Consejo de Evaluación del Desarrollo Social","P004 PROMOCIÓN INTEGRAL PARA EL CUMPLIMIENTO DE LOS DERECHOS DE LA NIÑEZ Y DE LA ADOLECENCIA"]
["08PDCE Consejo de Evaluación del Desarrollo Social","P029 EVALUACIÓN DE LA POLÍTICA DE DESARROLLO SOCIAL DE LA CIUDAD DE MÉXICO"]
["08PDCE Consejo de Evaluación del Desarrollo Social","U033 ACTIVIDADES DE INVESTIGACIÓN ACADEMICAS, CIENTIFICAS Y DE DESARROLLO"]
["08PDCP Consejo para Prevenir y Eliminar la Discriminación","E046 PREVENCIÓN Y ATENCIÓN DE LA DISCRIMINACIÓN"]
["08PDCP Consejo para Prevenir y Eliminar la Discriminación","M001 ACTIVIDADES DE APOYO ADMINISTRATIVO"]
["08PDCP Consejo para Prevenir y Eliminar la Discriminación","N001 CUMPLIMIENTO DE LOS PROGRAMAS DE PROTECCIÓN CIVIL"]
["08PDCP Consejo para Prevenir y Eliminar la Discriminación","O001 ACTIVIDADES DE APOYO A LA FUNCIÓN PÚBLICA Y BUEN GOBIERNO"]
["08PDCP Consejo para Prevenir y Eliminar la Discriminación","P001 PROMOCIÓN INTEGRAL PARA EL CUMPLIMIENTO DE LOS DERECHOS HUMANOS DE LAS NIÑAS Y MUJERES"]
["08PDCP Consejo para Prevenir y Eliminar la Discriminación","P002 PROMOCIÓN INTEGRAL PARA EL CUMPLIMIENTO DE LOS DERECHOS HUMANOS"]
["08PDCP Consejo para Prevenir y Eliminar la Discriminación","P004 PROMOCIÓN INTEGRAL PARA EL CUMPLIMIENTO DE LOS DERECHOS DE LA NIÑEZ Y DE LA ADOLECENCIA"]
["08PDCP Consejo para Prevenir y Eliminar la Discriminación","P027 POLÍTICAS PARA LA PREVENCIÓN Y COMBATE A LA DISCRIMINACIÓN"]
["08PDDF Sistema para el Desarrollo Integral de la Familia","E115 ATENCIÓN Y PREVENCIÓN DE LA VIOLENCIA CONTRA LAS MUJERES"]
["08PDDF Sistema para el Desarrollo Integral de la Familia","E145 APRENDE Y CREA DIFERENTE"]
["08PDDF Sistema para el Desarrollo Integral de la Familia","E146 PROTECCIÓN Y DEFENSA DE NIÑAS, NIÑOS Y ADOLECENTES"]
["08PDDF Sistema para el Desarrollo Integral de la Familia","F012 PROMOCIÓN Y FOMENTO DE LOS DERECHOS HUMANOS DE LA ADOLESCENCIA Y LA INFANCIA"]
["08PDDF Sistema para el Desarrollo Integral de la Familia","F014 PROMOCIÓN Y FOMENTO DE LAS SOCIEDADES COOPERATIVAS"]
["08PDDF Sistema para el Desarrollo Integral de la Familia","M001 ACTIVIDADES DE APOYO ADMINISTRATIVO"]
["08PDDF Sistema para el Desarrollo Integral de la Familia","N001 CUMPLIMIENTO DE LOS PROGRAMAS DE PROTECCIÓN CIVIL"]
["08PDDF Sistema para el Desarrollo Integral de la Familia","O001 ACTIVIDADES DE APOYO A LA FUNCIÓN PÚBLICA Y BUEN GOBIERNO"]
["08PDDF Sistema para el Desarrollo Integral de la Familia","O016 INTEGRACIÓN DE SERVICIOS TECNOLÓGICOS E INFORMÁTICOS"]
["08PDDF Sistema para el Desarrollo Integral de la Familia","P001 PROMOCIÓN INTEGRAL PARA EL CUMPLIMIENTO DE LOS DERECHOS HUMANOS DE LAS NIÑAS Y MUJERES"]
["08PDDF Sistema para el Desarrollo Integral de la Familia","P004 PROMOCIÓN INTEGRAL PARA EL CUMPLIMIENTO DE LOS DERECHOS DE LA NIÑEZ Y DE LA ADOLECENCIA"]
["08PDDF Sistema para el Desarrollo Integral de la Familia","S007 CAPACITACIÓN A LA POBLACIÓN OCUPADA Y DESOCUPADA DE LA CIUDAD DE MÉXICO"]
["08PDDF Sistema para el Desarrollo Integral de la Familia","S010 COINVERSIÓN PARA LA INCLUSIÓN Y EL BIENESTAR SOCIAL"]
["08PDDF Sistema para el Desarrollo Integral de la Familia","S013 COMEDORES SOCIALES DE LA CIUDAD DE MÉXICO"]
["08PDDF Sistema para el Desarrollo Integral de la Familia","S030 PROGRAMA APOYO ECONÓMICO A POLICÍAS Y BOMBEROS PENSIONADOS DE LA CAPREPOL CON DISCAPACIDAD PERMANENTE"]
["08PDDF Sistema para el Desarrollo Integral de la Familia","S035 PROGRAMA ALIMENTOS ESCOLARES"]
["08PDDF Sistema para el Desarrollo Integral de la Familia","S037 PROGRAMA ATENCIÓN A PERSONAS CON DISCAPACIDAD EN UNIDADES BÁSICAS DE REHABILITACIÓN"]
["08PDDF Sistema para el Desarrollo Integral de la Familia","S064 DESARROLLO INTEGRAL DE LAS PERSONAS CON DISCAPACIDAD"]
["08PDDF Sistema para el Desarrollo Integral de la Familia","S066 CENTROS PARA EL DESARROLLO INFANTIL"]
["08PDDF Sistema para el Desarrollo Integral de la Familia","S211 ATENCIÓN A MENORES Y MADRES EN SITUACIÓN DE VULNERABILIDAD"]
["08PDDF Sistema para el Desarrollo Integral de la Familia","U012 ASISTENCIA SOCIAL Y SERVICIOS ASISTENCIALES"]
["08PDDF Sistema para el Desarrollo Integral de la Familia","U020 PROGRAMA DE ATENCIÓN A MENORES VULNERABLES"]
["08PDDF Sistema para el Desarrollo Integral de la Familia","U021 PROGRAMA DE ATENCIÓN A PERSONAS VULNERABLES"]
["08PDDF Sistema para el Desarrollo Integral de la Familia","U027 COVNVENIOS CON CASAS HOGAR DE NIÑAS Y NIÑOS"]
["08PDDF Sistema para el Desarrollo Integral de la Familia","U029 CUIDADOS ALTERNATIVOS"]
["08PDDF Sistema para el Desarrollo Integral de la Familia","U031 AYUDAS A COOPERATIVAS"]
["08PDDF Sistema para el Desarrollo Integral de la Familia","U032 APOYO A PERSONAS QUE PERDIERON ALGÚN FAMILIAR EN EL SISMO DEL 19 DE SEPTIEMBRE DE 2017"]
["08PDII Instituto de las Personas con Discapacidad","M001 ACTIVIDADES DE APOYO ADMINISTRATIVO"]
["08PDII Instituto de las Personas con Discapacidad","N001 CUMPLIMIENTO DE LOS PROGRAMAS DE PROTECCIÓN CIVIL"]
["08PDII Instituto de las Personas con Discapacidad","O001 ACTIVIDADES DE APOYO A LA FUNCIÓN PÚBLICA Y BUEN GOBIERNO"]
["08PDII Instituto de las Personas con Discapacidad","P001 PROMOCIÓN INTEGRAL PARA EL CUMPLIMIENTO DE LOS DERECHOS HUMANOS DE LAS NIÑAS Y MUJERES"]
["08PDII Instituto de las Personas con Discapacidad","P002 PROMOCIÓN INTEGRAL PARA EL CUMPLIMIENTO DE LOS DERECHOS HUMANOS"]
["08PDII Instituto de las Personas con Discapacidad","P004 PROMOCIÓN INTEGRAL PARA EL CUMPLIMIENTO DE LOS DERECHOS DE LA NIÑEZ Y DE LA ADOLECENCIA"]
["08PDII Instituto de las Personas con Discapacidad","P031 PLANEACIÓN, SEGUIMIENTO Y EVALUACIÓN A POLÍTICAS PÚBLICAS PARA EL DESARROLLO DE LAS PERSONAS CON DISCAPACIDAD"]
["08PDII Instituto de las Personas con Discapacidad","S064 DESARROLLO INTEGRAL DE LAS PERSONAS CON DISCAPACIDAD"]
["08PDIJ Instituto de la Juventud","E047 PREVENCIÓN Y TRATAMIENTO DE LAS ADICCIONES"]
["08PDIJ Instituto de la Juventud","M001 ACTIVIDADES DE APOYO ADMINISTRATIVO"]
["08PDIJ Instituto de la Juventud","N001 CUMPLIMIENTO DE LOS PROGRAMAS DE PROTECCIÓN CIVIL"]
["08PDIJ Instituto de la Juventud","O001 ACTIVIDADES DE APOYO A LA FUNCIÓN PÚBLICA Y BUEN GOBIERNO"]
["08PDIJ Instituto de la Juventud","P001 PROMOCIÓN INTEGRAL PARA EL CUMPLIMIENTO DE LOS DERECHOS HUMANOS DE LAS NIÑAS Y MUJERES"]
["08PDIJ Instituto de la Juventud","P002 PROMOCIÓN INTEGRAL PARA EL CUMPLIMIENTO DE LOS DERECHOS HUMANOS"]
["08PDIJ Instituto de la Juventud","P004 PROMOCIÓN INTEGRAL PARA EL CUMPLIMIENTO DE LOS DERECHOS DE LA NIÑEZ Y DE LA ADOLECENCIA"]
["08PDIJ Instituto de la Juventud","S004 APOYOS PARA EL DESARROLLO INTEGRAL DE LOS JÓVENES"]
["08PDIJ Instituto de la Juventud","S007 CAPACITACIÓN A LA POBLACIÓN OCUPADA Y DESOCUPADA DE LA CIUDAD DE MÉXICO"]
["08PDIJ Instituto de la Juventud","S025 LOS JÓVENES UNEN AL BARRIO"]
["08PDIJ Instituto de la Juventud","S050 PROMOCIÓN DE ACTIVIDADES CULTURALES Y RECREATIVAS"]
["08PDIJ Instituto de la Juventud","S212 NÚCLEOS URBANOS DE BIENESTAR EMOCIONAL (NUBE)"]
["08PDPS Procuraduría Social","E111 ASESORAMIENTO EN MATERIA JURÍDICA"]
["08PDPS Procuraduría Social","M001 ACTIVIDADES DE APOYO ADMINISTRATIVO"]
["08PDPS Procuraduría Social","N001 CUMPLIMIENTO DE LOS PROGRAMAS DE PROTECCIÓN CIVIL"]
["08PDPS Procuraduría Social","O001 ACTIVIDADES DE APOYO A LA FUNCIÓN PÚBLICA Y BUEN GOBIERNO"]
["08PDPS Procuraduría Social","P001 PROMOCIÓN INTEGRAL PARA EL CUMPLIMIENTO DE LOS DERECHOS HUMANOS DE LAS NIÑAS Y MUJERES"]
["08PDPS Procuraduría Social","P002 PROMOCIÓN INTEGRAL PARA EL CUMPLIMIENTO DE LOS DERECHOS HUMANOS"]
["08PDPS Procuraduría Social","P004 PROMOCIÓN INTEGRAL PARA EL CUMPLIMIENTO DE LOS DERECHOS DE LA NIÑEZ Y DE LA ADOLECENCIA"]
["08PDPS Procuraduría Social","S053 RESCATE INNOVADOR Y PARTICIPATIVO EN UNIDADES HABITACIONALES"]
["09C001 Secretaría de Administración y Finanzas","E059 REPRESENTACIÓN Y DEFENSA DEL GOBIERNO EN MATERIA FISCAL Y HACENDARIA"]
["09C001 Secretaría de Administración y Finanzas","E083 VALUACIÓN DE LOS BIENES INMUEBLES"]
["09C001 Secretaría de Administración y Finanzas","E104 PROFESIONALIZACIÓN  Y EVALUACIÓN DEL SERVIDOR PÚBLICO PARA EL BUEN GOBIERNO"]
["09C001 Secretaría de Administración y Finanzas","F023 PROMOCIÓN Y DIFUSIÓN DE ACCIONES DE GOBIERNO"]
["09C001 Secretaría de Administración y Finanzas","G009 DICTAMINACIÓN DE LAS ESTRUCTURAS ORGANIZACIONALES"]
["09C001 Secretaría de Administración y Finanzas","G072 INVESTIGACIÓN Y SEGUIMIENTO DE DELITOS FINANCIEROS"]
["09C001 Secretaría de Administración y Finanzas","M001 ACTIVIDADES DE APOYO ADMINISTRATIVO"]
["09C001 Secretaría de Administración y Finanzas","N001 CUMPLIMIENTO DE LOS PROGRAMAS DE PROTECCIÓN CIVIL"]
["09C001 Secretaría de Administración y Finanzas","O001 ACTIVIDADES DE APOYO A LA FUNCIÓN PÚBLICA Y BUEN GOBIERNO"]
["09C001 Secretaría de Administración y Finanzas","O002 IMPULSO A LA TRANSPARENCIA Y RENDICIÓN DE CUENTAS"]
["09C001 Secretaría de Administración y Finanzas","O004 INTEGRACIÓN DE SERVICIOS TECNOLÓGICOS E INFORMÁTICOS"]
["09C001 Secretaría de Administración y Finanzas","P001 PROMOCIÓN INTEGRAL PARA EL CUMPLIMIENTO DE LOS DERECHOS HUMANOS DE LAS NIÑAS Y MUJERES"]
["09C001 Secretaría de Administración y Finanzas","P002 PROMOCIÓN INTEGRAL PARA EL CUMPLIMIENTO DE LOS DERECHOS HUMANOS"]
["09C001 Secretaría de Administración y Finanzas","P004 PROMOCIÓN INTEGRAL PARA EL CUMPLIMIENTO DE LOS DERECHOS DE LA NIÑEZ Y DE LA ADOLECENCIA"]
["09C001 Secretaría de Administración y Finanzas","P014 DISEÑO DE LA POLÍTICA DE EGRESOS"]
["09C001 Secretaría de Administración y Finanzas","P026 DISEÑO, COORDINACIÓN Y OPERACIÓN DE LA POLÍTICA FISCAL Y HACENDARIA"]
["09PDLR Caja de Previsión para Trabajadores a Lista de Raya","E044 PRESTACIÓN DE SERVICIOS PARA LAS CAJAS DE PREVISIÓN"]
["09PDLR Caja de Previsión para Trabajadores a Lista de Raya","E076 SERVICIOS INTEGRALES A JUBILADOS Y PENSIONADOS"]
["09PDLR Caja de Previsión para Trabajadores a Lista de Raya","J001 PAGO DE PENSIONES Y JUBILACIONES"]
["09PDLR Caja de Previsión para Trabajadores a Lista de Raya","M001 ACTIVIDADES DE APOYO ADMINISTRATIVO"]
["09PDLR Caja de Previsión para Trabajadores a Lista de Raya","N001 CUMPLIMIENTO DE LOS PROGRAMAS DE PROTECCIÓN CIVIL"]
["09PDLR Caja de Previsión para Trabajadores a Lista de Raya","O001 ACTIVIDADES DE APOYO A LA FUNCIÓN PÚBLICA Y BUEN GOBIERNO"]
["09PDLR Caja de Previsión para Trabajadores a Lista de Raya","P001 PROMOCIÓN INTEGRAL PARA EL CUMPLIMIENTO DE LOS DERECHOS HUMANOS DE LAS NIÑAS Y MUJERES"]
["09PDLR Caja de Previsión para Trabajadores a Lista de Raya","P002 PROMOCIÓN INTEGRAL PARA EL CUMPLIMIENTO DE LOS DERECHOS HUMANOS"]
["09PDLR Caja de Previsión para Trabajadores a Lista de Raya","P004 PROMOCIÓN INTEGRAL PARA EL CUMPLIMIENTO DE LOS DERECHOS DE LA NIÑEZ Y DE LA ADOLECENCIA"]
["09PDPA Caja de Previsión de la Policía Auxiliar","E044 PRESTACIÓN DE SERVICIOS PARA LAS CAJAS DE PREVISIÓN"]
["09PDPA Caja de Previsión de la Policía Auxiliar","E076 SERVICIOS INTEGRALES A JUBILADOS Y PENSIONADOS"]
["09PDPA Caja de Previsión de la Policía Auxiliar","J001 PAGO DE PENSIONES Y JUBILACIONES"]
["09PDPA Caja de Previsión de la Policía Auxiliar","M001 ACTIVIDADES DE APOYO ADMINISTRATIVO"]
["09PDPA Caja de Previsión de la Policía Auxiliar","N001 CUMPLIMIENTO DE LOS PROGRAMAS DE PROTECCIÓN CIVIL"]
["09PDPA Caja de Previsión de la Policía Auxiliar","O001 ACTIVIDADES DE APOYO A LA FUNCIÓN PÚBLICA Y BUEN GOBIERNO"]
["09PDPA Caja de Previsión de la Policía Auxiliar","P001 PROMOCIÓN INTEGRAL PARA EL CUMPLIMIENTO DE LOS DERECHOS HUMANOS DE LAS NIÑAS Y MUJERES"]
["09PDPA Caja de Previsión de la Policía Auxiliar","P002 PROMOCIÓN INTEGRAL PARA EL CUMPLIMIENTO DE LOS DERECHOS HUMANOS"]
["09PDPA Caja de Previsión de la Policía Auxiliar","P004 PROMOCIÓN INTEGRAL PARA EL CUMPLIMIENTO DE LOS DERECHOS DE LA NIÑEZ Y DE LA ADOLECENCIA"]
["09PDPP Caja de Previsión de la Policía Preventiva","E044 PRESTACIÓN DE SERVICIOS PARA LAS CAJAS DE PREVISIÓN"]
["09PDPP Caja de Previsión de la Policía Preventiva","E076 SERVICIOS INTEGRALES A JUBILADOS Y PENSIONADOS"]
["09PDPP Caja de Previsión de la Policía Preventiva","J001 PAGO DE PENSIONES Y JUBILACIONES"]
["09PDPP Caja de Previsión de la Policía Preventiva","M001 ACTIVIDADES DE APOYO ADMINISTRATIVO"]
["09PDPP Caja de Previsión de la Policía Preventiva","N001 CUMPLIMIENTO DE LOS PROGRAMAS DE PROTECCIÓN CIVIL"]
["09PDPP Caja de Previsión de la Policía Preventiva","O001 ACTIVIDADES DE APOYO A LA FUNCIÓN PÚBLICA Y BUEN GOBIERNO"]
["09PDPP Caja de Previsión de la Policía Preventiva","P001 PROMOCIÓN INTEGRAL PARA EL CUMPLIMIENTO DE LOS DERECHOS HUMANOS DE LAS NIÑAS Y MUJERES"]
["09PDPP Caja de Previsión de la Policía Preventiva","P002 PROMOCIÓN INTEGRAL PARA EL CUMPLIMIENTO DE LOS DERECHOS HUMANOS"]
["09PDPP Caja de Previsión de la Policía Preventiva","P004 PROMOCIÓN INTEGRAL PARA EL CUMPLIMIENTO DE LOS DERECHOS DE LA NIÑEZ Y DE LA ADOLECENCIA"]
["09PECM Corporación Mexicana de Impresión, S.A. de C.V.","E077 SERVICIOS DE IMPRENTA DE LA CIUDAD DE MÉXICO"]
["09PECM Corporación Mexicana de Impresión, S.A. de C.V.","M001 ACTIVIDADES DE APOYO ADMINISTRATIVO"]
["09PECM Corporación Mexicana de Impresión, S.A. de C.V.","N001 CUMPLIMIENTO DE LOS PROGRAMAS DE PROTECCIÓN CIVIL"]
["09PECM Corporación Mexicana de Impresión, S.A. de C.V.","O001 ACTIVIDADES DE APOYO A LA FUNCIÓN PÚBLICA Y BUEN GOBIERNO"]
["09PECM Corporación Mexicana de Impresión, S.A. de C.V.","P001 PROMOCIÓN INTEGRAL PARA EL CUMPLIMIENTO DE LOS DERECHOS HUMANOS DE LAS NIÑAS Y MUJERES"]
["09PECM Corporación Mexicana de Impresión, S.A. de C.V.","P002 PROMOCIÓN INTEGRAL PARA EL CUMPLIMIENTO DE LOS DERECHOS HUMANOS"]
["09PECM Corporación Mexicana de Impresión, S.A. de C.V.","P004 PROMOCIÓN INTEGRAL PARA EL CUMPLIMIENTO DE LOS DERECHOS DE LA NIÑEZ Y DE LA ADOLECENCIA"]
["09PECV PROCDMX, S.A. de C.V.","M001 ACTIVIDADES DE APOYO ADMINISTRATIVO"]
["09PECV PROCDMX, S.A. de C.V.","N001 CUMPLIMIENTO DE LOS PROGRAMAS DE PROTECCIÓN CIVIL"]
["09PECV PROCDMX, S.A. de C.V.","O001 ACTIVIDADES DE APOYO A LA FUNCIÓN PÚBLICA Y BUEN GOBIERNO"]
["09PECV PROCDMX, S.A. de C.V.","P001 PROMOCIÓN INTEGRAL PARA EL CUMPLIMIENTO DE LOS DERECHOS HUMANOS DE LAS NIÑAS Y MUJERES"]
["09PECV PROCDMX, S.A. de C.V.","P002 PROMOCIÓN INTEGRAL PARA EL CUMPLIMIENTO DE LOS DERECHOS HUMANOS"]
["09PECV PROCDMX, S.A. de C.V.","P004 PROMOCIÓN INTEGRAL PARA EL CUMPLIMIENTO DE LOS DERECHOS DE LA NIÑEZ Y DE LA ADOLECENCIA"]
["09PECV PROCDMX, S.A. de C.V.","P034 PROYECTOS Y SERVICIOS ESTRATÉGICOS PARA BENEFICIO DE LA POBLACIÓN"]
["09PESM Servicios Metropolitanos, S.A. de C.V.","E084 SERVICIOS INTEGRALES METROPOLITANOS"]
["09PESM Servicios Metropolitanos, S.A. de C.V.","M001 ACTIVIDADES DE APOYO ADMINISTRATIVO"]
["09PESM Servicios Metropolitanos, S.A. de C.V.","N001 CUMPLIMIENTO DE LOS PROGRAMAS DE PROTECCIÓN CIVIL"]
["09PESM Servicios Metropolitanos, S.A. de C.V.","O001 ACTIVIDADES DE APOYO A LA FUNCIÓN PÚBLICA Y BUEN GOBIERNO"]
["09PESM Servicios Metropolitanos, S.A. de C.V.","P001 PROMOCIÓN INTEGRAL PARA EL CUMPLIMIENTO DE LOS DERECHOS HUMANOS DE LAS NIÑAS Y MUJERES"]
["09PESM Servicios Metropolitanos, S.A. de C.V.","P002 PROMOCIÓN INTEGRAL PARA EL CUMPLIMIENTO DE LOS DERECHOS HUMANOS"]
["09PESM Servicios Metropolitanos, S.A. de C.V.","P004 PROMOCIÓN INTEGRAL PARA EL CUMPLIMIENTO DE LOS DERECHOS DE LA NIÑEZ Y DE LA ADOLECENCIA"]
["09PFCH Fideicomiso del Centro Histórico","E003 ACCIONES DE OBRAS Y SERVICIOS PARA LA RECUPERACIÓN, PROMOCIÓN Y PROTECCIÓN DEL CENTRO HISTÓRICO"]
["09PFCH Fideicomiso del Centro Histórico","M001 ACTIVIDADES DE APOYO ADMINISTRATIVO"]
["09PFCH Fideicomiso del Centro Histórico","N001 CUMPLIMIENTO DE LOS PROGRAMAS DE PROTECCIÓN CIVIL"]
["09PFCH Fideicomiso del Centro Histórico","O001 ACTIVIDADES DE APOYO A LA FUNCIÓN PÚBLICA Y BUEN GOBIERNO"]
["09PFCH Fideicomiso del Centro Histórico","P001 PROMOCIÓN INTEGRAL PARA EL CUMPLIMIENTO DE LOS DERECHOS HUMANOS DE LAS NIÑAS Y MUJERES"]
["09PFCH Fideicomiso del Centro Histórico","P002 PROMOCIÓN INTEGRAL PARA EL CUMPLIMIENTO DE LOS DERECHOS HUMANOS"]
["09PFCH Fideicomiso del Centro Histórico","P004 PROMOCIÓN INTEGRAL PARA EL CUMPLIMIENTO DE LOS DERECHOS DE LA NIÑEZ Y DE LA ADOLECENCIA"]
["09PFRC Fideicomiso de Recuperación Crediticia","G010  RECUPERACIÓN ÓPTIMA DE LOS CRÉDITOS"]
["09PFRC Fideicomiso de Recuperación Crediticia","M001 ACTIVIDADES DE APOYO ADMINISTRATIVO"]
["09PFRC Fideicomiso de Recuperación Crediticia","N001 CUMPLIMIENTO DE LOS PROGRAMAS DE PROTECCIÓN CIVIL"]
["09PFRC Fideicomiso de Recuperación Crediticia","O001 ACTIVIDADES DE APOYO A LA FUNCIÓN PÚBLICA Y BUEN GOBIERNO"]
["09PFRC Fideicomiso de Recuperación Crediticia","P001 PROMOCIÓN INTEGRAL PARA EL CUMPLIMIENTO DE LOS DERECHOS HUMANOS DE LAS NIÑAS Y MUJERES"]
["09PFRC Fideicomiso de Recuperación Crediticia","P002 PROMOCIÓN INTEGRAL PARA EL CUMPLIMIENTO DE LOS DERECHOS HUMANOS"]
["09PFRC Fideicomiso de Recuperación Crediticia","P004 PROMOCIÓN INTEGRAL PARA EL CUMPLIMIENTO DE LOS DERECHOS DE LA NIÑEZ Y DE LA ADOLECENCIA"]
["09PFRI Fideicomiso para la Reconstrucción Integral de la Ciudad de México","M001 ACTIVIDADES DE APOYO ADMINISTRATIVO"]
["09PFRI Fideicomiso para la Reconstrucción Integral de la Ciudad de México","U035 PROGRAMA PARA LA RECONSTRUCCIÓN, REHABILITACIÓN DE VIVIENDAS Y OTRAS PREVISIONES"]
["10C001 Secretaría de Movilidad","E112 OPERACIÓN Y PROMOCIÓN DE MOVILIDAD SUSTENTABLE"]
["10C001 Secretaría de Movilidad","F024 ACCIONES DE EDUCACIÓN, PREVENCIÓN Y ATENCIÓN DE POLÍTICAS DE SEGURIDAD VIAL"]
["10C001 Secretaría de Movilidad","G018 GESTIÓN Y REGULACIÓN DE SISTEMAS DE MOVILIDAD Y TRANSPORTE, Y ESTACIONAMIENTOS"]
["10C001 Secretaría de Movilidad","G019 CONTROL, ORDENAMIENTO Y SISTEMATIZACIÓN DEL TRANSPORTE"]
["10C001 Secretaría de Movilidad","M001 ACTIVIDADES DE APOYO ADMINISTRATIVO"]
["10C001 Secretaría de Movilidad","N001 CUMPLIMIENTO DE LOS PROGRAMAS DE PROTECCIÓN CIVIL"]
["10C001 Secretaría de Movilidad","O001 ACTIVIDADES DE APOYO A LA FUNCIÓN PÚBLICA Y BUEN GOBIERNO"]
["10C001 Secretaría de Movilidad","P001 PROMOCIÓN INTEGRAL PARA EL CUMPLIMIENTO DE LOS DERECHOS HUMANOS DE LAS NIÑAS Y MUJERES"]
["10C001 Secretaría de Movilidad","P004 PROMOCIÓN INTEGRAL PARA EL CUMPLIMIENTO DE LOS DERECHOS DE LA NIÑEZ Y DE LA ADOLECENCIA"]
["10C001 Secretaría de Movilidad","P044 ACCIONES PARA LA INTEGRACIÓN DEL TRANSPORTE PÚBLICO"]
["10C001 Secretaría de Movilidad","P045  DISEÑO INTEGRAL DE INFRAESTRUCTURA PEATONAL Y CICLISTA"]
["10C001 Secretaría de Movilidad","U026 APOYOS ECONÓMICOS Y OTRAS AYUDAS SOCIALES"]
["10CD01 Órgano Regulador de Transporte","G005 REGULACIÓN DE CORREDORES DE TRANSPORTE PÚBLICO Y CENTROS DE TRANSFERENCIA MODAL"]
["10CD01 Órgano Regulador de Transporte","K004 INFRAESTRUCTURA DE TRANSPORTE PÚBLICO"]
["10CD01 Órgano Regulador de Transporte","K007 SISTEMA DE TRANSPORTE PÚBLICO CABLEBÚS"]
["10CD01 Órgano Regulador de Transporte","M001 ACTIVIDADES DE APOYO ADMINISTRATIVO"]
["10CD01 Órgano Regulador de Transporte","N001 CUMPLIMIENTO DE LOS PROGRAMAS DE PROTECCIÓN CIVIL"]
["10CD01 Órgano Regulador de Transporte","O001 ACTIVIDADES DE APOYO A LA FUNCIÓN PÚBLICA Y BUEN GOBIERNO"]
["10CD01 Órgano Regulador de Transporte","P001 PROMOCIÓN INTEGRAL PARA EL CUMPLIMIENTO DE LOS DERECHOS HUMANOS DE LAS NIÑAS Y MUJERES"]
["10CD01 Órgano Regulador de Transporte","P002 PROMOCIÓN INTEGRAL PARA EL CUMPLIMIENTO DE LOS DERECHOS HUMANOS"]
["10CD01 Órgano Regulador de Transporte","P004 PROMOCIÓN INTEGRAL PARA EL CUMPLIMIENTO DE LOS DERECHOS DE LA NIÑEZ Y DE LA ADOLECENCIA"]
["10P0AC Fondo Público de Atención al Ciclista y al Peatón","E039 MEJORAS A LA INFRAESTRUCTURA PARA MOVILIDAD NO MOTORIZADA Y PEATONAL"]
["10P0TP Fideicomiso para el Fondo de Promoción para el Financiamiento del Transporte Público","U022 ACCIONES PARA MEJORAR EL SERVICIO DE TRANSPORTE PÚBLICO, ASÍ COMO LA INFRAESTRUCTURA ASOCIADA"]
["10PDMB Metrobús","E042 OPERACIÓN Y MANTENIMIENTO DEL TRANSPORTE PÚBLICO MASIVO, CONCESIONADO Y ALTERNO"]
["10PDMB Metrobús","M001 ACTIVIDADES DE APOYO ADMINISTRATIVO"]
["10PDMB Metrobús","N001 CUMPLIMIENTO DE LOS PROGRAMAS DE PROTECCIÓN CIVIL"]
["10PDMB Metrobús","O001 ACTIVIDADES DE APOYO A LA FUNCIÓN PÚBLICA Y BUEN GOBIERNO"]
["10PDMB Metrobús","P001 PROMOCIÓN INTEGRAL PARA EL CUMPLIMIENTO DE LOS DERECHOS HUMANOS DE LAS NIÑAS Y MUJERES"]
["10PDMB Metrobús","P002 PROMOCIÓN INTEGRAL PARA EL CUMPLIMIENTO DE LOS DERECHOS HUMANOS"]
["10PDMB Metrobús","P004 PROMOCIÓN INTEGRAL PARA EL CUMPLIMIENTO DE LOS DERECHOS DE LA NIÑEZ Y DE LA ADOLECENCIA"]
["10PDME Sistema de Transporte Colectivo Metro","E042 OPERACIÓN Y MANTENIMIENTO DEL TRANSPORTE PÚBLICO MASIVO, CONCESIONADO Y ALTERNO"]
["10PDME Sistema de Transporte Colectivo Metro","K004 INFRAESTRUCTURA DE TRANSPORTE PÚBLICO"]
["10PDME Sistema de Transporte Colectivo Metro","M001 ACTIVIDADES DE APOYO ADMINISTRATIVO"]
["10PDME Sistema de Transporte Colectivo Metro","N001 CUMPLIMIENTO DE LOS PROGRAMAS DE PROTECCIÓN CIVIL"]
["10PDME Sistema de Transporte Colectivo Metro","O001 ACTIVIDADES DE APOYO A LA FUNCIÓN PÚBLICA Y BUEN GOBIERNO"]
["10PDME Sistema de Transporte Colectivo Metro","P001 PROMOCIÓN INTEGRAL PARA EL CUMPLIMIENTO DE LOS DERECHOS HUMANOS DE LAS NIÑAS Y MUJERES"]
["10PDME Sistema de Transporte Colectivo Metro","P002 PROMOCIÓN INTEGRAL PARA EL CUMPLIMIENTO DE LOS DERECHOS HUMANOS"]
["10PDME Sistema de Transporte Colectivo Metro","P004 PROMOCIÓN INTEGRAL PARA EL CUMPLIMIENTO DE LOS DERECHOS DE LA NIÑEZ Y DE LA ADOLECENCIA"]
["10PDRT Red de Transporte de Pasajeros (RTP)","E088 OPERACIÓN Y MANTENIMIENTO DE LA RED DE TRANSPORTE DE PASAJEROS (RTP)"]
["10PDRT Red de Transporte de Pasajeros (RTP)","M001 ACTIVIDADES DE APOYO ADMINISTRATIVO"]
["10PDRT Red de Transporte de Pasajeros (RTP)","N001 CUMPLIMIENTO DE LOS PROGRAMAS DE PROTECCIÓN CIVIL"]
["10PDRT Red de Transporte de Pasajeros (RTP)","O001 ACTIVIDADES DE APOYO A LA FUNCIÓN PÚBLICA Y BUEN GOBIERNO"]
["10PDRT Red de Transporte de Pasajeros (RTP)","P001 PROMOCIÓN INTEGRAL PARA EL CUMPLIMIENTO DE LOS DERECHOS HUMANOS DE LAS NIÑAS Y MUJERES"]
["10PDRT Red de Transporte de Pasajeros (RTP)","P002 PROMOCIÓN INTEGRAL PARA EL CUMPLIMIENTO DE LOS DERECHOS HUMANOS"]
["10PDRT Red de Transporte de Pasajeros (RTP)","P004 PROMOCIÓN INTEGRAL PARA EL CUMPLIMIENTO DE LOS DERECHOS DE LA NIÑEZ Y DE LA ADOLECENCIA"]
["10PDTE Servicio de Transportes Eléctricos","E042 OPERACIÓN Y MANTENIMIENTO DEL TRANSPORTE PÚBLICO MASIVO, CONCESIONADO Y ALTERNO"]
["10PDTE Servicio de Transportes Eléctricos","J001 PAGO DE PENSIONES Y JUBILACIONES"]
["10PDTE Servicio de Transportes Eléctricos","M001 ACTIVIDADES DE APOYO ADMINISTRATIVO"]
["10PDTE Servicio de Transportes Eléctricos","N001 CUMPLIMIENTO DE LOS PROGRAMAS DE PROTECCIÓN CIVIL"]
["10PDTE Servicio de Transportes Eléctricos","O001 ACTIVIDADES DE APOYO A LA FUNCIÓN PÚBLICA Y BUEN GOBIERNO"]
["10PDTE Servicio de Transportes Eléctricos","P001 PROMOCIÓN INTEGRAL PARA EL CUMPLIMIENTO DE LOS DERECHOS HUMANOS DE LAS NIÑAS Y MUJERES"]
["10PDTE Servicio de Transportes Eléctricos","P002 PROMOCIÓN INTEGRAL PARA EL CUMPLIMIENTO DE LOS DERECHOS HUMANOS"]
["10PDTE Servicio de Transportes Eléctricos","P004 PROMOCIÓN INTEGRAL PARA EL CUMPLIMIENTO DE LOS DERECHOS DE LA NIÑEZ Y DE LA ADOLECENCIA"]
["11C001 Secretaría de Seguridad Ciudadana","E007 PREVENCIÓN DEL DELITO"]
["11C001 Secretaría de Seguridad Ciudadana","E021 SEGURIDAD CIUDADANA EN CUADRANTES"]
["11C001 Secretaría de Seguridad Ciudadana","E053 PROTECCIÓN CIUDADANA ORDEN PÚBLICO Y PAZ SOCIAL"]
["11C001 Secretaría de Seguridad Ciudadana","M001 ACTIVIDADES DE APOYO ADMINISTRATIVO"]
["11C001 Secretaría de Seguridad Ciudadana","N001 CUMPLIMIENTO DE LOS PROGRAMAS DE PROTECCIÓN CIVIL"]
["11C001 Secretaría de Seguridad Ciudadana","O001 ACTIVIDADES DE APOYO A LA FUNCIÓN PÚBLICA Y BUEN GOBIERNO"]
["11C001 Secretaría de Seguridad Ciudadana","P001 PROMOCIÓN INTEGRAL PARA EL CUMPLIMIENTO DE LOS DERECHOS HUMANOS DE LAS NIÑAS Y MUJERES"]
["11C001 Secretaría de Seguridad Ciudadana","P002 PROMOCIÓN INTEGRAL PARA EL CUMPLIMIENTO DE LOS DERECHOS HUMANOS"]
["11C001 Secretaría de Seguridad Ciudadana","P004 PROMOCIÓN INTEGRAL PARA EL CUMPLIMIENTO DE LOS DERECHOS DE LA NIÑEZ Y DE LA ADOLECENCIA"]
["11CD01 Universidad de la Policía","E025 FORMACIÓN CONTINÚA PARA POLICÍAS PREVENTIVOS"]
["11CD01 Universidad de la Policía","E026 FORMACIÓN DE ASPIRANTES A POLICÍAS"]
["11CD01 Universidad de la Policía","M001 ACTIVIDADES DE APOYO ADMINISTRATIVO"]
["11CD01 Universidad de la Policía","N001 CUMPLIMIENTO DE LOS PROGRAMAS DE PROTECCIÓN CIVIL"]
["11CD01 Universidad de la Policía","O001 ACTIVIDADES DE APOYO A LA FUNCIÓN PÚBLICA Y BUEN GOBIERNO"]
["11CD01 Universidad de la Policía","P001 PROMOCIÓN INTEGRAL PARA EL CUMPLIMIENTO DE LOS DERECHOS HUMANOS DE LAS NIÑAS Y MUJERES"]
["11CD01 Universidad de la Policía","P002 PROMOCIÓN INTEGRAL PARA EL CUMPLIMIENTO DE LOS DERECHOS HUMANOS"]
["11CD01 Universidad de la Policía","P004 PROMOCIÓN INTEGRAL PARA EL CUMPLIMIENTO DE LOS DERECHOS DE LA NIÑEZ Y DE LA ADOLECENCIA"]
["11CD02 Policía Auxiliar","E026 FORMACIÓN DE ASPIRANTES A POLICÍAS"]
["11CD02 Policía Auxiliar","E043 POLICÍA AUXILIAR"]
["11CD02 Policía Auxiliar","M001 ACTIVIDADES DE APOYO ADMINISTRATIVO"]
["11CD02 Policía Auxiliar","N001 CUMPLIMIENTO DE LOS PROGRAMAS DE PROTECCIÓN CIVIL"]
["11CD02 Policía Auxiliar","O001 ACTIVIDADES DE APOYO A LA FUNCIÓN PÚBLICA Y BUEN GOBIERNO"]
["11CD02 Policía Auxiliar","P001 PROMOCIÓN INTEGRAL PARA EL CUMPLIMIENTO DE LOS DERECHOS HUMANOS DE LAS NIÑAS Y MUJERES"]
["11CD02 Policía Auxiliar","P002 PROMOCIÓN INTEGRAL PARA EL CUMPLIMIENTO DE LOS DERECHOS HUMANOS"]
["11CD02 Policía Auxiliar","P004 PROMOCIÓN INTEGRAL PARA EL CUMPLIMIENTO DE LOS DERECHOS DE LA NIÑEZ Y DE LA ADOLECENCIA"]
["11CD03 Policía Bancaria e Industrial","E054 PROTECCIÓN Y VIGILANCIA DEL SECTOR PÚBLICO Y PRIVADO"]
["11CD03 Policía Bancaria e Industrial","M001 ACTIVIDADES DE APOYO ADMINISTRATIVO"]
["11CD03 Policía Bancaria e Industrial","N001 CUMPLIMIENTO DE LOS PROGRAMAS DE PROTECCIÓN CIVIL"]
["11CD03 Policía Bancaria e Industrial","O001 ACTIVIDADES DE APOYO A LA FUNCIÓN PÚBLICA Y BUEN GOBIERNO"]
["11CD03 Policía Bancaria e Industrial","P001 PROMOCIÓN INTEGRAL PARA EL CUMPLIMIENTO DE LOS DERECHOS HUMANOS DE LAS NIÑAS Y MUJERES"]
["11CD03 Policía Bancaria e Industrial","P002 PROMOCIÓN INTEGRAL PARA EL CUMPLIMIENTO DE LOS DERECHOS HUMANOS"]
["11CD03 Policía Bancaria e Industrial","P004 PROMOCIÓN INTEGRAL PARA EL CUMPLIMIENTO DE LOS DERECHOS DE LA NIÑEZ Y DE LA ADOLECENCIA"]
["13C001 Secretaría de la Contraloría General","M001 ACTIVIDADES DE APOYO ADMINISTRATIVO"]
["13C001 Secretaría de la Contraloría General","N001 CUMPLIMIENTO DE LOS PROGRAMAS DE PROTECCIÓN CIVIL"]
["13C001 Secretaría de la Contraloría General","O001 ACTIVIDADES DE APOYO A LA FUNCIÓN PÚBLICA Y BUEN GOBIERNO"]
["13C001 Secretaría de la Contraloría General","O003 INHIBICIÓN Y SANCIÓN DE LAS PRÁCTICAS DE CORRUPCIÓN"]
["13C001 Secretaría de la Contraloría General","O005 PROMOCIÓN DE LA CULTURA A LEGALIDAD"]
["13C001 Secretaría de la Contraloría General","O006 FISCALIZACIÓN A LA GESTIÓN PÚBLICA"]
["13C001 Secretaría de la Contraloría General","P001 PROMOCIÓN INTEGRAL PARA EL CUMPLIMIENTO DE LOS DERECHOS HUMANOS DE LAS NIÑAS Y MUJERES"]
["13C001 Secretaría de la Contraloría General","P002 PROMOCIÓN INTEGRAL PARA EL CUMPLIMIENTO DE LOS DERECHOS HUMANOS"]
["13C001 Secretaría de la Contraloría General","P003 PLANEACIÓN, SEGUIMIENTO Y EVALUACIÓN A POLÍTICAS PÚBLICAS"]
["13C001 Secretaría de la Contraloría General","P004 PROMOCIÓN INTEGRAL PARA EL CUMPLIMIENTO DE LOS DERECHOS DE LA NIÑEZ Y DE LA ADOLECENCIA"]
["13PDEA Escuela de Administración Pública","E080 PROFESIONALIZACIÓN DE SERVIDORES PÚBLICOS E INVESTIGACIÓN APLICADA PARA LA BUENA ADMINISTRACIÓN"]
["13PDEA Escuela de Administración Pública","M001 ACTIVIDADES DE APOYO ADMINISTRATIVO"]
["13PDEA Escuela de Administración Pública","N001 CUMPLIMIENTO DE LOS PROGRAMAS DE PROTECCIÓN CIVIL"]
["13PDEA Escuela de Administración Pública","O001 ACTIVIDADES DE APOYO A LA FUNCIÓN PÚBLICA Y BUEN GOBIERNO"]
["13PDEA Escuela de Administración Pública","P001 PROMOCIÓN INTEGRAL PARA EL CUMPLIMIENTO DE LOS DERECHOS HUMANOS DE LAS NIÑAS Y MUJERES"]
["13PDEA Escuela de Administración Pública","P002 PROMOCIÓN INTEGRAL PARA EL CUMPLIMIENTO DE LOS DERECHOS HUMANOS"]
["13PDEA Escuela de Administración Pública","P004 PROMOCIÓN INTEGRAL PARA EL CUMPLIMIENTO DE LOS DERECHOS DE LA NIÑEZ Y DE LA ADOLECENCIA"]
["13PDVA Instituto de Verificación Administrativa","G011 ACCIONES PARA EL CUMPLIMIENTO  DE LAS DISPOSICIONES MERCANTILES, JURÍDICAS Y ADMINISTRATIVAS"]
["13PDVA Instituto de Verificación Administrativa","M001 ACTIVIDADES DE APOYO ADMINISTRATIVO"]
["13PDVA Instituto de Verificación Administrativa","N001 CUMPLIMIENTO DE LOS PROGRAMAS DE PROTECCIÓN CIVIL"]
["13PDVA Instituto de Verificación Administrativa","O001 ACTIVIDADES DE APOYO A LA FUNCIÓN PÚBLICA Y BUEN GOBIERNO"]
["13PDVA Instituto de Verificación Administrativa","P001 PROMOCIÓN INTEGRAL PARA EL CUMPLIMIENTO DE LOS DERECHOS HUMANOS DE LAS NIÑAS Y MUJERES"]
["13PDVA Instituto de Verificación Administrativa","P002 PROMOCIÓN INTEGRAL PARA EL CUMPLIMIENTO DE LOS DERECHOS HUMANOS"]
["13PDVA Instituto de Verificación Administrativa","P004 PROMOCIÓN INTEGRAL PARA EL CUMPLIMIENTO DE LOS DERECHOS DE LA NIÑEZ Y DE LA ADOLECENCIA"]
["14P0PJ Fideicomiso Público del Fondo de Apoyo a la Procuración de Justicia","E002 ACCIONES DE FORTALECIMIENTO PARA LA PROCURACIÓN DE JUSTICIA"]
["15C006 Tesorería","U009 OTROS SUBSIDIOS"]
["16C000 Deuda Pública","D001 SERVICIO DE LA DEUDA"]
["16C000 Deuda Pública","D002 VOLUCIÓN DE INGRESOS PERCIBIDOS INDEBIDAMENTE"]
["17L000 Congreso de la Ciudad de México","0000 ÓRGANOS AUTÓNOMOS Y DE GOBIERNO"]
["18L000 Auditoría Superior de la Ciudad de México","0000 ÓRGANOS AUTÓNOMOS Y DE GOBIERNO"]
["19J000 Tribunal Superior de Justicia","0000 ÓRGANOS AUTÓNOMOS Y DE GOBIERNO"]
["20J000 Consejo de la Judicatura","0000 ÓRGANOS AUTÓNOMOS Y DE GOBIERNO"]
["21A000 Tribunal de Justicia Administrativa","0000 ÓRGANOS AUTÓNOMOS Y DE GOBIERNO"]
["22A000 Junta Local de Conciliación y Arbitraje","0000 ÓRGANOS AUTÓNOMOS Y DE GOBIERNO"]
["23A000 Comisión de Derechos Humanos","0000 ÓRGANOS AUTÓNOMOS Y DE GOBIERNO"]
["24A000 Instituto Electoral","0000 ÓRGANOS AUTÓNOMOS Y DE GOBIERNO"]
["25C001 Consejería Jurídica y de Servicios Legales","E011 FORTALECIMIENTO EN MATERIA JURÍDICA"]
["25C001 Consejería Jurídica y de Servicios Legales","E031 PRESTACIÓN DE SERVICIOS PARA LOS TRAMITES DE IDENTIDAD Y PROPIEDAD"]
["25C001 Consejería Jurídica y de Servicios Legales","E082 REGULARIZACIÓN DE LA TENENCIA DE LA TIERRA"]
["25C001 Consejería Jurídica y de Servicios Legales","M001 ACTIVIDADES DE APOYO ADMINISTRATIVO"]
["25C001 Consejería Jurídica y de Servicios Legales","N001 CUMPLIMIENTO DE LOS PROGRAMAS DE PROTECCIÓN CIVIL"]
["25C001 Consejería Jurídica y de Servicios Legales","O001 ACTIVIDADES DE APOYO A LA FUNCIÓN PÚBLICA Y BUEN GOBIERNO"]
["25C001 Consejería Jurídica y de Servicios Legales","P001 PROMOCIÓN INTEGRAL PARA EL CUMPLIMIENTO DE LOS DERECHOS HUMANOS DE LAS NIÑAS Y MUJERES"]
["25C001 Consejería Jurídica y de Servicios Legales","P002 PROMOCIÓN INTEGRAL PARA EL CUMPLIMIENTO DE LOS DERECHOS HUMANOS"]
["25C001 Consejería Jurídica y de Servicios Legales","P004 PROMOCIÓN INTEGRAL PARA EL CUMPLIMIENTO DE LOS DERECHOS DE LA NIÑEZ Y DE LA ADOLECENCIA"]
["26C001 Secretaría de Salud","E004 PREVENCIÓN DE CÁNCER DE MAMA Y CERVICOUTERINO"]
["26C001 Secretaría de Salud","E012 ATENCIÓN MEDICA"]
["26C001 Secretaría de Salud","E017 ATENCIÓN MÉDICA A PERSONAS PRIVADAS DE SU LIBERTAD Y EN PROCEDIMIENTO LEGAL"]
["26C001 Secretaría de Salud","E019  PREVENCIÓN Y ATENCIÓN  DE LA VIOLENCIA CONTRA LAS MUJERES"]
["26C001 Secretaría de Salud","E061 SALUD MATERNA, SEXUAL Y REPRODUCTIVA"]
["26C001 Secretaría de Salud","E070 CONSERVACIÓN Y MANTENIMIENTO MENOR DE INMUEBLES Y EQUIPOS"]
["26C001 Secretaría de Salud","E078 ATENCIÓN MÉDICA DE URGENCIAS"]
["26C001 Secretaría de Salud","E102 PROFESIONALIZACIÓN DE SERVIDORES PÚBLICOS DE LA SALUD"]
["26C001 Secretaría de Salud","M001 ACTIVIDADES DE APOYO ADMINISTRATIVO"]
["26C001 Secretaría de Salud","N001 CUMPLIMIENTO DE LOS PROGRAMAS DE PROTECCIÓN CIVIL"]
["26C001 Secretaría de Salud","O001 ACTIVIDADES DE APOYO A LA FUNCIÓN PÚBLICA Y BUEN GOBIERNO"]
["26C001 Secretaría de Salud","P001 PROMOCIÓN INTEGRAL PARA EL CUMPLIMIENTO DE LOS DERECHOS HUMANOS DE LAS NIÑAS Y MUJERES"]
["26C001 Secretaría de Salud","P002 PROMOCIÓN INTEGRAL PARA EL CUMPLIMIENTO DE LOS DERECHOS HUMANOS"]
["26C001 Secretaría de Salud","P004 PROMOCIÓN INTEGRAL PARA EL CUMPLIMIENTO DE LOS DERECHOS DE LA NIÑEZ Y DE LA ADOLECENCIA"]
["26C001 Secretaría de Salud","U010 PREVENCIÓN DE ENFERMEDADES Y PROMOCIÓN A LA SALUD"]
["26CD01 Agencia de Protección Sanitaria","F026 FOMENTO SANITARIO EN ESTABLECIMIENTOS, PRODUCTOS, ACTIVIDADES, SERVICIOS Y PERSONAS"]
["26CD01 Agencia de Protección Sanitaria","G016 CONTROL Y REGULACIÓN SANITARIA"]
["26CD01 Agencia de Protección Sanitaria","G017 VIGILANCIA SANITARIA EN ESTABLECIMIENTOS, PRODUCTOS, ACTIVIDADES, SERVICIOS Y PERSONAS"]
["26CD01 Agencia de Protección Sanitaria","M001 ACTIVIDADES DE APOYO ADMINISTRATIVO"]
["26CD01 Agencia de Protección Sanitaria","N001 CUMPLIMIENTO DE LOS PROGRAMAS DE PROTECCIÓN CIVIL"]
["26CD01 Agencia de Protección Sanitaria","O001 ACTIVIDADES DE APOYO A LA FUNCIÓN PÚBLICA Y BUEN GOBIERNO"]
["26CD01 Agencia de Protección Sanitaria","P001 PROMOCIÓN INTEGRAL PARA EL CUMPLIMIENTO DE LOS DERECHOS HUMANOS DE LAS NIÑAS Y MUJERES"]
["26CD01 Agencia de Protección Sanitaria","P002 PROMOCIÓN INTEGRAL PARA EL CUMPLIMIENTO DE LOS DERECHOS HUMANOS"]
["26CD01 Agencia de Protección Sanitaria","P004 PROMOCIÓN INTEGRAL PARA EL CUMPLIMIENTO DE LOS DERECHOS DE LA NIÑEZ Y DE LA ADOLECENCIA"]
["26PDIA Instituto para la Atención y Prevención de las Adicciones","E016 ATENCIÓN INTEGRAL Y TRATAMIENTO DE ADICCIONES"]
["26PDIA Instituto para la Atención y Prevención de las Adicciones","M001 ACTIVIDADES DE APOYO ADMINISTRATIVO"]
["26PDIA Instituto para la Atención y Prevención de las Adicciones","N001 CUMPLIMIENTO DE LOS PROGRAMAS DE PROTECCIÓN CIVIL"]
["26PDIA Instituto para la Atención y Prevención de las Adicciones","O001 ACTIVIDADES DE APOYO A LA FUNCIÓN PÚBLICA Y BUEN GOBIERNO"]
["26PDIA Instituto para la Atención y Prevención de las Adicciones","P001 PROMOCIÓN INTEGRAL PARA EL CUMPLIMIENTO DE LOS DERECHOS HUMANOS DE LAS NIÑAS Y MUJERES"]
["26PDIA Instituto para la Atención y Prevención de las Adicciones","P002 PROMOCIÓN INTEGRAL PARA EL CUMPLIMIENTO DE LOS DERECHOS HUMANOS"]
["26PDIA Instituto para la Atención y Prevención de las Adicciones","P004 PROMOCIÓN INTEGRAL PARA EL CUMPLIMIENTO DE LOS DERECHOS DE LA NIÑEZ Y DE LA ADOLECENCIA"]
["26PDIA Instituto para la Atención y Prevención de las Adicciones","P022 PLANEACIÓN DE POLÍTICAS PÚBLICAS PARA MEJORAR LA ATENCIÓN DE LAS ADICCIONES"]
["26PDIA Instituto para la Atención y Prevención de las Adicciones","U018 APOYO PARA LA ATENCIÓN Y PREVENCIÓN DE LAS ADICCIONES"]
["26PDSP Servicios de Salud Pública","E018 ATENCIÓN VETERINARIA"]
["26PDSP Servicios de Salud Pública","E061 SALUD MATERNA, SEXUAL Y REPRODUCTIVA"]
["26PDSP Servicios de Salud Pública","E066 SERVICIOS DE SALUD DEL PRIMER NIVEL"]
["26PDSP Servicios de Salud Pública","M001 ACTIVIDADES DE APOYO ADMINISTRATIVO"]
["26PDSP Servicios de Salud Pública","N001 CUMPLIMIENTO DE LOS PROGRAMAS DE PROTECCIÓN CIVIL"]
["26PDSP Servicios de Salud Pública","O001 ACTIVIDADES DE APOYO A LA FUNCIÓN PÚBLICA Y BUEN GOBIERNO"]
["26PDSP Servicios de Salud Pública","P001 PROMOCIÓN INTEGRAL PARA EL CUMPLIMIENTO DE LOS DERECHOS HUMANOS DE LAS NIÑAS Y MUJERES"]
["26PDSP Servicios de Salud Pública","P002 PROMOCIÓN INTEGRAL PARA EL CUMPLIMIENTO DE LOS DERECHOS HUMANOS"]
["26PDSP Servicios de Salud Pública","P004 PROMOCIÓN INTEGRAL PARA EL CUMPLIMIENTO DE LOS DERECHOS DE LA NIÑEZ Y DE LA ADOLECENCIA"]
["27A000 Tribunal Electoral","0000 ÓRGANOS AUTÓNOMOS Y DE GOBIERNO"]
["29A000 Universidad Autónoma de la Ciudad de México","0000 ÓRGANOS AUTÓNOMOS Y DE GOBIERNO"]
["31C000 Secretaría de Cultura","E048 PRODUCCIÓN DE CONTENIDO CULTURAL Y ARTÍSTICO"]
["31C000 Secretaría de Cultura","E072 PRESERVACIÓN Y CUIDADO DEL PATRIMONIO MATERIAL E INMATERIAL"]
["31C000 Secretaría de Cultura","E079 PROMOCIÓN Y OPERACIÓN INTEGRAL DE LA ORQUESTA FILARMÓNICA DE LA CIUDAD DE MÉXICO"]
["31C000 Secretaría de Cultura","F013 OPERACIÓN DE CENTROS CULTURALES, MUSEOS, TEATROS Y ESPACIOS PARA EL ARTE Y CULTURA"]
["31C000 Secretaría de Cultura","F018 VINCULACIÓN Y FORTALECIMIENTO DE LA CULTURA Y LAS ARTES"]
["31C000 Secretaría de Cultura","M001 ACTIVIDADES DE APOYO ADMINISTRATIVO"]
["31C000 Secretaría de Cultura","O001 ACTIVIDADES DE APOYO A LA FUNCIÓN PÚBLICA Y BUEN GOBIERNO"]
["31C000 Secretaría de Cultura","P001 PROMOCIÓN INTEGRAL PARA EL CUMPLIMIENTO DE LOS DERECHOS HUMANOS DE LAS NIÑAS Y MUJERES"]
["31C000 Secretaría de Cultura","P002 PROMOCIÓN INTEGRAL PARA EL CUMPLIMIENTO DE LOS DERECHOS HUMANOS"]
["31C000 Secretaría de Cultura","P004 PROMOCIÓN INTEGRAL PARA EL CUMPLIMIENTO DE LOS DERECHOS DE LA NIÑEZ Y DE LA ADOLECENCIA"]
["31C000 Secretaría de Cultura","S012 COLECTIVOS CULTURALES COMUNITARIOS CIUDAD DE MÉXICO"]
["31C000 Secretaría de Cultura","S051 PROMOTORES CULTURALES CIUDAD DE MÉXICO"]
["31C000 Secretaría de Cultura","S057 TALLERES DE ARTES Y OFICIOS COMUNITARIOS"]
["31C000 Secretaría de Cultura","U014 FINANCIAMIENTO Y PROMOCIÓN DE PROYECTOS CULTURALES Y ARTÍSTICOS"]
["31PFMA Fideicomiso Museo de Arte Popular Mexicano","E028 OPERACIÓN DEL MUSEO DE ARTE POPULAR"]
["31PFMA Fideicomiso Museo de Arte Popular Mexicano","M001 ACTIVIDADES DE APOYO ADMINISTRATIVO"]
["31PFMA Fideicomiso Museo de Arte Popular Mexicano","N001 CUMPLIMIENTO DE LOS PROGRAMAS DE PROTECCIÓN CIVIL"]
["31PFMA Fideicomiso Museo de Arte Popular Mexicano","O001 ACTIVIDADES DE APOYO A LA FUNCIÓN PÚBLICA Y BUEN GOBIERNO"]
["31PFMA Fideicomiso Museo de Arte Popular Mexicano","P001 PROMOCIÓN INTEGRAL PARA EL CUMPLIMIENTO DE LOS DERECHOS HUMANOS DE LAS NIÑAS Y MUJERES"]
["31PFMA Fideicomiso Museo de Arte Popular Mexicano","P002 PROMOCIÓN INTEGRAL PARA EL CUMPLIMIENTO DE LOS DERECHOS HUMANOS"]
["31PFMA Fideicomiso Museo de Arte Popular Mexicano","P004 PROMOCIÓN INTEGRAL PARA EL CUMPLIMIENTO DE LOS DERECHOS DE LA NIÑEZ Y DE LA ADOLECENCIA"]
["31PFME Fideicomiso Museo del Estanquillo","E073 OPERACIÓN DEL MUSEO DEL ESTANQUILLO"]
["31PFME Fideicomiso Museo del Estanquillo","M001 ACTIVIDADES DE APOYO ADMINISTRATIVO"]
["31PFME Fideicomiso Museo del Estanquillo","N001 CUMPLIMIENTO DE LOS PROGRAMAS DE PROTECCIÓN CIVIL"]
["31PFME Fideicomiso Museo del Estanquillo","O001 ACTIVIDADES DE APOYO A LA FUNCIÓN PÚBLICA Y BUEN GOBIERNO"]
["31PFME Fideicomiso Museo del Estanquillo","P001 PROMOCIÓN INTEGRAL PARA EL CUMPLIMIENTO DE LOS DERECHOS HUMANOS DE LAS NIÑAS Y MUJERES"]
["31PFME Fideicomiso Museo del Estanquillo","P002 PROMOCIÓN INTEGRAL PARA EL CUMPLIMIENTO DE LOS DERECHOS HUMANOS"]
["31PFPC Fideicomiso de Promocion y Desarrollo del Cine Mexicano","E049 PRODUCCIÓN Y SERVICIOS FÍLMICOS Y CINEMATOGRÁFICOS"]
["31PFPC Fideicomiso de Promocion y Desarrollo del Cine Mexicano","M001 ACTIVIDADES DE APOYO ADMINISTRATIVO"]
["31PFPC Fideicomiso de Promocion y Desarrollo del Cine Mexicano","N001 CUMPLIMIENTO DE LOS PROGRAMAS DE PROTECCIÓN CIVIL"]
["31PFPC Fideicomiso de Promocion y Desarrollo del Cine Mexicano","O001 ACTIVIDADES DE APOYO A LA FUNCIÓN PÚBLICA Y BUEN GOBIERNO"]
["31PFPC Fideicomiso de Promocion y Desarrollo del Cine Mexicano","P001 PROMOCIÓN INTEGRAL PARA EL CUMPLIMIENTO DE LOS DERECHOS HUMANOS DE LAS NIÑAS Y MUJERES"]
["31PFPC Fideicomiso de Promocion y Desarrollo del Cine Mexicano","P002 PROMOCIÓN INTEGRAL PARA EL CUMPLIMIENTO DE LOS DERECHOS HUMANOS"]
["31PFPC Fideicomiso de Promocion y Desarrollo del Cine Mexicano","P004 PROMOCIÓN INTEGRAL PARA EL CUMPLIMIENTO DE LOS DERECHOS DE LA NIÑEZ Y DE LA ADOLECENCIA"]
["32A000 Instituto de Transparencia, Acceso a la Información Pública, Protección de Datos Personales y Rendición de Cuentas","0000 ÓRGANOS AUTÓNOMOS Y DE GOBIERNO"]
["33C001 Secretaría de Trabajo y Fomento Al Empleo","E098 SUPERVISIÓN Y PROMOCIÓN DE LOS DERECHOS LABORALES"]
["33C001 Secretaría de Trabajo y Fomento Al Empleo","E099 ACCIONES JURÍDICAS EN MATERIA LABORAL"]
["33C001 Secretaría de Trabajo y Fomento Al Empleo","M001 ACTIVIDADES DE APOYO ADMINISTRATIVO"]
["33C001 Secretaría de Trabajo y Fomento Al Empleo","N001 CUMPLIMIENTO DE LOS PROGRAMAS DE PROTECCIÓN CIVIL"]
["33C001 Secretaría de Trabajo y Fomento Al Empleo","O001 ACTIVIDADES DE APOYO A LA FUNCIÓN PÚBLICA Y BUEN GOBIERNO"]
["33C001 Secretaría de Trabajo y Fomento Al Empleo","P001 PROMOCIÓN INTEGRAL PARA EL CUMPLIMIENTO DE LOS DERECHOS HUMANOS DE LAS NIÑAS Y MUJERES"]
["33C001 Secretaría de Trabajo y Fomento Al Empleo","P002 PROMOCIÓN INTEGRAL PARA EL CUMPLIMIENTO DE LOS DERECHOS HUMANOS"]
["33C001 Secretaría de Trabajo y Fomento Al Empleo","S022 FOMENTO AL TRABAJO DIGNO"]
["33C001 Secretaría de Trabajo y Fomento Al Empleo","S023 FOMENTO, CONSTITUCIÓN Y FORTALECIMIENTO DE LAS EMPRESAS SOCIALES Y SOLIDARIAS DE LA CIUDAD DE MÉXICO (FOCOFESS)"]
["33C001 Secretaría de Trabajo y Fomento Al Empleo","S054 SEGURO DE DESEMPLEO"]
["33PDIT Instituto de Capacitación para el Trabajo","E100 CAPACITACIÓN A LA POBLACIÓN OCUPADA Y DESOCUPADA DE LA CIUDAD DE MÉXICO"]
["33PDIT Instituto de Capacitación para el Trabajo","M001 ACTIVIDADES DE APOYO ADMINISTRATIVO"]
["33PDIT Instituto de Capacitación para el Trabajo","N001 CUMPLIMIENTO DE LOS PROGRAMAS DE PROTECCIÓN CIVIL"]
["33PDIT Instituto de Capacitación para el Trabajo","O001 ACTIVIDADES DE APOYO A LA FUNCIÓN PÚBLICA Y BUEN GOBIERNO"]
["33PDIT Instituto de Capacitación para el Trabajo","P001 PROMOCIÓN INTEGRAL PARA EL CUMPLIMIENTO DE LOS DERECHOS HUMANOS DE LAS NIÑAS Y MUJERES"]
["33PDIT Instituto de Capacitación para el Trabajo","P002 PROMOCIÓN INTEGRAL PARA EL CUMPLIMIENTO DE LOS DERECHOS HUMANOS"]
["33PDIT Instituto de Capacitación para el Trabajo","P004 PROMOCIÓN INTEGRAL PARA EL CUMPLIMIENTO DE LOS DERECHOS DE LA NIÑEZ Y DE LA ADOLECENCIA"]
["34C001 Secretaría de Gestión Integral de Riesgos y Protección Civil","E113 GESTIÓN INTEGRAL DE RIESGOS"]
["34C001 Secretaría de Gestión Integral de Riesgos y Protección Civil","M001 ACTIVIDADES DE APOYO ADMINISTRATIVO"]
["34C001 Secretaría de Gestión Integral de Riesgos y Protección Civil","N001 CUMPLIMIENTO DE LOS PROGRAMAS DE PROTECCIÓN CIVIL"]
["34C001 Secretaría de Gestión Integral de Riesgos y Protección Civil","O001 ACTIVIDADES DE APOYO A LA FUNCIÓN PÚBLICA Y BUEN GOBIERNO"]
["34C001 Secretaría de Gestión Integral de Riesgos y Protección Civil","P001 PROMOCIÓN INTEGRAL PARA EL CUMPLIMIENTO DE LOS DERECHOS HUMANOS DE LAS NIÑAS Y MUJERES"]
["34C001 Secretaría de Gestión Integral de Riesgos y Protección Civil","P002 PROMOCIÓN INTEGRAL PARA EL CUMPLIMIENTO DE LOS DERECHOS HUMANOS"]
["34C001 Secretaría de Gestión Integral de Riesgos y Protección Civil","P004 PROMOCIÓN INTEGRAL PARA EL CUMPLIMIENTO DE LOS DERECHOS DE LA NIÑEZ Y DE LA ADOLECENCIA"]
["34PDHB Heroico Cuerpo de Bomberos","M001 ACTIVIDADES DE APOYO ADMINISTRATIVO"]
["34PDHB Heroico Cuerpo de Bomberos","N001 CUMPLIMIENTO DE LOS PROGRAMAS DE PROTECCIÓN CIVIL"]
["34PDHB Heroico Cuerpo de Bomberos","N004 PREVENCIÓN Y COMBATE DE INCENDIOS"]
["34PDHB Heroico Cuerpo de Bomberos","O001 ACTIVIDADES DE APOYO A LA FUNCIÓN PÚBLICA Y BUEN GOBIERNO"]
["34PDHB Heroico Cuerpo de Bomberos","P001 PROMOCIÓN INTEGRAL PARA EL CUMPLIMIENTO DE LOS DERECHOS HUMANOS DE LAS NIÑAS Y MUJERES"]
["34PDHB Heroico Cuerpo de Bomberos","P002 PROMOCIÓN INTEGRAL PARA EL CUMPLIMIENTO DE LOS DERECHOS HUMANOS"]
["34PDHB Heroico Cuerpo de Bomberos","P004 PROMOCIÓN INTEGRAL PARA EL CUMPLIMIENTO DE LOS DERECHOS DE LA NIÑEZ Y DE LA ADOLECENCIA"]
["35C001 Secretaría de Pueblos y Barrios Originarios y Comunidades Indígenas Residentes","M001 ACTIVIDADES DE APOYO ADMINISTRATIVO"]
["35C001 Secretaría de Pueblos y Barrios Originarios y Comunidades Indígenas Residentes","N001 CUMPLIMIENTO DE LOS PROGRAMAS DE PROTECCIÓN CIVIL"]
["35C001 Secretaría de Pueblos y Barrios Originarios y Comunidades Indígenas Residentes","O001 ACTIVIDADES DE APOYO A LA FUNCIÓN PÚBLICA Y BUEN GOBIERNO"]
["35C001 Secretaría de Pueblos y Barrios Originarios y Comunidades Indígenas Residentes","P001 PROMOCIÓN INTEGRAL PARA EL CUMPLIMIENTO DE LOS DERECHOS HUMANOS DE LAS NIÑAS Y MUJERES"]
["35C001 Secretaría de Pueblos y Barrios Originarios y Comunidades Indígenas Residentes","P002 PROMOCIÓN INTEGRAL PARA EL CUMPLIMIENTO DE LOS DERECHOS HUMANOS"]
["35C001 Secretaría de Pueblos y Barrios Originarios y Comunidades Indígenas Residentes","P004 PROMOCIÓN INTEGRAL PARA EL CUMPLIMIENTO DE LOS DERECHOS DE LA NIÑEZ Y DE LA ADOLECENCIA"]
["35C001 Secretaría de Pueblos y Barrios Originarios y Comunidades Indígenas Residentes","P036 PLANEACIÓN DE POLÍTICAS PÚBLICAS ENFOCADAS AL DESARROLLO DE LOS PUEBLOS Y BARRIOS ORIGINARIOS Y COMUNIDADES INDÍGENAS RESIDENTES"]
["35C001 Secretaría de Pueblos y Barrios Originarios y Comunidades Indígenas Residentes","S042 PROGRAMA PARA EL FORTALECIMIENTO Y APOYO A LAS COMUNIDADES INDÍGENAS"]
["36C001 Secretaría de Educación, Ciencia, Tecnología e Innovación","E027 FORTALECIMIENTO A LA EDUCACIÓN COMPLEMENTARIA"]
["36C001 Secretaría de Educación, Ciencia, Tecnología e Innovación","E086 FORTALECIMIENTO A LA EDUCACIÓN MEDIA SUPERIOR"]
["36C001 Secretaría de Educación, Ciencia, Tecnología e Innovación","E087 FORTALECIMIENTO A LA EDUCACIÓN BÁSICA"]
["36C001 Secretaría de Educación, Ciencia, Tecnología e Innovación","E094 FORTALECIMIENTO PARA EL ACCESO A LA EDUCACIÓN SUPERIOR"]
["36C001 Secretaría de Educación, Ciencia, Tecnología e Innovación","E114 ATENCIÓN Y SEGUIMIENTO ESPECIAL A GRUPOS VULNERABLES VÍCTIMAS DE LA VIOLENCIA"]
["36C001 Secretaría de Educación, Ciencia, Tecnología e Innovación","F003 CONVENIOS EN MATERIA DE EDUCACIÓN, INNOVACIÓN, CIENCIA Y TECNOLOGÍA"]
["36C001 Secretaría de Educación, Ciencia, Tecnología e Innovación","F021 DIVULGACIÓN DE CONOCIMIENTO CIENTÍFICO TECNOLÓGICO Y DE INNOVACIÓN"]
["36C001 Secretaría de Educación, Ciencia, Tecnología e Innovación","M001 ACTIVIDADES DE APOYO ADMINISTRATIVO"]
["36C001 Secretaría de Educación, Ciencia, Tecnología e Innovación","N001 CUMPLIMIENTO DE LOS PROGRAMAS DE PROTECCIÓN CIVIL"]
["36C001 Secretaría de Educación, Ciencia, Tecnología e Innovación","O001 ACTIVIDADES DE APOYO A LA FUNCIÓN PÚBLICA Y BUEN GOBIERNO"]
["36C001 Secretaría de Educación, Ciencia, Tecnología e Innovación","P001 PROMOCIÓN INTEGRAL PARA EL CUMPLIMIENTO DE LOS DERECHOS HUMANOS DE LAS NIÑAS Y MUJERES"]
["36C001 Secretaría de Educación, Ciencia, Tecnología e Innovación","P002 PROMOCIÓN INTEGRAL PARA EL CUMPLIMIENTO DE LOS DERECHOS HUMANOS"]
["36C001 Secretaría de Educación, Ciencia, Tecnología e Innovación","P004 PROMOCIÓN INTEGRAL PARA EL CUMPLIMIENTO DE LOS DERECHOS DE LA NIÑEZ Y DE LA ADOLECENCIA"]
["36C001 Secretaría de Educación, Ciencia, Tecnología e Innovación","S008 CIBERESCUELAS EN PILARES"]
["36C001 Secretaría de Educación, Ciencia, Tecnología e Innovación","S016 EDUCACIÓN PARA LA AUTONOMÍA ECONÓMICA EN PILARES"]
["36C001 Secretaría de Educación, Ciencia, Tecnología e Innovación","S073 BECA PILARES"]
["36C001 Secretaría de Educación, Ciencia, Tecnología e Innovación","U017 APOYO A LA FORMACIÓN DE CAPITAL HUMANO EN EDUCACIÓN Y CIENCIA"]
["36CD01 Universidad de la Salud","E153 PROGRAMA PARA LA FORMACION DE PROFESIONALES DE LA SALUD"]
["36CD01 Universidad de la Salud","M001 ACTIVIDADES DE APOYO ADMINISTRATIVO"]
["36CDES Instituto de Estudios Superiores de la Ciudad de México \"Rosario Castellanos\"","E094 FORTALECIMIENTO PARA EL ACCESO A LA EDUCACIÓN SUPERIOR"]
["36CDES Instituto de Estudios Superiores de la Ciudad de México \"Rosario Castellanos\"","E095 FORTALECIMIENTO PARA EL ACCESO A POSGRADOS E INVESTIGACIÓN"]
["36CDES Instituto de Estudios Superiores de la Ciudad de México \"Rosario Castellanos\"","M001 ACTIVIDADES DE APOYO ADMINISTRATIVO"]
["36CDES Instituto de Estudios Superiores de la Ciudad de México \"Rosario Castellanos\"","N001 CUMPLIMIENTO DE LOS PROGRAMAS DE PROTECCIÓN CIVIL"]
["36CDES Instituto de Estudios Superiores de la Ciudad de México \"Rosario Castellanos\"","O001 ACTIVIDADES DE APOYO A LA FUNCIÓN PÚBLICA Y BUEN GOBIERNO"]
["36CDES Instituto de Estudios Superiores de la Ciudad de México \"Rosario Castellanos\"","P001 PROMOCIÓN INTEGRAL PARA EL CUMPLIMIENTO DE LOS DERECHOS HUMANOS DE LAS NIÑAS Y MUJERES"]
["36CDES Instituto de Estudios Superiores de la Ciudad de México \"Rosario Castellanos\"","P002 PROMOCIÓN INTEGRAL PARA EL CUMPLIMIENTO DE LOS DERECHOS HUMANOS"]
["36CDES Instituto de Estudios Superiores de la Ciudad de México \"Rosario Castellanos\"","P004 PROMOCIÓN INTEGRAL PARA EL CUMPLIMIENTO DE LOS DERECHOS DE LA NIÑEZ Y DE LA ADOLECENCIA"]
["36PDID Instituto del Deporte","E116 PROGRAMA PILARES"]
["36PDID Instituto del Deporte","F017 PROGRAMA DE CULTURA FÍSICA Y EVENTOS DEPORTIVOS"]
["36PDID Instituto del Deporte","M001 ACTIVIDADES DE APOYO ADMINISTRATIVO"]
["36PDID Instituto del Deporte","N001 CUMPLIMIENTO DE LOS PROGRAMAS DE PROTECCIÓN CIVIL"]
["36PDID Instituto del Deporte","O001 ACTIVIDADES DE APOYO A LA FUNCIÓN PÚBLICA Y BUEN GOBIERNO"]
["36PDID Instituto del Deporte","P001 PROMOCIÓN INTEGRAL PARA EL CUMPLIMIENTO DE LOS DERECHOS HUMANOS DE LAS NIÑAS Y MUJERES"]
["36PDID Instituto del Deporte","P002 PROMOCIÓN INTEGRAL PARA EL CUMPLIMIENTO DE LOS DERECHOS HUMANOS"]
["36PDID Instituto del Deporte","P004 PROMOCIÓN INTEGRAL PARA EL CUMPLIMIENTO DE LOS DERECHOS DE LA NIÑEZ Y DE LA ADOLECENCIA"]
["36PDID Instituto del Deporte","S018 ESTÍMULOS ECONÓMICOS A LAS ASOCIACIONES DEPORTIVAS QUE PARTICIPAN EN LA OLIMPIADA, PARALIMPIADA Y NACIONAL JUVENIL"]
["36PDID Instituto del Deporte","S019 ESTÍMULOS ECONÓMICOS A DEPORTISTAS DESTACADOS REPRESENTATIVOS DE LA CIUDAD DE MÉXICO"]
["36PDID Instituto del Deporte","S029 PONTE PILA, DEPORTE COMUNITARIO"]
["36PDIE Instituto de Educación Media Superior","E086 FORTALECIMIENTO A LA EDUCACIÓN MEDIA SUPERIOR"]
["36PDIE Instituto de Educación Media Superior","F003 CONVENIOS EN MATERIA DE EDUCACIÓN, INNOVACIÓN, CIENCIA Y TECNOLOGÍA"]
["36PDIE Instituto de Educación Media Superior","M001 ACTIVIDADES DE APOYO ADMINISTRATIVO"]
["36PDIE Instituto de Educación Media Superior","N001 CUMPLIMIENTO DE LOS PROGRAMAS DE PROTECCIÓN CIVIL"]
["36PDIE Instituto de Educación Media Superior","O001 ACTIVIDADES DE APOYO A LA FUNCIÓN PÚBLICA Y BUEN GOBIERNO"]
["36PDIE Instituto de Educación Media Superior","P001 PROMOCIÓN INTEGRAL PARA EL CUMPLIMIENTO DE LOS DERECHOS HUMANOS DE LAS NIÑAS Y MUJERES"]
["36PDIE Instituto de Educación Media Superior","P002 PROMOCIÓN INTEGRAL PARA EL CUMPLIMIENTO DE LOS DERECHOS HUMANOS"]
["36PDIE Instituto de Educación Media Superior","P004 PROMOCIÓN INTEGRAL PARA EL CUMPLIMIENTO DE LOS DERECHOS DE LA NIÑEZ Y DE LA ADOLECENCIA"]
["36PDIE Instituto de Educación Media Superior","S039 PROGRAMA DE BECAS DEL INSTITUTO DE EDUCACIÓN MEDIA SUPERIOR DE LA CIUDAD DE MÉXICO"]
["36PDIE Instituto de Educación Media Superior","U017 APOYO A LA FORMACIÓN DE CAPITAL HUMANO EN EDUCACIÓN Y CIENCIA"]
["36PFEG Fideicomiso Educación Garantizada","M001 ACTIVIDADES DE APOYO ADMINISTRATIVO"]
["36PFEG Fideicomiso Educación Garantizada","N001 CUMPLIMIENTO DE LOS PROGRAMAS DE PROTECCIÓN CIVIL"]
["36PFEG Fideicomiso Educación Garantizada","O001 ACTIVIDADES DE APOYO A LA FUNCIÓN PÚBLICA Y BUEN GOBIERNO"]
["36PFEG Fideicomiso Educación Garantizada","P001 PROMOCIÓN INTEGRAL PARA EL CUMPLIMIENTO DE LOS DERECHOS HUMANOS DE LAS NIÑAS Y MUJERES"]
["36PFEG Fideicomiso Educación Garantizada","P002 PROMOCIÓN INTEGRAL PARA EL CUMPLIMIENTO DE LOS DERECHOS HUMANOS"]
["36PFEG Fideicomiso Educación Garantizada","P004 PROMOCIÓN INTEGRAL PARA EL CUMPLIMIENTO DE LOS DERECHOS DE LA NIÑEZ Y DE LA ADOLECENCIA"]
["36PFEG Fideicomiso Educación Garantizada","S026 MEJOR ESCUELA"]
["36PFEG Fideicomiso Educación Garantizada","S033 PROGRAMA BECAS ESCOLARES PARA NIÑAS Y NIÑOS EN CONDICIONES DE VULNERABILIDAD SOCIAL (MÁS BECAS, MEJOR EDUCACIÓN)"]
["36PFEG Fideicomiso Educación Garantizada","S055 SEGURO CONTRA ACCIDENTES PERSONALES DE ESCOLARES, \"VA SEGUR@\""]
["36PFEG Fideicomiso Educación Garantizada","S074 PROGRAMA MI BECA PARA EMPEZAR"]
["36PFEG Fideicomiso Educación Garantizada","S209 SERVIDORES DE LA EDUCACIÓN"]
["36PFEG Fideicomiso Educación Garantizada","S210 PROGRAMA UNIFORMES Y ÚTILES ESCOLARES GRATUITOS"]
["36PFEG Fideicomiso Educación Garantizada","U026 APOYOS ECONÓMICOS Y OTRAS AYUDAS SOCIALES"]
["38C001 Secretaría de las Mujeres","E001 ACCESO A LA JUSTICIA PARA LAS MUJERES Y NIÑAS VÍCTIMAS DE VIOLENCIA Y DISCRIMINACIÓN DE GÉNERO"]
["38C001 Secretaría de las Mujeres","E020 CENTROS DE ATENCIÓN LUNAS"]
["38C001 Secretaría de las Mujeres","E101 ATENCIÓN INTEGRAL EN ESPACIOS DE REFUGIO A MUJERES, HIJAS E HIJOS EN SITUACIÓN DE VIOLENCIA EXTREMA Y PROMOVER EL EJERCICIO DE SUS DERECHOS"]
["38C001 Secretaría de las Mujeres","E108 CIUDAD SEGURA Y AMIGABLE PARA LAS MUJERES Y NIÑAS"]
["38C001 Secretaría de las Mujeres","M001 ACTIVIDADES DE APOYO ADMINISTRATIVO"]
["38C001 Secretaría de las Mujeres","N001 CUMPLIMIENTO DE LOS PROGRAMAS DE PROTECCIÓN CIVIL"]
["38C001 Secretaría de las Mujeres","O001 ACTIVIDADES DE APOYO A LA FUNCIÓN PÚBLICA Y BUEN GOBIERNO"]
["38C001 Secretaría de las Mujeres","P001 PROMOCIÓN INTEGRAL PARA EL CUMPLIMIENTO DE LOS DERECHOS HUMANOS DE LAS NIÑAS Y MUJERES"]
["38C001 Secretaría de las Mujeres","P002 PROMOCIÓN INTEGRAL PARA EL CUMPLIMIENTO DE LOS DERECHOS HUMANOS"]
["38C001 Secretaría de las Mujeres","P003 PLANEACIÓN, SEGUIMIENTO Y EVALUACIÓN A POLÍTICAS PÚBLICAS"]
["38C001 Secretaría de las Mujeres","P004 PROMOCIÓN INTEGRAL PARA EL CUMPLIMIENTO DE LOS DERECHOS DE LA NIÑEZ Y DE LA ADOLECENCIA"]
["38C001 Secretaría de las Mujeres","S011 COINVERSIÓN PARA IGUALDAD DE LA CIUDAD DE MÉXICO"]
["38C001 Secretaría de las Mujeres","S056 APOYO A MUJERES EN SITUACIÓN DE VIOLENCIA DE GÉNERO"]
["38C001 Secretaría de las Mujeres","U034 PROGRAMA DE APOYO PARA IMPLEMENTAR Y EJECUTAR ACCIONES DE PREVENCIÓN DE LA VIOLENCIA CONTRA LAS MUJERES"]
["39PDSR Sistema Público de Radiodifusión de la Ciudad de México","E048 PRODUCCIÓN DE CONTENIDO CULTURAL Y ARTÍSTICO"]
["39PDSR Sistema Público de Radiodifusión de la Ciudad de México","M001 ACTIVIDADES DE APOYO ADMINISTRATIVO"]
["39PDSR Sistema Público de Radiodifusión de la Ciudad de México","N001 CUMPLIMIENTO DE LOS PROGRAMAS DE PROTECCIÓN CIVIL"]
["39PDSR Sistema Público de Radiodifusión de la Ciudad de México","O001 ACTIVIDADES DE APOYO A LA FUNCIÓN PÚBLICA Y BUEN GOBIERNO"]
["39PDSR Sistema Público de Radiodifusión de la Ciudad de México","P001 PROMOCIÓN INTEGRAL PARA EL CUMPLIMIENTO DE LOS DERECHOS HUMANOS DE LAS NIÑAS Y MUJERES"]
["39PDSR Sistema Público de Radiodifusión de la Ciudad de México","P002 PROMOCIÓN INTEGRAL PARA EL CUMPLIMIENTO DE LOS DERECHOS HUMANOS"]
["39PDSR Sistema Público de Radiodifusión de la Ciudad de México","P004 PROMOCIÓN INTEGRAL PARA EL CUMPLIMIENTO DE LOS DERECHOS DE LA NIÑEZ Y DE LA ADOLECENCIA"]
["40A000 Fiscalía General de Justicia","0000 ÓRGANOS AUTÓNOMOS Y DE GOBIERNO"]
["41PDIP Instituto de Planeación Democrática y Prospectiva de la Ciudad de México","M001 ACTIVIDADES DE APOYO ADMINISTRATIVO"]

{"sheet":"CAT_CONSO","index":32,"n_rows":52,"n_cols":3,"rows_kept":52,"cut":false,"hidden":true,"merged":[]}
["UR_CONSOLIDA","PTDA","N_PTDA"]
["06CD03 Sistema de Aguas de la Ciudad de México",3131,"3131 Agua potable."]
["07C001 Secretaría de Obras y Servicios",3112,"3112 Servicio de energía eléctrica."]
["07CD01 Planta Productora de Mezclas Asfalticas",2411,"2411 Mezcla asfáltica."]
["07CD01 Planta Productora de Mezclas Asfalticas",3471,"3471 Fletes y maniobras."]
["09C001 Secretaría de Administración y Finanzas",1411,"1411 Aportaciones a instituciones de seguridad social."]
["09C001 Secretaría de Administración y Finanzas",1412,"1412 Aportaciones al instituto mexicano del seguro social."]
["09C001 Secretaría de Administración y Finanzas",1421,"1421 Aportaciones a fondos de vivienda."]
["09C001 Secretaría de Administración y Finanzas",1422,"1422 Aportaciones al fondo de vivienda del infonavit."]
["09C001 Secretaría de Administración y Finanzas",1431,"1431 Aportaciones al sistema para el retiro o a la administradora de fondos para el retiro y ahorro solidario."]
["09C001 Secretaría de Administración y Finanzas",1441,"1441 Primas por seguro de vida del personal civil."]
["09C001 Secretaría de Administración y Finanzas",1442,"1442 Primas por seguro de vida del personal de los cuerpos de seguridad pública y bomberos."]
["09C001 Secretaría de Administración y Finanzas",1443,"1443 Primas por seguro de retiro del personal al servicio de las unidades responsables del gasto del distrito federal."]
["09C001 Secretaría de Administración y Finanzas",1511,"1511 Cuotas para el fondo de ahorro y fondo de trabajo."]
["09C001 Secretaría de Administración y Finanzas",1531,"1531 Prestaciones y haberes de retiro."]
["09C001 Secretaría de Administración y Finanzas",1541,"1541 Vales."]
["09C001 Secretaría de Administración y Finanzas",1543,"1543 Estancias de desarrollo infantil."]
["09C001 Secretaría de Administración y Finanzas",2111,"2111 Materiales, útiles y eqs menores de oficina."]
["09C001 Secretaría de Administración y Finanzas",2141,"2141 Materiales, útiles y eqs menores de tecnologías de la información y comunicaciones."]
["09C001 Secretaría de Administración y Finanzas",2161,"2161 Material de limpieza."]
["09C001 Secretaría de Administración y Finanzas",2541,"2541 Materiales, acces y suministros médicos."]
["09C001 Secretaría de Administración y Finanzas",2551,"2551 Materiales, acces y suministros de laboratorio."]
["09C001 Secretaría de Administración y Finanzas",2611,"2611 Combustibles, lubricantes y aditivos."]
["09C001 Secretaría de Administración y Finanzas",2711,"2711 Vestuario y uniformes."]
["09C001 Secretaría de Administración y Finanzas",2721,"2721 Prendas de seguridad y protección personal."]
["09C001 Secretaría de Administración y Finanzas",2751,"2751 Blancos y otros textiles, excepto prendas de vestir."]
["09C001 Secretaría de Administración y Finanzas",2961,"2961 Ref y acces menores de eq de transporte."]
["09C001 Secretaría de Administración y Finanzas",3141,"3141 Telefonía tradicional."]
["09C001 Secretaría de Administración y Finanzas",3151,"3151 Telefonía celular."]
["09C001 Secretaría de Administración y Finanzas",3171,"3171 Servicios de acceso de internet, redes y procesamiento de información."]
["09C001 Secretaría de Administración y Finanzas",3191,"3191 Servicios integrales y otros servicios."]
["09C001 Secretaría de Administración y Finanzas",3231,"3231 Arrendamiento de mob y eq de admón, educacional y recreativo."]
["09C001 Secretaría de Administración y Finanzas",3252,"3252 Arrendamiento de eq de transporte destinado a servicios públicos y la operación de programas públicos."]
["09C001 Secretaría de Administración y Finanzas",3361,"3361 Servicios de apoyo administrativo y fotocopiado"]
["09C001 Secretaría de Administración y Finanzas",3381,"3381 Servicios de vigilancia."]
["09C001 Secretaría de Administración y Finanzas",3411,"3411 Servicios financieros y bancarios."]
["09C001 Secretaría de Administración y Finanzas",3432,"3432 Gastos de ensobretado y traslado de nómina."]
["09C001 Secretaría de Administración y Finanzas",3451,"3451 Seguro de bienes patrimoniales."]
["09C001 Secretaría de Administración y Finanzas",3611,"3611 Difusión por radio, televisión y otros medios de mensajes sobre programas y actividades gubernamentales."]
["09C001 Secretaría de Administración y Finanzas",3951,"3951 Penas, multas, acces y actualizaciones."]
["09C001 Secretaría de Administración y Finanzas",3969,"3969 Otros gastos por responsabilidades."]
["09C001 Secretaría de Administración y Finanzas",3981,"3981 Impuesto sobre nóminas"]
["09C001 Secretaría de Administración y Finanzas",5111,"5111 Muebles de oficina y estantería."]
["09C001 Secretaría de Administración y Finanzas",5151,"5151 Equipo de cómputo y de tecnologías de la información."]
["09C001 Secretaría de Administración y Finanzas",5191,"5191 Otros mobs y eqs de admón."]
["09C001 Secretaría de Administración y Finanzas",5311,"5311 Equipo médico y de laboratorio."]
["09C001 Secretaría de Administración y Finanzas",5321,"5321 Instrumental médico y de laboratorio."]
["09C001 Secretaría de Administración y Finanzas",5412,"5412 Vehículos y equipo terrestre destinados a servicios públicos y la operación de programas públicos."]
["09C001 Secretaría de Administración y Finanzas",5413,"5413 Vehículos y equipo terrestre destinados a servidores públicos y servicios administrativos."]
["09C001 Secretaría de Administración y Finanzas",5491,"5491 Otros eqs de transporte."]
["09C001 Secretaría de Administración y Finanzas",5911,"5911 Software."]
["11CD02 Policía Auxiliar",3381,"3381 Servicios de vigilancia."]